BEGIN:VCALENDAR
VERSION:2.0
METHOD:PUBLISH
PRODID:-//Tendenci - The Open Source AMS for Associations//Tendenci Codeba
 se MIMEDIR//EN
BEGIN:VEVENT
DESCRIPTION:--- This iCal file does *NOT* confirm registration.\nEvent det
 ails subject to change. ---\nhttps://www.nyemmys.org/events/758/\n\nEvent 
 Title: Play Reading\nStart Date / Time: Dec 15, 2014 12:30 PM US/Eastern\n
 Location: \nSpeaker: \nPlay Reading\n\nHosted by Arlene Dahl\n\nMonday,Dec
 ember 15, 2014 \n\nReception: 5:30PM\n\nProgram: 6:00PM\n\nLocation: Pleas
 e call 212-459-3630, ext. 200 for reservations (required) and location inf
 ormation.\n\n \n\n&ldquo\;Walking The Labyrinth&rdquo\;\n\nA new play writ
 ten and directed by John Wooten\n\n \n\nFor location information and reser
 vations (required) please call  212-459-3630, ext. 204. No email reservati
 ons will be accepted or acknowledged.\n\n \n\nEvent produced by Ellen Muir
 .\n\n\n\n\n--- This iCal file does *NOT* confirm registration.Event detail
 s subject to change. ---\n\n--- By Tendenci - The Open Source AMS for Asso
 ciations ---\n
UID:uid758@nyemmys.org
SUMMARY:Play Reading
DTSTART:20141215T173000Z
DTEND:20141215T200000Z
CLASS:PUBLIC
PRIORITY:5
DTSTAMP:20260420T070404Z
TRANSP:OPAQUE
SEQUENCE:0
X-ALT-DESC;FMTTYPE=text/html:<div>--- This iCal file does *NOT* confirm re
 gistration.Event details subject to change. ---</div><h1>Event Title: Play
  Reading</h1><div>https://www.nyemmys.org/events/758/</div><br /><div>When
 : Dec 15, 2014 12:30 PM US/Eastern</div><div>Speaker: </div><br /><div><h2
 ><span style="color:#800080"><strong>Play Reading</strong></span></h2>  <h
 2><span style="color:#800080"><strong>Hosted by Arlene Dahl</strong></span
 ></h2>  <p><strong><span style="color:#000000">Monday,December 15, 2014 </
 span></strong></p>  <p><strong><span style="color:#000000">Reception: 5:30
 PM</span></strong></p>  <p><strong><span style="color:#000000">Program: 6:
 00PM</span></strong></p>  <p><strong><span style="color:#000000">Location:
  Please call 212-459-3630, ext. 200&nbsp\;for reservations (required) and 
 location information.</span></strong></p>  <p>&nbsp\;</p>  <p><span style=
 "color:#000000">&ldquo\;Walking The Labyrinth&rdquo\;</span></p>  <p><span
  style="color:#000000">A new play written and directed by John Wooten</spa
 n></p>  <p>&nbsp\;</p>  <p><span style="color:#008000"><strong>For locatio
 n information and reservations (required) please call &nbsp\;212-459-3630,
  ext. 204. No email reservations will be accepted or acknowledged.</strong
 ></span></p>  <p>&nbsp\;</p>  <p><span style="color:#000000">Event produce
 d by Ellen Muir.</span></p>   <div></div></div><div>--- This iCal file doe
 s *NOT* confirm registration.Event details subject to change. ---</div><di
 v>--- Tendenci&reg\; Software by <a href="https://www.tendenci.com">tenden
 ci.com</a> - The Open Source AMS for Associations ---</div>
BEGIN:VALARM
TRIGGER:-PT30M
ACTION:DISPLAY
DESCRIPTION:Reminder
END:VALARM
END:VEVENT
END:VCALENDAR
