BEGIN:VCALENDAR
VERSION:2.0
METHOD:PUBLISH
PRODID:-//Tendenci - The Open Source AMS for Associations//Tendenci Codeba
 se MIMEDIR//EN
BEGIN:VEVENT
DESCRIPTION:--- This iCal file does *NOT* confirm registration.\nEvent det
 ails subject to change. ---\nhttps://www.nyemmys.org/events/748/\n\nEvent 
 Title: Meet the Filmmaker\nStart Date / Time: Sep 12, 2013 14:00 PM US/Eas
 tern\nLocation: NY NATAS\nSpeaker: \nGoogle\nhttp://maps.google.com/maps?q
 =1375+Broadway,New York,NY,10018\n\nForecast\nhttp://www.weather.com/weath
 er/monthly/10018\n\nMeet the Filmmaker: Joel Freedman\n\n&ldquo\;SAM&rsquo
 \;S WAR &ndash\; A GI&rsquo\;s Story&rdquo\; \n\nDate: Thursday, September
  12, 2013\n\nLocation: NY NATAS, 1375 Broadway (between 37th and 38th Stre
 ets), Suite 2103\n\nReception: 6:00-6:30 PM ~ Program: 6:30-8:00 PM\n\n \n
 \n*Free to NY NATAS Members!\n\n$15 for those without current NY NATAS mem
 bership.\n\n \n\nProduced &amp\; Moderated by Sumner Jules Glimcher.\n\nTO
 TAL RUNNING TIME: 78 MINUTES\n\n \n\nSPECIAL PREVIEW SHOWING\n\nSam Brody 
 - (92) WWII Veteran, Bronze Star, Purple Heart\n\n \n\n&quot\;The most rev
 ealing, deeply personal account of WWII I have yet seen on film. At 92, Sa
 my Brody is  national treasure!&quot\; - Major Sharad Samy, U.S. Army Ret.
 \n\n&quot\;The film is a terrific testament to Sam and all our fighting me
 n. Well done!&quot\; - Bruce Joel Rubin - Academy Award Winning Writer - &
 quot\;GHOST&quot\;\n\n&quot\;A revealing personal account of a GI&#39\;s d
 eath-defying wartime experiences as an American Jew fighting the Nazis.&qu
 ot\; - The Stamford Advocate\n\n&quot\;Terrific! Very Human. Heartfelt. Am
 azing. This is a part of the history of our country. Everybody should see 
 this. Our veterans should not fade away.&quot\; - Tommy Giorgi, Vietname, 
 The Silver Star, 2 Purple Hearts\n\n&quot\;A five star work! Sam puts WWII
  in your face like never before. His &#39\;joie-de-vivre&#39\; and wit, de
 spite near-death experiences, inspires all viewers. A &#39\;must-see&#39\;
  film.&quot\; - Sumner Jules Glimcher, WWII DAV, Purple Heart\n\nJOEL L. F
 REEDMAN, award-winning filmmaker, has produced and/or directed many films,
  including: BROKEN TREATY AT BATTLE MOUNTAIN and TO PROTECT MOTHER EARTH, 
 each narrated by Robert Redford, BRAINSTORM with Natalie Wood &amp\; Chris
 topher Walken, EVEN IF A HUNDRED OGRES - with Joanne Woodward, the classic
  anti-drug film SKEZAG and more.\n\nSpace is limited. You must RSVP to inf
 o@nyemmys.org to reserve a seat. Please write &quot\;Sam&#39\;s War&quot\;
  in the subject box.\n\n \n\n\n\n\n--- This iCal file does *NOT* confirm r
 egistration.Event details subject to change. ---\n\n--- By Tendenci - The 
 Open Source AMS for Associations ---\n
UID:uid748@nyemmys.org
SUMMARY:Meet the Filmmaker
DTSTART:20130912T180000Z
DTEND:20130912T200000Z
CLASS:PUBLIC
PRIORITY:5
DTSTAMP:20260420T035412Z
TRANSP:OPAQUE
SEQUENCE:0
LOCATION:NY NATAS
X-ALT-DESC;FMTTYPE=text/html:<div>--- This iCal file does *NOT* confirm re
 gistration.Event details subject to change. ---</div><h1>Event Title: Meet
  the Filmmaker</h1><div>https://www.nyemmys.org/events/748/</div><br /><di
 v>When: Sep 12, 2013 14:00 PM US/Eastern</div><div>Speaker: </div><br />NY
  NATAS<br />1375 Broadway<br />New York, NY 10018<br /><div>http://maps.go
 ogle.com/maps?q=1375+Broadway,New York,NY,10018</div><br /><div>Forecast: 
 http://www.weather.com/weather/monthly/10018</div><br /><br /><div><h2><sp
 an style="color:#800080"><span style="font-size:16px"><strong>Meet the Fil
 mmaker: Joel Freedman</strong></span></span></h2>  <h2><span style="color:
 #800080"><span style="font-size:16px"><strong>&ldquo\;SAM&rsquo\;S WAR &nd
 ash\; A GI&rsquo\;s Story&rdquo\;</strong>&nbsp\;</span></span></h2>  <p><
 span style="color:#000000"><span style="font-size:12px"><strong>Date: Thur
 sday, September 12, 2013</strong></span></span></p>  <p><span style="color
 :#000000"><span style="font-size:12px"><strong>Location: NY NATAS, 1375 Br
 oadway (between 37th and 38th Streets), Suite 2103</strong></span></span><
 /p>  <p><span style="color:#000000"><span style="font-size:12px"><strong>R
 eception: 6:00-6:30 PM ~ Program: 6:30-8:00 PM</strong></span></span></p> 
  <p>&nbsp\;</p>  <p><span style="color:#000000"><span style="font-size:12p
 x">*Free to NY NATAS Members!</span></span></p>  <p><span style="color:#00
 0000"><span style="font-size:12px">$15 for those without current NY NATAS 
 membership.</span></span></p>  <p>&nbsp\;</p>  <p><span style="color:#0000
 00"><span style="font-size:12px">Produced &amp\; Moderated by Sumner Jules
  Glimcher.</span></span></p>  <p><span style="color:#000000"><span style="
 font-size:12px">TOTAL RUNNING TIME: 78 MINUTES</span></span></p>  <p>&nbsp
 \;</p>  <p><span style="color:#000000"><span style="font-size:12px">SPECIA
 L PREVIEW SHOWING</span></span></p>  <p><span style="color:#000000"><span 
 style="font-size:12px">Sam Brody - (92) WWII Veteran, Bronze Star, Purple 
 Heart</span></span></p>  <p>&nbsp\;</p>  <p><span style="color:#000000"><s
 pan style="font-size:12px">&quot\;The most revealing, deeply personal acco
 unt of WWII I have yet seen on film. At 92, Samy Brody is &nbsp\;national 
 treasure!&quot\; - Major Sharad Samy, U.S. Army Ret.</span></span></p>  <p
 ><span style="color:#000000"><span style="font-size:12px">&quot\;The film 
 is a terrific testament to Sam and all our fighting men. Well done!&quot\;
  - Bruce Joel Rubin - Academy Award Winning Writer - &quot\;GHOST&quot\;</
 span></span></p>  <p><span style="color:#000000"><span style="font-size:12
 px">&quot\;A revealing personal account of a GI&#39\;s death-defying warti
 me experiences as an American Jew fighting the Nazis.&quot\; - The Stamfor
 d Advocate</span></span></p>  <p><span style="color:#000000"><span style="
 font-size:12px">&quot\;Terrific! Very Human. Heartfelt. Amazing. This is a
  part of the history of our country. Everybody should see this. Our vetera
 ns should not fade away.&quot\; - Tommy Giorgi, Vietname, The Silver Star,
  2 Purple Hearts</span></span></p>  <p><span style="color:#000000"><span s
 tyle="font-size:12px">&quot\;A five star work! Sam puts WWII in your face 
 like never before. His &#39\;joie-de-vivre&#39\; and wit, despite near-dea
 th experiences, inspires all viewers. A &#39\;must-see&#39\; film.&quot\; 
 - Sumner Jules Glimcher, WWII DAV, Purple Heart</span></span></p>  <p><spa
 n style="color:#000000">JOEL L. FREEDMAN, award-winning filmmaker, has pro
 duced and/or directed many films, including: BROKEN TREATY AT BATTLE MOUNT
 AIN and TO PROTECT MOTHER EARTH, each narrated by Robert Redford, BRAINSTO
 RM with Natalie Wood &amp\; Christopher Walken, EVEN IF A HUNDRED OGRES - 
 with Joanne Woodward, the classic anti-drug film SKEZAG and more.</span></
 p>  <p><span style="color:#008000"><strong>Space is limited. You must RSVP
  to info@nyemmys.org to reserve a seat. Please write &quot\;Sam&#39\;s War
 &quot\; in the subject box.</strong></span></p>  <p>&nbsp\;</p>   <div></d
 iv></div><div>--- This iCal file does *NOT* confirm registration.Event det
 ails subject to change. ---</div><div>--- Tendenci&reg\; Software by <a hr
 ef="https://www.tendenci.com">tendenci.com</a> - The Open Source AMS for A
 ssociations ---</div>
BEGIN:VALARM
TRIGGER:-PT30M
ACTION:DISPLAY
DESCRIPTION:Reminder
END:VALARM
END:VEVENT
END:VCALENDAR
