BEGIN:VCALENDAR
VERSION:2.0
METHOD:PUBLISH
PRODID:-//Tendenci - The Open Source AMS for Associations//Tendenci Codeba
 se MIMEDIR//EN
BEGIN:VEVENT
DESCRIPTION:--- This iCal file does *NOT* confirm registration.\nEvent det
 ails subject to change. ---\nhttps://www.nyemmys.org/events/728/\n\nEvent 
 Title: Midmorning Exchange\nStart Date / Time: Nov 13, 2013 04:30 AM US/Ea
 stern\nLocation: NY NATAS\nSpeaker: \nMidmorning Exchange\n\nWednesday, No
 vember 13, 2013 ~ 9:30 &ndash\; 11:00 AM\nNY NATAS Office &ndash\; 1375 Br
 oadway (between 37th and 38th Streets), 21st floor, Suite 2103 \n\n \n\nTa
 ble Reading\n\n&ldquo\;Five Memories and a Short Story&rdquo\;\n\n \n\nWri
 tten and read by\n\nLouis Burns Bisogno\n\nHarvey Chertok\n\nClem D&rsquo\
 ;Alessio\n\nJo Kinsella\n\nCynthia Larsen Link\n\nLaurel Lockhart\n\n \n\n
 PLEASE RSVP VIA EMAIL info@nyemmys.org OR PHONE 212-459-3630, ext. 204.\n\
 nEvent produced by Ellen Muir.\n\n\n\n\n--- This iCal file does *NOT* conf
 irm registration.Event details subject to change. ---\n\n--- By Tendenci -
  The Open Source AMS for Associations ---\n
UID:uid728@nyemmys.org
SUMMARY:Midmorning Exchange
DTSTART:20131113T093000Z
DTEND:20131113T110000Z
CLASS:PUBLIC
PRIORITY:5
DTSTAMP:20260420T035342Z
TRANSP:OPAQUE
SEQUENCE:0
LOCATION:NY NATAS
X-ALT-DESC;FMTTYPE=text/html:<div>--- This iCal file does *NOT* confirm re
 gistration.Event details subject to change. ---</div><h1>Event Title: Midm
 orning Exchange</h1><div>https://www.nyemmys.org/events/728/</div><br /><d
 iv>When: Nov 13, 2013 04:30 AM US/Eastern</div><div>Speaker: </div><br /><
 div><h2><span style="font-size:16px"><span style="color:#800080"><strong>M
 idmorning Exchange</strong></span></span></h2>  <p><span style="color:#000
 000"><strong>Wednesday, November 13, 2013 ~ 9:30 &ndash\; 11:00 AM<br> NY 
 NATAS Office &ndash\; 1375 Broadway (between 37th and 38th Streets), 21st 
 floor, Suite 2103 </strong></span></p>  <p>&nbsp\;</p>  <p><span style="fo
 nt-size:12px"><span style="color:#000000">Table Reading</span></span></p> 
  <p><span style="font-size:12px"><span style="color:#000000">&ldquo\;Five 
 Memories and a Short Story&rdquo\;</span></span></p>  <p>&nbsp\;</p>  <p><
 span style="font-size:12px"><span style="color:#000000">Written and read b
 y</span></span></p>  <p><span style="font-size:12px"><span style="color:#0
 00000">Louis Burns Bisogno</span></span></p>  <p><span style="font-size:12
 px"><span style="color:#000000">Harvey Chertok</span></span></p>  <p><span
  style="font-size:12px"><span style="color:#000000">Clem D&rsquo\;Alessio<
 /span></span></p>  <p><span style="font-size:12px"><span style="color:#000
 000">Jo Kinsella</span></span></p>  <p><span style="font-size:12px"><span 
 style="color:#000000">Cynthia Larsen Link</span></span></p>  <p><span styl
 e="font-size:12px"><span style="color:#000000">Laurel Lockhart</span></spa
 n></p>  <p>&nbsp\;</p>  <p><span style="color:#008000"><strong>PLEASE RSVP
  VIA EMAIL</strong> <strong>info@nyemmys.org</strong><strong> OR PHONE 212
 -459-3630, ext. 204.</strong></span></p>  <p><span style="color:#000000">E
 vent produced by Ellen Muir.</span></p>   <div></div></div><div>--- This i
 Cal file does *NOT* confirm registration.Event details subject to change. 
 ---</div><div>--- Tendenci&reg\; Software by <a href="https://www.tendenci
 .com">tendenci.com</a> - The Open Source AMS for Associations ---</div>
BEGIN:VALARM
TRIGGER:-PT30M
ACTION:DISPLAY
DESCRIPTION:Reminder
END:VALARM
END:VEVENT
END:VCALENDAR
