BEGIN:VCALENDAR
VERSION:2.0
METHOD:PUBLISH
PRODID:-//Tendenci - The Open Source AMS for Associations//Tendenci Codeba
 se MIMEDIR//EN
BEGIN:VEVENT
DESCRIPTION:--- This iCal file does *NOT* confirm registration.\nEvent det
 ails subject to change. ---\nhttps://www.nyemmys.org/events/724/\n\nEvent 
 Title: Meet the Filmmaker\nStart Date / Time: Aug 14, 2013 14:00 PM US/Eas
 tern\nLocation: NY NATAS\nSpeaker: \nMeet the Filmmaker: Michael Perlman &
 amp\; Kean Wong\n\n&ldquo\;Free China: The Courage To Believe&rdquo\; \n\n
 Date: Wednesday, August 14, 2013\n\nLocation: NY NATAS, 1375 Broadway (bet
 ween 37th and 38th Streets), Suite 2103\n\nReception: 6:00-6:30 PM ~ Progr
 am: 6:30-8:00 PM\n\n \n\n*Free to NY NATAS Members! \n\n$15 for those with
 out current NY NATAS membership.\n\n&quot\;Free China: The Courage To Beli
 eve&quot\;\n\nProduced &amp\; Moderated by Sumner Jules Glimcher.\n\n&ldqu
 o\;Free China: The Courage To Believe&rdquo\; This award winning documenta
 ry film tells the story of a mother and former Communist Party member, Jen
 nifer Zeng, who along with more than 70 million Chinese were practicing a 
 meditation system that combined Buddhist and Daoist beliefs until the Chin
 ese Government outlawed it. The Internet police intercepted an email and J
 ennifer was imprisoned for her faith. As she endured physical and mental t
 orture, she had to decide: does she stand her ground and languish in jail,
  or does she recant her belief so she can tell her story to the world and 
 be reunited with her family? As China&rsquo\;s prisoners of conscience are
  subjected to forced labor and even organ harvesting, this timely document
 ary exposes profound issues such as genocide and unfair trade practices wi
 th the West. The film also highlights how new Internet technologies are he
 lping bring freedom to more than 1.3 billion people living in China and ot
 her repressive regimes throughout the world. For more info please visit ww
 w.FreeChinaMovie.com.   \n\nOn the heels of 5 international film festival 
 awards and more than 400 hundred private screenings including the US Congr
 ess, European Parliament, British Parliament, Amnesty International and Go
 ogle Headquarters, &ldquo\;Free China&rdquo\; has been released theatrical
 ly in 12 major US markets in 2013. The New York Times has praised the film
  as &ldquo\;stirring&hellip\;[with] narrative power.&rdquo\; Karen Curry, 
 former CNN New York Bureau Chief has described the film as &ldquo\;Intense
 ly compelling&rdquo\; and indieWIRE has hailed the film as &ldquo\;deeply 
 inspiring.&rdquo\;\n\nMichael Perlman, director of &ldquo\;Free China&rdqu
 o\;, is an award winning filmmaker, performing artist, attorney and founde
 r of two not for profit organizations. He has traveled to over 60 countrie
 s, and spoken to thousands of people on issues related to politics, human 
 rights, activism, law, media, conflict resolution, religion, spirituality 
 and positive thinking. Perlman helped found, and served on the board of Cr
 oss Cultural Solutions (CCS), one of the largest volunteer organizations i
 n the United States. He produced, wrote and directed the New York Times Cr
 itics Choice film &ldquo\;Eyes of the World&rdquo\;, revealing the physica
 l and emotional price paid by photojournalists as they document human righ
 ts atrocities. Perlman produced, wrote and directed the award winning PBS 
 International documentary, &ldquo\;Tibet: Beyond Fear&rdquo\;, highlightin
 g the story of Ngwang, a Buddhist nun and Bagdro, a Buddhist monk, who at 
 the ages of 13 and 20, led freedom protests in Tibet.\n\nKean Wong, the pr
 oducer of &ldquo\;Free China&rdquo\; is a human rights activist, TV produc
 er/host and founder of Parigon Partners, a strategy and marketing consulti
 ng firm specializing in new media and social entrepreneurship. In 2005 he 
 left Australia and moved to New York where over the last 8 years has been 
 an award winning host, anchor and producer for New Tang Dynasty Television
 , a non-profit TV network headquartered in New York City and pioneers in b
 roadcasting uncensored programming into and out of China via Satellite and
  the Internet. Back in 2001 he met Jennifer Zeng, the main subject of the 
 film and helped her apply for asylum in Australia. Years later in 2009, in
  New York, he met Michael Perlman, and shared her incredible story with hi
 m, thus beginning the journey of the film and movement that is &lsquo\;Fre
 e China&rsquo\;.\n\nRESERVATIONS REQUIRED DUE TO BUILDING SECURITY. ALL NA
 MES MUST BE ON GUEST LIST. Please RSVP via email info@nyemmys.org to reser
 ve a seat. Please write &ldquo\;Free China&rdquo\; in the subject line. Sp
 ace is limited.\n\n\n\n\n--- This iCal file does *NOT* confirm registratio
 n.Event details subject to change. ---\n\n--- By Tendenci - The Open Sourc
 e AMS for Associations ---\n
UID:uid724@nyemmys.org
SUMMARY:Meet the Filmmaker
DTSTART:20130814T180000Z
DTEND:20130814T200000Z
CLASS:PUBLIC
PRIORITY:5
DTSTAMP:20260420T034605Z
TRANSP:OPAQUE
SEQUENCE:0
LOCATION:NY NATAS
X-ALT-DESC;FMTTYPE=text/html:<div>--- This iCal file does *NOT* confirm re
 gistration.Event details subject to change. ---</div><h1>Event Title: Meet
  the Filmmaker</h1><div>https://www.nyemmys.org/events/724/</div><br /><di
 v>When: Aug 14, 2013 14:00 PM US/Eastern</div><div>Speaker: </div><br /><d
 iv><h2><span style="font-size:16px"><span style="color:#800080"><strong>Me
 et the Filmmaker: Michael Perlman &amp\; Kean Wong</strong></span></span><
 /h2>  <h2><span style="font-size:16px"><span style="color:#800080"><strong
 >&ldquo\;Free China: The Courage To Believe&rdquo\;</strong>&nbsp\;</span>
 </span></h2>  <p><span style="color:#000000"><span style="font-family:aria
 l,helvetica,sans-serif"><span style="font-size:12px"><strong>Date: Wednesd
 ay, August 14, 2013</strong></span></span></span></p>  <p><span style="col
 or:#000000"><span style="font-family:arial,helvetica,sans-serif"><span sty
 le="font-size:12px"><strong>Location: NY NATAS, 1375 Broadway (between 37t
 h and 38th Streets), Suite 2103</strong></span></span></span></p>  <p><spa
 n style="color:#000000"><span style="font-family:arial,helvetica,sans-seri
 f"><span style="font-size:12px"><strong>Reception: 6:00-6:30 PM ~ Program:
  6:30-8:00 PM</strong></span></span></span></p>  <p>&nbsp\;</p>  <p><span 
 style="color:#000000"><span style="font-family:arial,helvetica,sans-serif"
 ><span style="font-size:12px"><strong>*Free to NY NATAS Members! </strong>
 </span></span></span></p>  <p><span style="color:#000000"><span style="fon
 t-family:arial,helvetica,sans-serif"><span style="font-size:12px"><strong>
 $15 for those without current NY NATAS membership.</strong></span></span><
 /span></p>  <p><span style="color:rgb(0, 0, 0)\; font-family:arial,helveti
 ca,sans-serif">&quot\;Free China: The Courage To Believe&quot\;</span></p>
   <p><span style="color:#000000"><span style="font-family:arial,helvetica,
 sans-serif"><span style="font-size:12px">Produced &amp\; Moderated by Sumn
 er Jules Glimcher.</span></span></span></p>  <p><span style="color:rgb(0, 
 0, 0)\; font-family:arial,helvetica,sans-serif">&ldquo\;Free China: The Co
 urage To Believe&rdquo\; This award winning documentary film tells the sto
 ry of a mother and former Communist Party member, Jennifer Zeng, who along
  with more than 70 million Chinese were practicing a meditation system tha
 t combined Buddhist and Daoist beliefs until the Chinese Government outlaw
 ed it. The Internet police intercepted an email and Jennifer was imprisone
 d for her faith. As she endured physical and mental torture, she had to de
 cide: does she stand her ground and languish in jail, or does she recant h
 er belief so she can tell her story to the world and be reunited with her 
 family? As China&rsquo\;s prisoners of conscience are subjected to forced 
 labor and even organ harvesting, this timely documentary exposes profound 
 issues such as genocide and unfair trade practices with the West. The film
  also highlights how new Internet technologies are helping bring freedom t
 o more than 1.3 billion people living in China and other repressive regime
 s throughout the world. For more info please visit </span><a href="http://
 www.FreeChinaMovie.com"><span style="color:#000000">www.FreeChinaMovie.com
 </span></a><span style="color:rgb(0, 0, 0)\; font-family:arial,helvetica,s
 ans-serif">. &nbsp\;&nbsp\;</span></p>  <p><span style="color:rgb(0, 0, 0)
 \; font-family:arial,helvetica,sans-serif">On the heels of 5 international
  film festival awards and more than 400 hundred private screenings includi
 ng the US Congress, European Parliament, British Parliament, Amnesty Inter
 national and Google Headquarters, &ldquo\;Free China&rdquo\; has been rele
 ased theatrically in 12 major US markets in 2013. The New York Times has p
 raised the film as &ldquo\;stirring&hellip\;[with] narrative power.&rdquo\
 ; Karen Curry, former CNN New York Bureau Chief has described the film as 
 &ldquo\;Intensely compelling&rdquo\; and indieWIRE has hailed the film as 
 &ldquo\;deeply inspiring.&rdquo\;</span></p>  <p><strong style="color:rgb(
 0, 0, 0)\; font-family:arial,helvetica,sans-serif\; font-size:12px">Michae
 l Perlman,</strong><span style="color:rgb(0, 0, 0)\; font-family:arial,hel
 vetica,sans-serif"> director of &ldquo\;Free China&rdquo\;, is an award wi
 nning filmmaker, performing artist, attorney and founder of two not for pr
 ofit organizations. He has traveled to over 60 countries, and spoken to th
 ousands of people on issues related to politics, human rights, activism, l
 aw, media, conflict resolution, religion, spirituality and positive thinki
 ng. Perlman helped found, and served on the board of Cross Cultural Soluti
 ons (CCS), one of the largest volunteer organizations in the United States
 . He produced, wrote and directed the New York Times Critics Choice film &
 ldquo\;Eyes of the World&rdquo\;, revealing the physical and emotional pri
 ce paid by photojournalists as they document human rights atrocities. Perl
 man produced, wrote and directed the award winning PBS International docum
 entary, &ldquo\;Tibet: Beyond Fear&rdquo\;, highlighting the story of Ngwa
 ng, a Buddhist nun and Bagdro, a Buddhist monk, who at the ages of 13 and 
 20, led freedom protests in Tibet.</span></p>  <p><strong style="color:rgb
 (0, 0, 0)\; font-family:arial,helvetica,sans-serif\; font-size:12px">Kean 
 Wong,</strong><span style="color:rgb(0, 0, 0)\; font-family:arial,helvetic
 a,sans-serif"> the producer of &ldquo\;Free China&rdquo\; is a human right
 s activist, TV producer/host and founder of Parigon Partners, a strategy a
 nd marketing consulting firm specializing in new media and social entrepre
 neurship. In 2005 he left Australia and moved to New York where over the l
 ast 8 years has been an award winning host, anchor and producer for New Ta
 ng Dynasty Television, a non-profit TV network headquartered in New York C
 ity and pioneers in broadcasting uncensored programming into and out of Ch
 ina via Satellite and the Internet. Back in 2001 he met Jennifer Zeng, the
  main subject of the film and helped her apply for asylum in Australia. Ye
 ars later in 2009, in New York, he met Michael Perlman, and shared her inc
 redible story with him, thus beginning the journey of the film and movemen
 t that is &lsquo\;Free China&rsquo\;.</span></p>  <p><strong style="font-f
 amily:arial,helvetica,sans-serif\; font-size:12px"><span style="color:#008
 000">RESERVATIONS REQUIRED DUE TO BUILDING SECURITY. ALL NAMES MUST BE ON 
 GUEST LIST. Please RSVP via email </span><a href="mailto:info@nyemmys.org"
 ><span style="color:#008000">info@nyemmys.org</span></a><span style="color
 :#008000"> to reserve a seat. Please write &ldquo\;Free China&rdquo\; in t
 he subject line. Space is limited.</span></strong></p>   <div></div></div>
 <div>--- This iCal file does *NOT* confirm registration.Event details subj
 ect to change. ---</div><div>--- Tendenci&reg\; Software by <a href="https
 ://www.tendenci.com">tendenci.com</a> - The Open Source AMS for Associatio
 ns ---</div>
BEGIN:VALARM
TRIGGER:-PT30M
ACTION:DISPLAY
DESCRIPTION:Reminder
END:VALARM
END:VEVENT
END:VCALENDAR
