BEGIN:VCALENDAR
VERSION:2.0
METHOD:PUBLISH
PRODID:-//Tendenci - The Open Source AMS for Associations//Tendenci Codeba
 se MIMEDIR//EN
BEGIN:VEVENT
DESCRIPTION:--- This iCal file does *NOT* confirm registration.\nEvent det
 ails subject to change. ---\nhttps://www.nyemmys.org/events/70/\n\nEvent T
 itle: Border Cafe- The Best of Link TV\nStart Date / Time: Jan 29, 2007 13
 :00 PM US/Eastern\nLocation: NY NATAS\nSpeaker: \n"Border Cafe" (A Feature
  Film in Farsi with English Subtitles\; The official entry from Iran for t
 he 2007 Academy Awards.) \nReyhan is the mother of two\nyoung children, li
 ving in a small town in northern Iran near the\nTurkish border. When her h
 usband dies, his brother Nasser is eager to\ntake over the family by marry
 ing Reyhan and raising her children in\naccordance with tradition.\nRight 
 after her husbands\nfuneral, the elder women in the family urge Reyhan to 
 shed her black\nmourning robes so that she can marry Nasser and welcome hi
 m into her\nbed. But Reyhan respectfully rebuffs their urgings, saying she
  is not\nready.\nThough Nasser expresses a\nsincere sense of duty toward h
 is brothers widowed family, he becomes\nincensed when Reyhan repeatedly as
 serts her independence by refusing to\nlive with him, and then resurrects 
 her late husbands run-down roadside\ncaf. When Reyhans culinary skills att
 ract a loyal and growing\nfollowing, including one very admiring Greek tru
 ck driver, she\nthreatens not only Nassers own restaurant business but his
  manhood.\nIrate, he launches a relentless campaign to strip her of her li
 velihood\nand her independence.\nBorder Cafe is a complex portrait of the 
 roles of women and men in modern Iran.\n(Running time: 105 minutes) \n\nEv
 ent Produced by Ellen Muir   \nLink TV, a satellite channel\nin over 29 mi
 llion homes presents global perspectives, diverse cultures\nand in depth c
 hallenging news and public affairs programming not\navailable elsewhere on
  American Television. \nLocation: NY NATAS office ~ 1375 Broadway (37th &a
 mp\; 38th St.), 21st Fl. Suite 2103 \nRESERVATIONS REQUIRED DUE TO BUILDIN
 G SECURITY. ALL NAMES MUST BE ON GUEST LIST. RSVP via email kjensen@nyemmy
 s.org or CALL 212-459-3630 ext. 204 \n\n\n\n--- This iCal file does *NOT* 
 confirm registration.Event details subject to change. ---\n\n--- By Tenden
 ci - The Open Source AMS for Associations ---\n
UID:uid70@nyemmys.org
SUMMARY:Border Cafe- The Best of Link TV
DTSTART:20070129T180000Z
DTEND:20070129T200000Z
CLASS:PUBLIC
PRIORITY:5
DTSTAMP:20260419T161810Z
TRANSP:OPAQUE
SEQUENCE:0
LOCATION:NY NATAS
X-ALT-DESC;FMTTYPE=text/html:<div>--- This iCal file does *NOT* confirm re
 gistration.Event details subject to change. ---</div><h1>Event Title: Bord
 er Cafe- The Best of Link TV</h1><div>https://www.nyemmys.org/events/70/</
 div><br /><div>When: Jan 29, 2007 13:00 PM US/Eastern</div><div>Speaker: <
 /div><br /><div><p><b><font face="Verdana" size="2">"Border Cafe" (A Featu
 re Film in Farsi with English Subtitles\; The official entry from Iran for
  the 2007 Academy Awards.) </font></b></p> <p><b><font face="Verdana" size
 ="2">Reyhan is the mother of two young children, living in a small town in
  northern Iran near the Turkish border. When her husband dies, his brother
  Nasser is eager to take over the family by marrying Reyhan and raising he
 r children in accordance with tradition.</font></b></p> <p><b><font face="
 Verdana" size="2">Right after her husbands funeral, the elder women in the
  family urge Reyhan to shed her black mourning robes so that she can marry
  Nasser and welcome him into her bed. But Reyhan respectfully rebuffs thei
 r urgings, saying she is not ready.</font></b></p> <p><b><font face="Verda
 na" size="2">Though Nasser expresses a sincere sense of duty toward his br
 others widowed family, he becomes incensed when Reyhan repeatedly asserts 
 her independence by refusing to live with him, and then resurrects her lat
 e husbands run-down roadside caf. When Reyhans culinary skills attract a l
 oyal and growing following, including one very admiring Greek truck driver
 , she threatens not only Nassers own restaurant business but his manhood. 
 Irate, he launches a relentless campaign to strip her of her livelihood an
 d her independence.</font></b></p> <p><b><font face="Verdana" size="2">Bor
 der Cafe is a complex portrait of the roles of women and men in modern Ira
 n.</font></b></p> <p><b><font face="Verdana" size="2">(Running time: 105 m
 inutes) </font></b></p> <p><b></b></p> <p><b><font face="Verdana" size="2"
 >Event Produced by Ellen Muir&nbsp\;&nbsp\; </font></b></p> <p><b><font fa
 ce="Verdana" size="2">Link TV, a satellite channel in over 29 million home
 s presents global perspectives, diverse cultures and in depth challenging 
 news and public affairs programming not available elsewhere on American Te
 levision. </font></b></p> <p><b><font face="Verdana" size="2">Location: NY
  NATAS office ~ 1375 Broadway (37th &amp\; 38th St.), 21st Fl. Suite 2103 
 </font></b></p> <p><b><font face="Verdana" size="2">RESERVATIONS REQUIRED 
 DUE TO BUILDING SECURITY. ALL NAMES MUST BE ON GUEST LIST. RSVP via email 
 </font></b><a href="mailto:kjensen@nyemmys.org"><b><font face="Verdana" si
 ze="2">kjensen@nyemmys.org</font></b></a><b><font face="Verdana" size="2">
  or CALL 212-459-3630 ext. 204</font></b> </p>  <div></div></div><div>--- 
 This iCal file does *NOT* confirm registration.Event details subject to ch
 ange. ---</div><div>--- Tendenci&reg\; Software by <a href="https://www.te
 ndenci.com">tendenci.com</a> - The Open Source AMS for Associations ---</d
 iv>
BEGIN:VALARM
TRIGGER:-PT30M
ACTION:DISPLAY
DESCRIPTION:Reminder
END:VALARM
END:VEVENT
END:VCALENDAR
