BEGIN:VCALENDAR
VERSION:2.0
METHOD:PUBLISH
PRODID:-//Tendenci - The Open Source AMS for Associations//Tendenci Codeba
 se MIMEDIR//EN
BEGIN:VEVENT
DESCRIPTION:--- This iCal file does *NOT* confirm registration.\nEvent det
 ails subject to change. ---\nhttps://www.nyemmys.org/events/643/\n\nEvent 
 Title: 54th Annual New York Emmy Awards Gala\nStart Date / Time: Apr 03, 2
 011 13:00 PM US/Eastern\nLocation: \nSpeaker: \n\n	You are cordially invit
 ed to the 54th Annual New York Emmy&reg\; Awards Gala\n	Recognizing the ou
 tstanding work of New York television&rsquo\;s elite!\n	\n	SUNDAY, APRIL 3
 , 2011\n	Marriott Marquis ~ Times Square ~ Broadway Ballroom\n	5 p.m. Cock
 tail Reception\n	6 p.m. Dinner\n	7 p.m. Awards Presentation\n	\n	The event
  is BLACK-TIE.\n	\n	Audience: 800 television and media professionals inclu
 ding many familiar faces from news, entertainment, sports, advertising age
 ncies, the industry&rsquo\;s top production people...the best and brightes
 t in the business. These are the most important individuals in New York me
 dia all on hand to salute the outstanding accomplishments of their peers.\
 n	\n	On April 3rd, The New York Chapter of the National Academy of Televis
 ion Arts and Sciences will recognize outstanding achievement, encourage th
 e pursuit of excellence, and promote the highest standards of quality in t
 he arts, crafts, and sciences of television by conferring the industry&#39
 \;s classic and most coveted peer-recognition symbol of distinction, the E
 mmy&reg\;.\n	\n	Tickets are NOW available!\n	\n	Deadline to place your tic
 ket and table requests: Friday, March 25, 2011.\n	\n	Gala Ticket / Table R
 ates:\n	Special VIP Table Rate&mdash\;Table of Ten plus Full-Page Journal 
 Ad: $6,500\n	Individual Ticket &ndash\; NY NATAS Member Rate: $350 **\n	In
 dividual Ticket &ndash\; Non-Member Rate: $400\n	Table of Ten: $4,000\n	\n
 	** Only one (1) NY NATAS Member Rate ticket per member!\n\n	Please note: 
 We can accommodate up to 12 guests (maximum&hellip\;no exceptions) at a ta
 ble. Each additional seat is simply $400 each.\n	\n	We offer an opportunit
 y to place an Ad in the Program Journal to be distributed to all attendees
 ...the top names in New York media... journalists, producers, executives, 
 etc....all nominees and esteemed guests.\n	\n	Full Page Ad: $3,000\n	Half 
 Page Ad: $2,000\n	\n	Ad Requirements for Program Journal:\n	Full-page Ad s
 ize: 8 &frac12\;&rdquo\; x 11&rdquo\;\n	Half-page Ad size: 5 &frac12\;&rdq
 uo\; x 8 &frac12\;&rdquo\;\n	File Formats Accepted: JPG or PDF\n	Ad Copy C
 losing Date: Friday, March 18th\n	\n	** Special OPPORTUNITY: Emmy&reg\; Pr
 ogram Advertisers will be listed as NEW YORK EMMY&reg\; AWARDS SUPPORTERS 
 on the &ldquo\;PARTNERS&rdquo\; page of our website www.nyemmys.org. Enjoy
  increased visibility!\n	\n	Please contact Sarah Hughes to place your tick
 et, table, and ad reservations: (212) 459-3630 ext. 201 or via email at sh
 ughes@nyemmys.org.\n\n\n\n--- This iCal file does *NOT* confirm registrati
 on.Event details subject to change. ---\n\n--- By Tendenci - The Open Sour
 ce AMS for Associations ---\n
UID:uid643@nyemmys.org
SUMMARY:54th Annual New York Emmy Awards Gala
DTSTART:20110403T170000Z
DTEND:20110403T223000Z
CLASS:PUBLIC
PRIORITY:5
DTSTAMP:20260419T195231Z
TRANSP:OPAQUE
SEQUENCE:0
X-ALT-DESC;FMTTYPE=text/html:<div>--- This iCal file does *NOT* confirm re
 gistration.Event details subject to change. ---</div><h1>Event Title: 54th
  Annual New York Emmy Awards Gala</h1><div>https://www.nyemmys.org/events/
 643/</div><br /><div>When: Apr 03, 2011 13:00 PM US/Eastern</div><div>Spea
 ker: </div><br /><div><p> 	<span style="color: rgb(0, 0, 0)\;"><span style
 ="font-size: 14px\;"><span style="color: rgb(128, 0, 128)\;"><strong><span
  style="font-family: georgia,serif\;"><em>You are cordially invited to the
  54th Annual New York Emmy&reg\; Awards Gala<br> 	Recognizing the outstand
 ing work of New York television&rsquo\;s elite!</em></span></strong></span
 ></span><br> 	<br> 	<strong>SUNDAY, APRIL 3, 2011</strong><br> 	Marriott M
 arquis ~ Times Square ~ Broadway Ballroom<br> 	5 p.m. Cocktail Reception<b
 r> 	6 p.m. Dinner<br> 	7 p.m. Awards Presentation<br> 	<br> 	The event is 
 <strong>BLACK-TIE</strong>.<br> 	<br> 	Audience: 800 television and media 
 professionals including many familiar faces from news, entertainment, spor
 ts, advertising agencies, the industry&rsquo\;s top production people...th
 e best and brightest in the business. These are the most important individ
 uals in New York media all on hand to salute the outstanding accomplishmen
 ts of their peers.<br> 	<br> 	On April 3rd, The New York Chapter of the Na
 tional Academy of Television Arts and Sciences will recognize outstanding 
 achievement, encourage the pursuit of excellence, and promote the highest 
 standards of quality in the arts, crafts, and sciences of television by co
 nferring the industry&#39\;s classic and most coveted peer-recognition sym
 bol of distinction, the Emmy&reg\;.<br> 	<br> 	<strong>Tickets are NOW ava
 ilable!</strong><br> 	<br> 	Deadline to place your ticket and table reques
 ts: <strong>Friday, March 25, 2011</strong>.<br> 	<br> 	<u><strong>Gala Ti
 cket / Table Rates:</strong></u><br> 	Special VIP Table Rate&mdash\;Table 
 of Ten plus Full-Page Journal Ad: $6,500<br> 	Individual Ticket &ndash\; N
 Y NATAS Member Rate: $350 **<br> 	Individual Ticket &ndash\; Non-Member Ra
 te: $400<br> 	Table of Ten: $4,000<br> 	<br> 	** Only one (1) NY NATAS Mem
 ber Rate ticket per member!</span></p> <div> 	<span style="color: rgb(0, 0
 , 0)\;">Please note: We can accommodate up to 12 guests (maximum&hellip\;n
 o exceptions) at a table. Each additional seat is simply $400 each.<br> 	<
 br> 	We offer an opportunity to place an Ad in the Program Journal to be d
 istributed to all attendees...the top names in New York media... journalis
 ts, producers, executives, etc....all nominees and esteemed guests.<br> 	<
 br> 	Full Page Ad: $3,000<br> 	Half Page Ad: $2,000<br> 	<br> 	<u>Ad Requi
 rements for Program Journal</u>:<br> 	Full-page Ad size: 8 &frac12\;&rdquo
 \; x 11&rdquo\;<br> 	Half-page Ad size: 5 &frac12\;&rdquo\; x 8 &frac12\;&
 rdquo\;<br> 	File Formats Accepted: JPG or PDF<br> 	Ad Copy Closing Date: 
 <strong>Friday, March 18th</strong><br> 	<br> 	<strong>** Special OPPORTUN
 ITY: Emmy&reg\; Program Advertisers will be listed as NEW YORK EMMY&reg\; 
 AWARDS SUPPORTERS on the &ldquo\;<a href="../cms/?992" target="_blank">PAR
 TNERS</a>&rdquo\; page of our website www.nyemmys.org. Enjoy increased vis
 ibility!</strong><br> 	<br> 	Please contact Sarah Hughes to place your tic
 ket, table, and ad reservations: (212) 459-3630 ext. 201 or via email at s
 hughes@nyemmys.org.</span></div>  <div></div></div><div>--- This iCal file
  does *NOT* confirm registration.Event details subject to change. ---</div
 ><div>--- Tendenci&reg\; Software by <a href="https://www.tendenci.com">te
 ndenci.com</a> - The Open Source AMS for Associations ---</div>
BEGIN:VALARM
TRIGGER:-PT30M
ACTION:DISPLAY
DESCRIPTION:Reminder
END:VALARM
END:VEVENT
END:VCALENDAR
