BEGIN:VCALENDAR
VERSION:2.0
METHOD:PUBLISH
PRODID:-//Tendenci - The Open Source AMS for Associations//Tendenci Codeba
 se MIMEDIR//EN
BEGIN:VEVENT
DESCRIPTION:--- This iCal file does *NOT* confirm registration.\nEvent det
 ails subject to change. ---\nhttps://www.nyemmys.org/events/633/\n\nEvent 
 Title: Meet the Filmmaker: Sam Summerlin\nStart Date / Time: Mar 14, 2011 
 14:00 PM US/Eastern\nLocation: NY NATAS\nSpeaker: \nGoogle\nhttp://maps.go
 ogle.com/maps?q=1375+Broadway,+Suite+2103,New York,NY,10018\n\nForecast\nh
 ttp://www.weather.com/weather/monthly/10018\n\n\n	\n		\n			\n				Meet the 
 Filmmaker: Sam Summerlin\n				\n			\n				&ldquo\;Pope of the Century&rdquo
 \;\n			\n				\n				\n			\n				Date: Monday, March 14, 2011\n			\n				Locat
 ion: NY NATAS, 1375 Broadway (between 37th and 38th Streets), Suite 2103\n
 			\n				Reception: 6:00-6:30 PM~ Program: 6:30-8:00 PM\n			\n				\n				\n
 			\n				*Free to NY NATAS Members!\n			\n				$15 for those without curren
 t NY NATAS membership\n			\n				\n				\n			On May 1st, the faithful will b
 e able to attend the beatification Mass of Pope John Paul in Rome and will
  be able to pray before his coffin which will be exhumed for the event. In
  memory and honor of this great Pope, see Pope of the Century which tells 
 his story through both remarkable video and still pictures.\n			\n			More 
 than a million people are said to be attending the mass at which John Paul
 , who died in 2005, will be declared a blessed of the Church and move one 
 step closer to sainthood. The ceremony will give heed to the funeral of th
 e Pope which was considered one of the biggest media events of the new cen
 tury. Faithful followers will be able to view the exhuming of John Paul&rs
 quo\;s wooden coffin from its current place in the crypts below St Peter&r
 squo\;s Basilica and will follow with it being placed before the main alta
 r inside the basilica. The closed coffin will remain there for viewing and
  veneration.\n			\n			This is the perfect time to relive the wonderful att
 ributions he contributed to humanity. For more than a quarter century, he 
 inspired a devoted following around the world and led Catholicism through 
 perhaps the most trying epoch of its history. Pope of the Century is the o
 nly complete DVD of John Paul&rsquo\;s incredible life, from his early day
 s in Poland to his rise from priest to bishop to cardinal, his 26-year rei
 gn as Pope, and his poignant passing at the Vatican. Writer Bernard Gavzer
  has won Five Emmy&reg\; Awards, and many of the still and video scenes ar
 e rare reflections of the late Pope. To prepare and celebrate for this inc
 redible event coming up on May 1, 2011 emerge yourself back into the life 
 of the Pope John Paul and keep his memory alive!\n			\n			Sam Summerlin is
  a veteran TV executive who has produced more than 800 television producti
 ons, ranging from his first show for &ldquo\;60 Minutes&rdquo\; based on h
 is book about how China created the atomic bomb to profiles of Tom Hanks, 
 Denzel Washington and others on the celebrated &ldquo\;Biography&rdquo\; s
 eries to entertainment programs syndicated worldwide through his company, 
 Hollywood Stars, Inc. Prior to his TV career, Summerlin was a foreign corr
 espondent and Deputy World News Editor at The Associated Press and then wa
 s named President/Chairman of The New York Times News Services. He is the 
 author of four non-fiction books and lives in New York.\n			\n				\n				\n
 			\n				RESERVATIONS REQUIRED DUE TO BUILDING SECURITY. ALL NAMES MUST BE
  ON GUEST LIST.\n				Please RSVP via email info@nyemmys.org to reserve a s
 eat.Use film title &ldquo\;Pope of the Century&rdquo\; in subject line of 
 email.\n			\n				\n				\n			\n				Produced &amp\; Moderated by Sumner Jule
 s Glimcher\n		\n	\n\n\n\n\n\n--- This iCal file does *NOT* confirm registr
 ation.Event details subject to change. ---\n\n--- By Tendenci - The Open S
 ource AMS for Associations ---\n
UID:uid633@nyemmys.org
SUMMARY:Meet the Filmmaker: Sam Summerlin
DTSTART:20110314T180000Z
DTEND:20110314T200000Z
CLASS:PUBLIC
PRIORITY:5
DTSTAMP:20260419T195252Z
TRANSP:OPAQUE
SEQUENCE:0
LOCATION:NY NATAS
X-ALT-DESC;FMTTYPE=text/html:<div>--- This iCal file does *NOT* confirm re
 gistration.Event details subject to change. ---</div><h1>Event Title: Meet
  the Filmmaker: Sam Summerlin</h1><div>https://www.nyemmys.org/events/633/
 </div><br /><div>When: Mar 14, 2011 14:00 PM US/Eastern</div><div>Speaker:
  </div><br />NY NATAS<br />1375 Broadway, Suite 2103<br />New York, NY 100
 18<br /><div>http://maps.google.com/maps?q=1375+Broadway,+Suite+2103,New Y
 ork,NY,10018</div><br /><div>Forecast: http://www.weather.com/weather/mont
 hly/10018</div><br /><br /><div><div> 	<div class="eventview-details"> 		<
 div> 			<div> 				<span style="color: rgb(128, 0, 128)\;"><span style="fon
 t-size: 12px\;"><span style="font-family: georgia,serif\;"><strong>Meet th
 e Filmmaker: Sam Summerlin<br> 				</strong></span></span></span></div> 		
 	<div> 				<span style="color: rgb(128, 0, 128)\;"><span style="font-size:
  12px\;"><span style="font-family: georgia,serif\;"><strong>&ldquo\;</stro
 ng><strong>Pope of the Century</strong><strong>&rdquo\;</strong></span></s
 pan></span></div> 			<div> 				<span style="font-size: 12px\;"><span style
 ="font-family: georgia,serif\;"><br> 				</span></span></div> 			<div> 			
 	<span style="color: rgb(0, 0, 0)\;"><span style="font-size: 12px\;"><span
  style="font-family: georgia,serif\;">Date: Monday, March 14, 2011</span><
 /span></span></div> 			<div> 				<span style="color: rgb(0, 0, 0)\;"><span
  style="font-size: 12px\;"><span style="font-family: georgia,serif\;">Loca
 tion: NY NATAS, 1375 Broadway (between 37<sup>th</sup> and 38<sup>th</sup>
  Streets), Suite 2103</span></span></span></div> 			<div> 				<span style=
 "color: rgb(0, 0, 0)\;"><span style="font-size: 12px\;"><span style="font-
 family: georgia,serif\;">Reception: 6:00-6:30 PM~ Program: 6:30-8:00 PM</s
 pan></span></span></div> 			<div> 				<span style="color: rgb(0, 0, 0)\;">
 <span style="font-size: 12px\;"><span style="font-family: georgia,serif\;"
 ><br> 				</span></span></span></div> 			<div> 				<span style="color: rgb
 (0, 0, 0)\;"><span style="font-size: 12px\;"><span style="font-family: geo
 rgia,serif\;"><strong>*Free to NY NATAS Members!</strong></span></span></s
 pan></div> 			<div> 				<span style="color: rgb(0, 0, 0)\;"><span style="f
 ont-size: 12px\;"><span style="font-family: georgia,serif\;"><strong>$15 f
 or those without current NY NATAS membership</strong></span></span></span>
 </div> 			<div> 				<span style="color: rgb(0, 0, 0)\;"><br> 				</span></
 div> 			<span style="color: rgb(0, 0, 0)\;"><span style="font-size: 14px\;
 "><span style="font-family: georgia,serif\;">On May 1st, the faithful will
  be able to attend the beatification Mass of Pope John Paul in Rome and wi
 ll be able to pray before his coffin which will be exhumed for the event. 
 In memory and honor of this great Pope, see <em>Pope of the Century</em> w
 hich tells his story through both remarkable video and still pictures.<br>
  			<br> 			More than a million people are said to be attending the mass a
 t which John Paul, who died in 2005, will be declared a blessed of the Chu
 rch and move one step closer to sainthood. The ceremony will give heed to 
 the funeral of the Pope which was considered one of the biggest media even
 ts of the new century. Faithful followers will be able to view the exhumin
 g of John Paul&rsquo\;s wooden coffin from its current place in the crypts
  below St Peter&rsquo\;s Basilica and will follow with it being placed bef
 ore the main altar inside the basilica. The closed coffin will remain ther
 e for viewing and veneration.<br> 			<br> 			This is the perfect time to r
 elive the wonderful attributions he contributed to humanity. For more than
  a quarter century, he inspired a devoted following around the world and l
 ed Catholicism through perhaps the most trying epoch of its history. <em>P
 ope of the Century</em> is the only complete DVD of John Paul&rsquo\;s inc
 redible life, from his early days in Poland to his rise from priest to bis
 hop to cardinal, his 26-year reign as Pope, and his poignant passing at th
 e Vatican. Writer Bernard Gavzer has won Five Emmy&reg\; Awards, and many 
 of the still and video scenes are rare reflections of the late Pope. To pr
 epare and celebrate for this incredible event coming up on May 1, 2011 eme
 rge yourself back into the life of the Pope John Paul and keep his memory 
 alive!<br> 			<br> 			<strong>Sam Summerlin</strong> is a veteran TV execu
 tive who has produced more than 800 television productions, ranging from h
 is first show for &ldquo\;60 Minutes&rdquo\; based on his book about how C
 hina created the atomic bomb to profiles of Tom Hanks, Denzel Washington a
 nd others on the celebrated &ldquo\;Biography&rdquo\; series to entertainm
 ent programs syndicated worldwide through his company, Hollywood Stars, In
 c. Prior to his TV career, Summerlin was a foreign correspondent and Deput
 y World News Editor at The Associated Press and then was named President/C
 hairman of The New York Times News Services. He is the author of four non-
 fiction books and lives in New York.</span></span></span><br> 			<div> 			
 	<span style="font-size: 12px\;"><span style="font-family: georgia,serif\;
 "><br> 				</span></span></div> 			<div> 				<span style="font-size: 12px\
 ;"><span style="font-family: georgia,serif\;"><span style="color: rgb(0, 1
 00, 0)\;"><strong><strong>RESERVATIONS REQUIRED DUE TO BUILDING SECURITY. 
 ALL NAMES MUST BE ON GUEST LIST.</strong></strong><strong><br> 				<strong
 ><strong>Please RSVP via email </strong></strong></strong></span><strong><
 strong><a href="mailto:info@nyemmys.org"><strong>info@nyemmys.org</strong>
 </a></strong></strong><strong><strong> <span style="color: rgb(0, 100, 0)\
 ;">to reserve a seat.</span></strong></strong><span style="color: rgb(0, 1
 00, 0)\;"><strong><strong>Use film title </strong></strong></span><span st
 yle="color: rgb(0, 0, 0)\;"><strong><strong>&ldquo\;</strong></strong><str
 ong><strong>Pope of the Century</strong></strong><strong><strong>&rdquo\;<
 /strong></strong></span><span style="color: rgb(0, 100, 0)\;"><strong><str
 ong> in subject line of email.</strong></strong></span></span></span></div
 > 			<div> 				<span style="font-size: 12px\;"><span style="font-family: g
 eorgia,serif\;"><br> 				</span></span></div> 			<div> 				<span style="co
 lor: rgb(0, 0, 0)\;"><span style="font-size: 12px\;"><span style="font-fam
 ily: georgia,serif\;">Produced &amp\; Moderated by Sumner Jules Glimcher</
 span></span></span></div> 		</div> 	</div> </div>   <div></div></div><div>
 --- This iCal file does *NOT* confirm registration.Event details subject t
 o change. ---</div><div>--- Tendenci&reg\; Software by <a href="https://ww
 w.tendenci.com">tendenci.com</a> - The Open Source AMS for Associations --
 -</div>
BEGIN:VALARM
TRIGGER:-PT30M
ACTION:DISPLAY
DESCRIPTION:Reminder
END:VALARM
END:VEVENT
END:VCALENDAR
