BEGIN:VCALENDAR
VERSION:2.0
METHOD:PUBLISH
PRODID:-//Tendenci - The Open Source AMS for Associations//Tendenci Codeba
 se MIMEDIR//EN
BEGIN:VEVENT
DESCRIPTION:--- This iCal file does *NOT* confirm registration.\nEvent det
 ails subject to change. ---\nhttps://www.nyemmys.org/events/626/\n\nEvent 
 Title: Playreading Hosted by Arlene Dahl\nStart Date / Time: Feb 14, 2011 
 12:30 PM US/Eastern\nLocation: \nSpeaker: \n\n	\n		\n			\n				\n					\n			
 			\n							\n								PLAY READING\n							\n								Hosted By Arlene Dahl
 \n							\n							\n								&ldquo\;M33&rdquo\;\n								\n							\n						
 		Newly Adapted by Tome Cousin and Peter Gregus from June Havoc&#39\;s &qu
 ot\;Marathon 33&quot\;\n								\n							\n								 \n							\n								\n	
 								Date: Monday, February 14, 2011\n								Time: 5:30 p.m. Reception
 , 6:00 p.m. program\n								\n								\n									Location: Midtown\n					
 			\n									 \n								\n									June Havoc, for more than nine decades
  a star on stage, television and in motion pictures, was 97 years old when
  she died last March. She was married for many years to producer William S
 pier and was Gypsy Rose Lee&#39\;s sister.\n								\n									 \n								
 \n									Peter Gregus is the Dance Captain and a performer in &quot\;Jer
 sey Boys&quot\; on Broadway. He has been with the show since it opened.\n	
 							\n									 \n								\n									Tome Cousin, also a performer/danc
 er, was a member of the cast of &quot\;Contact&quot\; at Lincoln Center.\n
 									\n							\n							\n								\n								\n							\n								Event pr
 oduced by Ellen Muir\n							\n							\n								 \n							For reservations
  (required) and location information, please call 212-459-3630, ext. 204 b
 efore Friday February 11th!\n							NO EMAIL RESERVATIONS WILL BE ACCEPTED
 .\n					\n				\n			\n		\n	\n\n\n\n\n\n--- This iCal file does *NOT* confir
 m registration.Event details subject to change. ---\n\n--- By Tendenci - T
 he Open Source AMS for Associations ---\n
UID:uid626@nyemmys.org
SUMMARY:Playreading Hosted by Arlene Dahl
DTSTART:20110214T173000Z
DTEND:20110214T193000Z
CLASS:PUBLIC
PRIORITY:5
DTSTAMP:20260419T195308Z
TRANSP:OPAQUE
SEQUENCE:0
X-ALT-DESC;FMTTYPE=text/html:<div>--- This iCal file does *NOT* confirm re
 gistration.Event details subject to change. ---</div><h1>Event Title: Play
 reading Hosted by Arlene Dahl</h1><div>https://www.nyemmys.org/events/626/
 </div><br /><div>When: Feb 14, 2011 12:30 PM US/Eastern</div><div>Speaker:
  </div><br /><div><div> 	<div class="eventview-details"> 		<div> 			<div c
 lass="eventview-details"> 				<div> 					<div class="eventview-details"> 	
 					<div> 							<div> 								<span style="color: rgb(128, 0, 128)\;"><s
 trong style="color: rgb(0, 0, 128)\;"><span style="font-family: Georgia\; 
 font-size: 14pt\;">PLAY READING</span></strong></span></div> 							<div> 
 								<span style="color: rgb(0, 0, 128)\;"><strong><span style="font-fa
 mily: Georgia\; font-size: 14pt\;">Hosted By Arlene Dahl</span></strong></
 span></div> 							<br> 							<div> 								<strong><span style="font-fam
 ily: Georgia\; font-size: 12pt\; color: rgb(0, 0, 128)\;">&ldquo\;M33&rdqu
 o\;</span><br> 								</strong></div> 							<div> 								<strong><span 
 style="font-family: Georgia\; font-size: 12pt\; color: rgb(0, 0, 128)\;">N
 ewly Adapted by Tome Cousin and Peter Gregus from June Havoc&#39\;s &quot\
 ;Marathon 33&quot\;<br> 								</span></strong></div> 							<div> 						
 		&nbsp\;</div> 							<div> 								<div> 									<strong><span style="f
 ont-family: Georgia\; font-size: 12pt\; color: rgb(0, 0, 0)\;">Date: Monda
 y, February 14, 2011</span></strong></div> 								<strong><span style="fo
 nt-family: Georgia\; font-size: 12pt\; color: rgb(0, 0, 0)\;">Time: 5:30 p
 .m. Reception, 6:00 p.m. program</span><br> 								</strong> 								<div
 > 									<strong><span style="font-family: Georgia\; font-size: 12pt\; c
 olor: rgb(0, 0, 0)\;">Location: Midtown</span></strong></div> 								<div
 > 									&nbsp\;</div> 								<div> 									<span style="color: rgb(0,
  0, 0)\;"><span style="font-size: 14px\;"><span style="font-family: georgi
 a,serif\;">June Havoc, for more than nine decades a star on stage, televis
 ion and in motion pictures, was 97 years old when she died last March. She
  was married for many years to producer William Spier and was Gypsy Rose L
 ee&#39\;s sister.</span></span></span></div> 								<div> 									&nbsp\
 ;</div> 								<div> 									<span style="color: rgb(0, 0, 0)\;"><span s
 tyle="font-size: 14px\;"><span style="font-family: georgia,serif\;">Peter 
 Gregus is the Dance Captain and a performer in &quot\;Jersey Boys&quot\; o
 n Broadway. He has been with the show since it opened.</span></span></span
 ></div> 								<div> 									&nbsp\;</div> 								<div> 									<span 
 style="color: rgb(0, 0, 0)\;"><span style="font-size: 14px\;"><span style=
 "font-family: georgia,serif\;">Tome Cousin, also a performer/dancer, was a
  member of the cast of &quot\;Contact&quot\; at Lincoln Center.<br> 						
 			</span></span></span></div> 							</div> 							<div> 								<span st
 yle="color: rgb(0, 0, 0)\;"><span style="font-size: 14px\;"><span style="f
 ont-family: georgia,serif\;"><br> 								</span></span></span></div> 				
 			<div> 								<span style="color: rgb(0, 0, 0)\;"><span style="font-fam
 ily: Georgia\; font-size: 12pt\;">Event produced by Ellen Muir</span></spa
 n></div> 							<br> 							<div> 								&nbsp\;</div> 							<strong><sp
 an style="font-family: Georgia\; font-size: 12pt\; color: rgb(0, 128, 0)\;
 ">For reservations (required) and location information, please call </span
 ><span style="font-family: Georgia\; font-size: 12pt\; color: rgb(0, 0, 25
 5)\;">212-459-3630, ext. 204</span><span style="font-family: Georgia\; fon
 t-size: 12pt\; color: rgb(0, 0, 255)\;"> </span><span style="font-family: 
 Georgia\; font-size: 12pt\; color: rgb(0, 128, 0)\;">before</span><span st
 yle="font-family: Georgia\; font-size: 12pt\; color: rgb(0, 128, 0)\;"> Fr
 iday February 11th!</span><br> 							<span style="font-family: Georgia\; 
 font-size: 12pt\; color: rgb(0, 128, 0)\;">NO EMAIL RESERVATIONS WILL BE A
 CCEPTED.</span></strong></div> 					</div> 				</div> 			</div> 		</div> 	
 </div> </div>   <div></div></div><div>--- This iCal file does *NOT* confir
 m registration.Event details subject to change. ---</div><div>--- Tendenci
 &reg\; Software by <a href="https://www.tendenci.com">tendenci.com</a> - T
 he Open Source AMS for Associations ---</div>
BEGIN:VALARM
TRIGGER:-PT30M
ACTION:DISPLAY
DESCRIPTION:Reminder
END:VALARM
END:VEVENT
END:VCALENDAR
