BEGIN:VCALENDAR
VERSION:2.0
METHOD:PUBLISH
PRODID:-//Tendenci - The Open Source AMS for Associations//Tendenci Codeba
 se MIMEDIR//EN
BEGIN:VEVENT
DESCRIPTION:--- This iCal file does *NOT* confirm registration.\nEvent det
 ails subject to change. ---\nhttps://www.nyemmys.org/events/621/\n\nEvent 
 Title: Midmorning Exchange\nStart Date / Time: Dec 01, 2010 04:30 AM US/Ea
 stern\nLocation: NY NATAS\nSpeaker: \nGoogle\nhttp://maps.google.com/maps?
 q=1375+Broadway,+Suite+2103,New York,NY,10018\n\nForecast\nhttp://www.weat
 her.com/weather/monthly/10018\n\n\n	\n		\n			\n				\n					\n						Midmorni
 ng Exchange\n					\n						\n						\n					\n						with\n						\n					\n				
 		\n						\n					\n						Georges Leclere&ndash\; Director, Banff World Tel
 evision Awards\n					\n						\n						\n					\n						Wednesday, December 1,
  2010~ 9:30 AM to 11:00 AM\n						NY NATAS Office &ndash\; 1375 Broadway (
 between 37th and 38th Streets), 21st floor, Suite 2103\n					\n						 \n		
 			\n						TOPIC: &quot\;What&#39\;s New in China About Television Formats
 .&quot\;\n						\n					\n						\n						\n					\n						Join us for coffee a
 nd conversation with Georges Leclere who returned from China on November 1
 9th, having returned from France several weeks earlier. He leaves for Swit
 zerland on the afternoon of December 1st and will bring his luggage with h
 im to our event and then go directly to the airport. Mr. Leclere spent sev
 en years at the United Nations as head of Television, Radio, Film and Pres
 s Documents. He has created shows, produced and distributed them and organ
 ized television judging panels all over the world.\n						\n					\n						 
 \n					\n						RESERVATIONS REQUIRED DUE TO BUILDING SECURITY. ALL NAMES M
 UST BE ON GUEST LIST.\n						PLEASE RSVP VIA EMAIL info@nyemmys.org OR PHO
 NE 212-459-3630, ext. 204.\n					\n						\n						\n					\n						Event prod
 uced by Ellen Muir\n				\n			\n		\n	\n\n\n\n\n\n--- This iCal file does *N
 OT* confirm registration.Event details subject to change. ---\n\n--- By Te
 ndenci - The Open Source AMS for Associations ---\n
UID:uid621@nyemmys.org
SUMMARY:Midmorning Exchange
DTSTART:20101201T093000Z
DTEND:20101201T110000Z
CLASS:PUBLIC
PRIORITY:5
DTSTAMP:20260419T181717Z
TRANSP:OPAQUE
SEQUENCE:0
LOCATION:NY NATAS
X-ALT-DESC;FMTTYPE=text/html:<div>--- This iCal file does *NOT* confirm re
 gistration.Event details subject to change. ---</div><h1>Event Title: Midm
 orning Exchange</h1><div>https://www.nyemmys.org/events/621/</div><br /><d
 iv>When: Dec 01, 2010 04:30 AM US/Eastern</div><div>Speaker: </div><br />N
 Y NATAS<br />1375 Broadway, Suite 2103<br />New York, NY 10018<br /><div>h
 ttp://maps.google.com/maps?q=1375+Broadway,+Suite+2103,New York,NY,10018</
 div><br /><div>Forecast: http://www.weather.com/weather/monthly/10018</div
 ><br /><br /><div><div> 	<div class="eventview-details"> 		<div> 			<div c
 lass="eventview-details"> 				<div> 					<div> 						<span style="font-siz
 e: 16px\;"><span style="color: rgb(128, 0, 128)\;"><span style="font-famil
 y: georgia,serif\;"><strong>Midmorning Exchange</strong></span></span></sp
 an></div> 					<div> 						<span style="font-size: 14px\;"><span style="fo
 nt-family: georgia,serif\;"><strong><br> 						</strong></span></span></di
 v> 					<div> 						<span style="color: rgb(0, 0, 0)\;"><span style="font-
 size: 14px\;"><span style="font-family: georgia,serif\;">with<br> 						</
 span></span></span></div> 					<div> 						<span style="color: rgb(0, 0, 0
 )\;"><span style="font-size: 14px\;"><span style="font-family: georgia,ser
 if\;"><br> 						</span></span></span></div> 					<div> 						<span style=
 "color: rgb(0, 0, 0)\;"><span style="font-size: 14px\;"><span style="font-
 family: georgia,serif\;"><strong>Georges Leclere</strong>&ndash\; Director
 , Banff World Television Awards</span></span></span></div> 					<div> 				
 		<span style="color: rgb(0, 0, 0)\;"><span style="font-size: 14px\;"><spa
 n style="font-family: georgia,serif\;"><br> 						</span></span></span></d
 iv> 					<div> 						<span style="color: rgb(0, 0, 0)\;"><span style="font
 -size: 14px\;"><span style="font-family: georgia,serif\;"><span>Wednesday,
  December 1, 2010~ 9:30 AM to 11:00 AM<br> 						NY NATAS Office &ndash\; 
 1375 Broadway (between 37<sup>th</sup> and 38<sup>th</sup> Streets), 21<su
 p>st</sup> floor, Suite 2103</span></span></span></span></div> 					<div> 
 						&nbsp\;</div> 					<div> 						<strong><span style="color: rgb(0, 0,
  0)\;"><span style="font-size: 14px\;"><span style="font-family: georgia,s
 erif\;"><span>TOPIC: &quot\;What&#39\;s New in China About Television Form
 ats.&quot\;</span></span></span></span><br> 						</strong></div> 					<di
 v> 						<span style="color: rgb(0, 0, 0)\;"><span style="font-size: 14px\
 ;"><span style="font-family: georgia,serif\;"><br> 						</span></span></s
 pan></div> 					<div> 						<span style="color: rgb(0, 0, 0)\;"><span styl
 e="font-size: 14px\;"><span style="font-family: georgia,serif\;">Join us f
 or coffee and conversation with Georges Leclere who returned from China on
  November 19th, having returned from France several weeks earlier. He leav
 es for Switzerland on the afternoon of December 1st and will bring his lug
 gage with him to our event and then go directly to the airport. Mr. Lecler
 e spent seven years at the United Nations as head of Television, Radio, Fi
 lm and Press Documents. He has created shows, produced and distributed the
 m and organized television judging panels all over the world.<br> 						</
 span></span></span></div> 					<div> 						&nbsp\;</div> 					<div> 						
 <span style="font-size: 14px\;"><span style="font-family: georgia,serif\;"
 ><span style="color: rgb(0, 100, 0)\;"><strong>RESERVATIONS REQUIRED DUE T
 O BUILDING SECURITY. ALL NAMES MUST BE ON GUEST LIST.<br> 						PLEASE RSV
 P VIA EMAIL </strong></span><strong><strong><a><strong>info@nyemmys.org </
 strong></a></strong><span style="color: rgb(0, 100, 0)\;">OR PHONE 212-459
 -3630, ext. 204.</span></strong></span></span></div> 					<div> 						<spa
 n style="font-size: 14px\;"><span style="font-family: georgia,serif\;"><br
 > 						</span></span></div> 					<div> 						<span style="color: rgb(0, 0
 , 0)\;"><span style="font-size: 14px\;"><span style="font-family: georgia,
 serif\;">Event produced by Ellen Muir</span></span></span></div> 				</div
 > 			</div> 		</div> 	</div> </div>   <div></div></div><div>--- This iCal 
 file does *NOT* confirm registration.Event details subject to change. ---<
 /div><div>--- Tendenci&reg\; Software by <a href="https://www.tendenci.com
 ">tendenci.com</a> - The Open Source AMS for Associations ---</div>
BEGIN:VALARM
TRIGGER:-PT30M
ACTION:DISPLAY
DESCRIPTION:Reminder
END:VALARM
END:VEVENT
END:VCALENDAR
