BEGIN:VCALENDAR
VERSION:2.0
METHOD:PUBLISH
PRODID:-//Tendenci - The Open Source AMS for Associations//Tendenci Codeba
 se MIMEDIR//EN
BEGIN:VEVENT
DESCRIPTION:--- This iCal file does *NOT* confirm registration.\nEvent det
 ails subject to change. ---\nhttps://www.nyemmys.org/events/618/\n\nEvent 
 Title: Meet the Filmmaker: Sumner Jules Glimcher\nStart Date / Time: Dec 1
 4, 2010 13:00 PM US/Eastern\nLocation: NY NATAS\nSpeaker: \nGoogle\nhttp:/
 /maps.google.com/maps?q=1375+Broadway,+Suite+2103,New York,NY,10018\n\nFor
 ecast\nhttp://www.weather.com/weather/monthly/10018\n\n\n	\n		Meet the Fil
 mmaker: Sumner Jules Glimcher\n	\n		&ldquo\;In the Shadow of the Vampire&r
 dquo\;\n	\n		\n		\n	\n		Date: Tuesday, December 14, 2010\n	\n		Location: N
 Y NATAS, 1375 Broadway (between 37th and 38th Streets), Suite2103\n	\n		Re
 ception: 6:00-6:30 PM~ Program: 6:30-8:00 PM\n	\n		\n		\n	\n		*Free to NY 
 NATAS Members!\n	\n		$15 for those without current NY NATAS membership\n	\
 n		\n		\n	\n		The Unitarian religion began in the 1500s in Transylvaniaaft
 er the Protestant Reformation when a group of theologists defined the deit
 y as a &ldquo\;unity&rdquo\; rather than the previously called &ldquo\;tri
 nity.&rdquo\; It was quite remarkable when its doctrine embraced a whole s
 pectrum of believers, from those of all faiths to the agnostics and atheis
 ts.  Some two or three decades ago, when the political atmosphere in Trans
 ylvania (now part of Romania) threatened the Unitarians still in Transylva
 nia, the Unitarian-Universalists&rsquo\; headquarters in Boston created a 
 &ldquo\;partner church&rdquo\; program where some individual Unitarian Chu
 rches in America took a partner church in Transylvania, and through joint 
 visits and financial assistance helped their partner church. The Unitarian
 Churchin Westport, CT, became the partner church to that of the small vill
 ageof Alsoboldogfalvain Transylvaniaand sponsored a trip to it. Some ten p
 ersons traveled together to spend ten days in Alsoboldogflava, and one of 
 its members, Sumner Jules Glimcher, went along and recorded the trip. This
  documentary is a record of that event. This film is a turning back of the
  clock to one hundred years ago and how people in this village lived as mo
 st Americans did around the year 1900. The travelers also visited the birt
 hplace of Vlad the Impaler, the person who became the model for Dracula. W
 e see the primitive traffic jams of fifty cows each morning and afternoon 
 as they travel to the nearby hills for forage\; the horses and wagons befo
 re the arrival of the automobile, and the simple life of an agricultural c
 ommunity. The film concludes with a visit to a nearby gypsy community as t
 hey party and dance on a locals hillside. Interviews with locals show a li
 festyle long disappeared in the USA.\n	\n		\n		\n	\n		Sumner Jules Glimche
 r, now professor emeritus from NYU, began his career as a page at NBC afte
 r graduating from college and spent his first six years there in a variety
  of jobs ranging from production manager to assistant director to manager 
 of network operations. He then spent three years in Munichat Radio Free Eu
 rope, returned to the USand created the first independent voiced internati
 onal news service, the precursor of CNN. He became manager of foreign news
  for WOR &amp\; RKO General\; associate producer in charge of internationa
 l acquisitions at NET (National Educational Television, the precursor of P
 BS)\; manager of the Center for Mass Communication at ColumbiaUniversity\;
  and president of Mass Communications, Inc. In 1988 he was appointed direc
 tor of the Department of Film, Video &amp\; Broadcasting at NYU&rsquo\;s S
 choolof Continuing Education, and served until his early retirement in 199
 6. He then started a new company, Westminster Productions, Inc., dedicated
  to creating independent documentaries, and has produced a number of new f
 ilms since then.  His academic career also included service as deputy chai
 r of the Department of Film at ColumbiaUniversity&rsquo\;s GraduateSchoolo
 f the Arts for ten years, and he also taught for one year at Harvard, his 
 alma mater. His textbook, MOVIE MAKING: A Guide to Film Production, was ad
 opted at a number of universities and became a best seller. He served the 
 president of Harvard as a film consultant, and was also a consultant to th
 e United Nations, and for twenty years, to the Consulate General of Japan.
  He lectures on luxury cruise liners, and has given his workshop &ldquo\;H
 ow to Create a Documentary of Your Cruise&rdquo\; on eleven major cruise l
 iners in the past few years. His films have been awarded more than three d
 ozen major national and international awards.\n	\n		\n		\n	\n		RESERVATION
 S REQUIRED DUE TO BUILDING SECURITY. ALL NAMES MUST BE ON GUEST LIST.\n		P
 lease RSVP via email info@nyemmys.org to reserve a seat.Use film title &ld
 quo\;In the Shadow of the Vampire&rdquo\; in subject line of email.\n	\n		
 \n		\n	\n		Produced &amp\; Moderated by Sumner Jules Glimcher\n\n\n\n\n\n-
 -- This iCal file does *NOT* confirm registration.Event details subject to
  change. ---\n\n--- By Tendenci - The Open Source AMS for Associations ---
 \n
UID:uid618@nyemmys.org
SUMMARY:Meet the Filmmaker: Sumner Jules Glimcher
DTSTART:20101214T180000Z
DTEND:20101214T200000Z
CLASS:PUBLIC
PRIORITY:5
DTSTAMP:20260419T180451Z
TRANSP:OPAQUE
SEQUENCE:0
LOCATION:NY NATAS
X-ALT-DESC;FMTTYPE=text/html:<div>--- This iCal file does *NOT* confirm re
 gistration.Event details subject to change. ---</div><h1>Event Title: Meet
  the Filmmaker: Sumner Jules Glimcher</h1><div>https://www.nyemmys.org/eve
 nts/618/</div><br /><div>When: Dec 14, 2010 13:00 PM US/Eastern</div><div>
 Speaker: </div><br />NY NATAS<br />1375 Broadway, Suite 2103<br />New York
 , NY 10018<br /><div>http://maps.google.com/maps?q=1375+Broadway,+Suite+21
 03,New York,NY,10018</div><br /><div>Forecast: http://www.weather.com/weat
 her/monthly/10018</div><br /><br /><div><div> 	<div> 		<span style="font-s
 ize: 16px\;"><span style="color: rgb(128, 0, 128)\;"><span style="font-fam
 ily: georgia,serif\;"><strong>Meet the Filmmaker: Sumner Jules Glimcher</s
 trong></span></span></span></div> 	<div> 		<span style="font-size: 16px\;"
 ><span style="color: rgb(128, 0, 128)\;"><span style="font-family: georgia
 ,serif\;"><strong>&ldquo\;In the Shadow of the Vampire&rdquo\;</strong></s
 pan></span></span></div> 	<div> 		<span style="font-size: 14px\;"><span st
 yle="font-family: georgia,serif\;"><br> 		</span></span></div> 	<div> 		<s
 pan style="font-size: 14px\;"><span style="font-family: georgia,serif\;"><
 strong>Date: </strong><strong>Tuesday, December 14, 2010</strong></span></
 span></div> 	<div> 		<span style="font-size: 14px\;"><span style="font-fam
 ily: georgia,serif\;"><strong>Location: NY NATAS, 1375 Broadway (between 3
 7<sup>th</sup> and 38<sup>th</sup> Streets), </strong><strong>Suite</stron
 g><strong>2103</strong></span></span></div> 	<div> 		<span style="font-siz
 e: 14px\;"><span style="font-family: georgia,serif\;"><strong>Reception: <
 /strong><strong>6:00-6:30 PM</strong><strong>~ Program: </strong><strong>6
 :30-8:00 PM</strong></span></span></div> 	<div> 		<span style="font-size: 
 14px\;"><span style="font-family: georgia,serif\;"><br> 		</span></span></
 div> 	<div> 		<span style="font-size: 14px\;"><span style="font-family: ge
 orgia,serif\;"><strong>*Free to NY NATAS Members!</strong></span></span></
 div> 	<div> 		<span style="font-size: 14px\;"><span style="font-family: ge
 orgia,serif\;"><strong>$15 for those without current NY NATAS membership</
 strong></span></span></div> 	<div> 		<span style="font-size: 14px\;"><span
  style="font-family: georgia,serif\;"><br> 		</span></span></div> 	<div> 	
 	<span style="font-size: 14px\;"><span style="font-family: georgia,serif\;
 ">The Unitarian religion began in the 1500s in Transylvaniaafter the Prote
 stant Reformation when a group of theologists defined the deity as a &ldqu
 o\;unity&rdquo\; rather than the previously called &ldquo\;trinity.&rdquo\
 ; It was quite remarkable when its doctrine embraced a whole spectrum of b
 elievers, from those of all faiths to the agnostics and atheists.&nbsp\; S
 ome two or three decades ago, when the political atmosphere in Transylvani
 a (now part of Romania) threatened the Unitarians still in Transylvania, t
 he Unitarian-Universalists&rsquo\; headquarters in Boston created a &ldquo
 \;partner church&rdquo\; program where some individual Unitarian Churches 
 in America took a partner church in Transylvania, and through joint visits
  and financial assistance helped their partner church. The UnitarianChurch
 in Westport, CT, became the partner church to that of the small villageof 
 Alsoboldogfalvain Transylvaniaand sponsored a trip to it. Some ten persons
  traveled together to spend ten days in Alsoboldogflava, and one of its me
 mbers, Sumner Jules Glimcher, went along and recorded the trip. This docum
 entary is a record of that event. This film is a turning back of the clock
  to one hundred years ago and how people in this village lived as most Ame
 ricans did around the year 1900. The travelers also visited the birthplace
  of Vlad the Impaler, the person who became the model for Dracula. We see 
 the primitive traffic jams of fifty cows each morning and afternoon as the
 y travel to the nearby hills for forage\; the horses and wagons before the
  arrival of the automobile, and the simple life of an agricultural communi
 ty. The film concludes with a visit to a nearby gypsy community as they pa
 rty and dance on a locals hillside. Interviews with locals show a lifestyl
 e long disappeared in the USA.</span></span></div> 	<div> 		<span style="f
 ont-size: 14px\;"><span style="font-family: georgia,serif\;"><br> 		</span
 ></span></div> 	<div> 		<span style="font-size: 14px\;"><span style="font-
 family: georgia,serif\;"><strong>Sumner Jules Glimcher</strong>, now profe
 ssor emeritus from NYU, began his career as a page at NBC after graduating
  from college and spent his first six years there in a variety of jobs ran
 ging from production manager to assistant director to manager of network o
 perations.&nbsp\;He then spent three years in Munichat Radio Free Europe, 
 returned to the USand created the first independent voiced international n
 ews service, the precursor of CNN.&nbsp\;He became manager of foreign news
  for WOR &amp\; RKO General\;&nbsp\;associate producer in charge of intern
 ational acquisitions at NET (National Educational Television, the precurso
 r of PBS)\;&nbsp\;manager of the Center for Mass Communication at Columbia
 University\;&nbsp\;and president of Mass Communications, Inc.&nbsp\;In 198
 8 he was appointed director of the Department of Film, Video &amp\; Broadc
 asting at NYU&rsquo\;s Schoolof Continuing Education, and served until his
  early retirement in 1996.&nbsp\;He then started a new company, Westminste
 r Productions, Inc., dedicated to creating independent documentaries, and 
 has produced a number of new films since then.&nbsp\; His academic career 
 also included service as deputy chair of the Department of Film at Columbi
 aUniversity&rsquo\;s GraduateSchoolof the Arts for ten years, and he also 
 taught for one year at Harvard, his alma mater.&nbsp\;His textbook, <em>MO
 VIE MAKING: A Guide to Film Production</em>, was adopted at a number of un
 iversities and became a best seller.&nbsp\;He served the president of Harv
 ard as a film consultant, and was also a consultant to the United Nations,
  and for twenty years, to the Consulate General of Japan.&nbsp\;He lecture
 s on luxury cruise liners, and has given his workshop &ldquo\;How to Creat
 e a Documentary of Your Cruise&rdquo\; on eleven major cruise liners in th
 e past few years.&nbsp\;His films have been awarded more than three dozen 
 major national and international awards.</span></span></div> 	<div> 		<spa
 n style="font-size: 14px\;"><span style="font-family: georgia,serif\;"><br
 > 		</span></span></div> 	<div> 		<span style="font-size: 14px\;"><span st
 yle="font-family: georgia,serif\;"><span style="color: rgb(0, 100, 0)\;"><
 strong><strong>RESERVATIONS REQUIRED DUE TO BUILDING SECURITY. ALL NAMES M
 UST BE ON GUEST LIST.</strong></strong><strong><br> 		<strong><strong>Plea
 se RSVP via email </strong></strong></strong></span><strong><strong><a hre
 f="mailto:info@nyemmys.org"><strong>info@nyemmys.org </strong></a></strong
 ></strong><span style="color: rgb(0, 100, 0)\;"><strong><strong>to reserve
  a seat.</strong></strong><strong><strong>Use film title </strong></strong
 ></span><strong><strong>&ldquo\;In the Shadow of the Vampire&rdquo\;</stro
 ng></strong><strong><strong> <span style="color: rgb(0, 100, 0)\;">in subj
 ect line of email</span>.</strong></strong></span></span></div> 	<div> 		<
 span style="font-size: 14px\;"><span style="font-family: georgia,serif\;">
 <br> 		</span></span></div> 	<div> 		<span style="font-size: 14px\;"><span
  style="font-family: georgia,serif\;">Produced &amp\; Moderated by Sumner 
 Jules Glimcher</span></span></div> </div>   <div></div></div><div>--- This
  iCal file does *NOT* confirm registration.Event details subject to change
 . ---</div><div>--- Tendenci&reg\; Software by <a href="https://www.tenden
 ci.com">tendenci.com</a> - The Open Source AMS for Associations ---</div>
BEGIN:VALARM
TRIGGER:-PT30M
ACTION:DISPLAY
DESCRIPTION:Reminder
END:VALARM
END:VEVENT
END:VCALENDAR
