BEGIN:VCALENDAR
VERSION:2.0
METHOD:PUBLISH
PRODID:-//Tendenci - The Open Source AMS for Associations//Tendenci Codeba
 se MIMEDIR//EN
BEGIN:VEVENT
DESCRIPTION:--- This iCal file does *NOT* confirm registration.\nEvent det
 ails subject to change. ---\nhttps://www.nyemmys.org/events/597/\n\nEvent 
 Title: Midmorning Exchange\nStart Date / Time: Jun 26, 2013 05:30 AM US/Ea
 stern\nLocation: \nSpeaker: \nMidmorning Exchange\n\nWednesday, June 26, 2
 013 ~ 9:30 &ndash\; 11:00 AM\nNY NATAS Office &ndash\; 1375 Broadway (betw
 een 37th and 38th Streets), 21st floor, Suite 2103 \n\nTable Reading &ndas
 h\; &ldquo\;Two Nights at Doolin&rdquo\;\n\nWritten, reworked and rewritte
 n by Louisa Burns Bisogno.\n\n \n\nPLEASE RSVP VIA EMAIL info@nyemmys.org 
 OR PHONE 212-459-3630, ext. 204.\n\nEvent produced by Ellen Muir.\n\n \n\n
 \n\n\n--- This iCal file does *NOT* confirm registration.Event details sub
 ject to change. ---\n\n--- By Tendenci - The Open Source AMS for Associati
 ons ---\n
UID:uid597@nyemmys.org
SUMMARY:Midmorning Exchange
DTSTART:20130626T093000Z
DTEND:20130626T110000Z
CLASS:PUBLIC
PRIORITY:5
DTSTAMP:20260420T022623Z
TRANSP:OPAQUE
SEQUENCE:0
X-ALT-DESC;FMTTYPE=text/html:<div>--- This iCal file does *NOT* confirm re
 gistration.Event details subject to change. ---</div><h1>Event Title: Midm
 orning Exchange</h1><div>https://www.nyemmys.org/events/597/</div><br /><d
 iv>When: Jun 26, 2013 05:30 AM US/Eastern</div><div>Speaker: </div><br /><
 div><h2><span style="font-size:16px"><span style="color:#800080"><strong>M
 idmorning Exchange</strong></span></span></h2>  <p><span style="color:#000
 000"><span style="font-family:arial,helvetica,sans-serif"><span style="fon
 t-size:14px"><strong>Wednesday, June 26, 2013 ~ 9:30 &ndash\; 11:00 AM<br>
  NY NATAS Office &ndash\; 1375 Broadway (between 37th and 38th Streets), 2
 1st floor, Suite 2103 </strong></span></span></span></p>  <p><strong style
 ="color:rgb(0, 0, 0)\; font-family:arial,helvetica,sans-serif\; font-size:
 12px">Table Reading &ndash\; &ldquo\;Two Nights at Doolin&rdquo\;</strong>
 </p>  <p><span style="color:rgb(0, 0, 0)\; font-family:arial,helvetica,san
 s-serif">Written, reworked and rewritten by Louisa Burns Bisogno.</span></
 p>  <p>&nbsp\;</p>  <p><span style="color:#008000"><span style="font-famil
 y:arial,helvetica,sans-serif"><strong>PLEASE RSVP VIA EMAIL</strong> </spa
 n></span><a href=""><span style="color:#008000"><strong>info@nyemmys.org</
 strong></span></a><span style="color:#008000"><span style="font-family:ari
 al,helvetica,sans-serif"><strong> OR PHONE </strong><strong>212-459-3630, 
 ext. 204.</strong></span></span></p>  <p><span style="color:rgb(0, 0, 0)\;
  font-family:arial,helvetica,sans-serif">Event produced by Ellen Muir.</sp
 an></p>  <p>&nbsp\;</p>   <div></div></div><div>--- This iCal file does *N
 OT* confirm registration.Event details subject to change. ---</div><div>--
 - Tendenci&reg\; Software by <a href="https://www.tendenci.com">tendenci.c
 om</a> - The Open Source AMS for Associations ---</div>
BEGIN:VALARM
TRIGGER:-PT30M
ACTION:DISPLAY
DESCRIPTION:Reminder
END:VALARM
END:VEVENT
END:VCALENDAR
