BEGIN:VCALENDAR
VERSION:2.0
METHOD:PUBLISH
PRODID:-//Tendenci - The Open Source AMS for Associations//Tendenci Codeba
 se MIMEDIR//EN
BEGIN:VEVENT
DESCRIPTION:--- This iCal file does *NOT* confirm registration.\nEvent det
 ails subject to change. ---\nhttps://www.nyemmys.org/events/564/\n\nEvent 
 Title: Professional Development Workshop with Jim Arnoff\nStart Date / Tim
 e: Feb 21, 2012 13:00 PM US/Eastern\nLocation: NY NATAS\nSpeaker: \nGoogle
 \nhttp://maps.google.com/maps?q=1375+Broadway,New York,NY,10018\n\nForecas
 t\nhttp://www.weather.com/weather/monthly/10018\n\n\n	\n		Professional Dev
 elopment Workshop with Jim Arnoff\n	\n		Date: Tuesday, February 21, 2012 \
 n		\n			Time: 6:00 PM &ndash\; 8:00 PM\n	\n	\n		Location: NY NATAS, 1375 B
 roadway (between 37thand 38thStreets), Suite 2103 (21stFloor)\n	\n		 \n	\n
 		Topic: &ldquo\;The Ultimate Confidence Building Workshop&rdquo\;\n	\n		 
 \n	\n		\n			Lack of confidence holding you back in your entertainment care
 er? Feeling intimidated when you speak at networking events? Whether you&#
 39\;re just starting out or looking to take your career to the next level,
  this interactive workshop by Certified Career Coach/Television Packaging 
 Agent Jim Arnoff will give you the insider&#39\;s techniques to embrace yo
 ur strengths, share your career passions with conviction and pitch with co
 nfidence. Gain tools to let go of the doubts, fears and inner voices which
  hold you back from taking your entertainment career to that next level.\n
 		 \n	\n		RESERVATIONS REQUIRED DUE TO BUILDING SECURITY. ALL NAMES MUST B
 E ON GUEST LIST. \n	\n		 \n	\n		Please RSVP via email at info@nyemmys.org 
 or call 212-459-3630 ext. 200\n	\n		FREE for all attendees!\n	\n		 \n	\n		
 Workshop produced by Jacqueline J. Gonzalez.\n\n\n\n\n\n--- This iCal file
  does *NOT* confirm registration.Event details subject to change. ---\n\n-
 -- By Tendenci - The Open Source AMS for Associations ---\n
UID:uid564@nyemmys.org
SUMMARY:Professional Development Workshop with Jim Arnoff
DTSTART:20120221T180000Z
DTEND:20120221T200000Z
CLASS:PUBLIC
PRIORITY:5
DTSTAMP:20260419T230657Z
TRANSP:OPAQUE
SEQUENCE:0
LOCATION:NY NATAS
X-ALT-DESC;FMTTYPE=text/html:<div>--- This iCal file does *NOT* confirm re
 gistration.Event details subject to change. ---</div><h1>Event Title: Prof
 essional Development Workshop with Jim Arnoff</h1><div>https://www.nyemmys
 .org/events/564/</div><br /><div>When: Feb 21, 2012 13:00 PM US/Eastern</d
 iv><div>Speaker: </div><br />NY NATAS<br />1375 Broadway<br />New York, NY
  10018<br /><div>http://maps.google.com/maps?q=1375+Broadway,New York,NY,1
 0018</div><br /><div>Forecast: http://www.weather.com/weather/monthly/1001
 8</div><br /><br /><div><div> 	<h2> 		<span style="font-size: 18px"><span 
 style="color: #800080"><strong>Professional Development Workshop with Jim 
 Arnoff</strong></span></span></h2> 	<div> 		<span style="font-size: 16px">
 <span style="color: #000"><strong>Date: Tuesday, February 21, 2012&nbsp\;<
 /strong></span></span> 		<div> 			<span style="font-size: 16px"><span styl
 e="color: #000"><strong>Time: </strong><strong>6:00 PM &ndash\; 8:00 PM</s
 trong></span></span></div> 	</div> 	<div> 		<span style="font-size: 16px">
 <span style="color: #000"><strong>Location: NY NATAS, 1375 Broadway (betwe
 en 37<sup>th</sup>and 38<sup>th</sup>Streets), Suite 2103 (21<sup>st</sup>
 Floor)</strong></span></span></div> 	<div> 		<span style="font-size: 16px"
 ><span style="color: #000">&nbsp\;</span></span></div> 	<div> 		<span styl
 e="font-size: 16px"><span style="color: #000"><strong>Topic: </strong>&ldq
 uo\;The Ultimate Confidence Building Workshop&rdquo\;</span></span></div> 
 	<div> 		<span style="font-size: 16px"><span style="color: #000">&nbsp\;</
 span></span></div> 	<div> 		<div> 			<span style="font-size: 16px"><span s
 tyle="color: #000">Lack of confidence holding you back in your entertainme
 nt career? Feeling intimidated when you speak at networking events? Whethe
 r you&#39\;re just starting out or looking to take your career to the next
  level, this interactive workshop by Certified Career Coach/Television Pac
 kaging Agent Jim Arnoff will give you the insider&#39\;s techniques to emb
 race your strengths, share your career passions with conviction and pitch 
 with confidence. Gain tools to let go of the doubts, fears and inner voice
 s which hold you back from taking your entertainment career to that next l
 evel.</span></span></div> 		<span style="font-size: 14px"><span style="col
 or: #000">&nbsp\;</span></span></div> 	<div> 		<span style="color: #008000
 "><span style="font-size: 14px"><strong>RESERVATIONS REQUIRED DUE TO BUILD
 ING SECURITY. ALL NAMES MUST BE ON GUEST LIST. </strong></span></span></di
 v> 	<div> 		&nbsp\;</div> 	<div> 		<span style="color: #008000"><span styl
 e="font-size: 14px"><strong>Please RSVP via email at </strong><a href="mai
 lto:info@nyemmys.org" title="blocked::mailto:info@nyemmys.org"><strong>inf
 o@nyemmys.org</strong></a>&nbsp\;<strong>or call 212-459-3630 ext. 200</st
 rong></span></span></div> 	<div> 		<span style="color: #008000"><span styl
 e="font-size: 14px"><strong>FREE for all attendees!</strong></span></span>
 </div> 	<div> 		<span style="font-size: 14px"><span style="color: #000">&n
 bsp\;</span></span></div> 	<div> 		<span style="font-size: 14px"><span sty
 le="color: #000">Workshop produced by Jacqueline J. Gonzalez.</span></span
 ></div> </div>   <div></div></div><div>--- This iCal file does *NOT* confi
 rm registration.Event details subject to change. ---</div><div>--- Tendenc
 i&reg\; Software by <a href="https://www.tendenci.com">tendenci.com</a> - 
 The Open Source AMS for Associations ---</div>
BEGIN:VALARM
TRIGGER:-PT30M
ACTION:DISPLAY
DESCRIPTION:Reminder
END:VALARM
END:VEVENT
END:VCALENDAR
