BEGIN:VCALENDAR
VERSION:2.0
METHOD:PUBLISH
PRODID:-//Tendenci - The Open Source AMS for Associations//Tendenci Codeba
 se MIMEDIR//EN
BEGIN:VEVENT
DESCRIPTION:--- This iCal file does *NOT* confirm registration.\nEvent det
 ails subject to change. ---\nhttps://www.nyemmys.org/events/546/\n\nEvent 
 Title: The 57th New York Emmy Awards Gala\nStart Date / Time: Mar 30, 2014
  13:30 PM US/Eastern\nLocation: \nSpeaker: \nYou are cordially invited to 
 the 57th Annual New York&reg\; Awards Gala   Recognizing the outstanding w
 ork of New York television&rsquo\;s finest media professionals!\n\nTickets
  are available for our 57th Annual New York Emmy&reg\; Awards. Event Detai
 ls follow.\n\nTHE DEADLINE TO PLACE YOUR ORDER IS FRIDAY, MARCH 21st!\n\nF
 or additional gala information as it becomes available, please visit our w
 ebsite, www.nyemmys.org.\n\nSUNDAY, MARCH 30, 2014\n\nMarriott Marquis ~ T
 imes Square ~ Broadway Ballroom\n\n5 p.m. Cocktail Reception\n6 p.m. Dinne
 r\n7 p.m. Awards Presentation\n\nThe event is BLACK-TIE.\n\nAudience: 1,00
 0 television and media professionals including many familiar faces from ne
 ws, entertainment, sports, advertising agencies, the industry&rsquo\;s top
  production people...the best and brightest in the business. These are the
  most important individuals in New York media all on hand to salute the ou
 tstanding accomplishments of their peers.\n\nOnMarch 30th, The New York Ch
 apter of the National Academy of Television Arts and Sciences will recogni
 ze outstanding achievement, encourage the pursuit of excellence, and promo
 te the highest standards of quality in the arts, crafts, and sciences of t
 elevision by conferring the industry&#39\;s classic and most coveted peer-
 recognition symbol of distinction, the Emmy&reg\;.\n\nTickets are NOW avai
 lable!\n\nDeadline to place your ticket and table requests: Friday, March 
 21, 2014.\n\nGala Ticket / Table Rates:\n\nTable of Ten: $4,000\n\nIndivid
 ual Ticket &ndash\; Non-Member Rate: $400\n\nIndividual Ticket &ndash\; NY
  NATAS Member Rate: $350 **Members in good standing through March 30th are
  eligible to purchase two (2) tickets at the NY NATAS member rate.\n\nPlea
 se note: We can accommodate up to 12 guests (maximum&hellip\;no exceptions
 ) at a table. Each additional seat is simply $400 each.\n\n \n\nPlease con
 tact Lauren Loverde to place your ticket or table reservations: (212) 459-
 3630 ext. 201 or via email at awards@nyemmys.org.\n\n \n\n\n\n\n--- This i
 Cal file does *NOT* confirm registration.Event details subject to change. 
 ---\n\n--- By Tendenci - The Open Source AMS for Associations ---\n
UID:uid546@nyemmys.org
SUMMARY:The 57th New York Emmy Awards Gala
DTSTART:20140330T173000Z
DTEND:20140330T230000Z
CLASS:PUBLIC
PRIORITY:5
DTSTAMP:20260420T053100Z
TRANSP:OPAQUE
SEQUENCE:0
X-ALT-DESC;FMTTYPE=text/html:<div>--- This iCal file does *NOT* confirm re
 gistration.Event details subject to change. ---</div><h1>Event Title: The 
 57th New York Emmy Awards Gala</h1><div>https://www.nyemmys.org/events/546
 /</div><br /><div>When: Mar 30, 2014 13:30 PM US/Eastern</div><div>Speaker
 : </div><br /><div><h2><span style="color:#800080"><strong>You are cordial
 ly invited to the 57th&nbsp\;Annual New York&reg\; Awards Gala&nbsp\; &nbs
 p\;</strong><em><strong>Recognizing the outstanding work of New York telev
 ision&rsquo\;s finest media professionals!</strong></em></span></h2>  <p><
 span style="color:#000000"><strong>Tickets are available for our 57th Annu
 al New York Emmy&reg\; Awards. Event Details follow.</strong></span></p>  
 <p><strong><span style="color:red">THE DEADLINE TO PLACE YOUR ORDER IS FRI
 DAY, MARCH 21st!</span></strong></p>  <p><span style="color:#000000">For a
 dditional gala information as it becomes available, please visit our websi
 te,&nbsp\;</span><a href="http://www.nyemmys.org/" target="_blank" title="
 http://www.nyemmys.org/"><span style="color:#000000">www.nyemmys.org</span
 ></a><span style="color:#000000">.</span></p>  <p><span style="color:#0000
 00"><strong style="color:rgb(0, 0, 0)\; font-size:12px">SUNDAY, MARCH 30, 
 2014</strong></span></p>  <p><span style="color:#000000">Marriott Marquis 
 ~&nbsp\;Times Square ~ Broadway Ballroom</span></p>  <p><span style="color
 :#000000">5 p.m. Cocktail Reception<br> 6 p.m. Dinner<br> 7 p.m. Awards Pr
 esentation</span></p>  <p><span style="color:#000000">The event is&nbsp\;<
 strong style="color:rgb(0, 0, 0)\; font-size:12px">BLACK-TIE</strong>.</sp
 an></p>  <p><span style="color:#000000"><strong style="color:rgb(0, 0, 0)\
 ; font-size:12px">Audience:</strong>&nbsp\;1,000 television and media prof
 essionals including many familiar faces from news, entertainment, sports, 
 advertising agencies, the industry&rsquo\;s top production people...the be
 st and brightest in the business. These are the most important individuals
  in New York media all on hand to salute the outstanding accomplishments o
 f their peers.</span></p>  <p><span style="color:#000000">OnMarch 30th, Th
 e New York Chapter of the National Academy of Television Arts and Sciences
  will recognize outstanding achievement, encourage the pursuit of excellen
 ce, and promote the highest standards of quality in the arts, crafts, and 
 sciences of television by conferring the industry&#39\;s classic and most 
 coveted peer-recognition symbol of distinction, the Emmy&reg\;.</span></p>
   <p><span style="color:#000000"><strong style="color:rgb(0, 0, 0)\; font-
 size:12px">Tickets are NOW available!</strong></span></p>  <p><span style=
 "color:#000000"><strong style="color:rgb(0, 0, 0)\; font-size:12px">Deadli
 ne to place your ticket and table requests: Friday, March 21, 2014.</stron
 g></span></p>  <p><span style="color:#000000"><u style="color:rgb(0, 0, 0)
 \; font-size:12px">Gala Ticket / Table Rates:</u></span></p>  <p><span sty
 le="color:#000000">Table of Ten: $4,000</span></p>  <p><span style="color:
 #000000">Individual Ticket &ndash\; Non-Member Rate: $400</span></p>  <p><
 span style="color:#000000">Individual Ticket &ndash\; NY NATAS Member Rate
 : $350&nbsp\;**Members in good standing through March 30th are eligible to
  purchase two (2) tickets at the NY NATAS member rate.</span></p>  <p><spa
 n style="color:#000000"><em>Please note: We can accommodate up to 12 guest
 s (maximum&hellip\;no exceptions) at a table. Each additional seat is simp
 ly $400 each.</em></span></p>  <p><span style="color:#000000">&nbsp\;</spa
 n></p>  <p><span style="color:#000000">Please contact Lauren Loverde to pl
 ace your ticket or table reservations: (212) 459-3630 ext. 201 or via emai
 l at&nbsp\;</span><a href="mailto:awards@nyemmys.org"><span style="color:#
 000000">awards@nyemmys.org</span></a><span style="color:#000000">.</span><
 /p>  <p><span style="color:rgb(0, 0, 0)">&nbsp\;</span></p>   <div></div><
 /div><div>--- This iCal file does *NOT* confirm registration.Event details
  subject to change. ---</div><div>--- Tendenci&reg\; Software by <a href="
 https://www.tendenci.com">tendenci.com</a> - The Open Source AMS for Assoc
 iations ---</div>
BEGIN:VALARM
TRIGGER:-PT30M
ACTION:DISPLAY
DESCRIPTION:Reminder
END:VALARM
END:VEVENT
END:VCALENDAR
