BEGIN:VCALENDAR
VERSION:2.0
METHOD:PUBLISH
PRODID:-//Tendenci - The Open Source AMS for Associations//Tendenci Codeba
 se MIMEDIR//EN
BEGIN:VEVENT
DESCRIPTION:--- This iCal file does *NOT* confirm registration.\nEvent det
 ails subject to change. ---\nhttps://www.nyemmys.org/events/53/\n\nEvent T
 itle: What We're Looking For\nStart Date / Time: Jan 24, 2007 13:15 PM US/
 Eastern\nLocation: NY NATAS\nSpeaker: Keith Cox\nCoffee at 6:15 PM\; Progr
 am at 6:30 PM \nLocation: NY NATAS office ~ 1375 Broadway (37th &amp\; 38t
 h St.), 21st Fl. Suite 2103\nFor reservations Call 212 459.3630 ext. 204\n
 Event Produced by Ellen Muir  \nFree to Members\; $15 for those without cu
 rrent membership\nRESERVATIONS REQUIRED DUE TO BUILDING SECURITY. ALL NAME
 S MUST BE ON GUEST LIST. RSVP via email kjensen@nyemmys.org or CALL 212-45
 9-3630 ext. 204\n\n\n\n--- This iCal file does *NOT* confirm registration.
 Event details subject to change. ---\n\n--- By Tendenci - The Open Source 
 AMS for Associations ---\n
UID:uid53@nyemmys.org
SUMMARY:What We're Looking For
DTSTART:20070124T181500Z
DTEND:20070124T193000Z
CLASS:PUBLIC
PRIORITY:5
DTSTAMP:20260419T161812Z
TRANSP:OPAQUE
SEQUENCE:0
LOCATION:NY NATAS
X-ALT-DESC;FMTTYPE=text/html:<div>--- This iCal file does *NOT* confirm re
 gistration.Event details subject to change. ---</div><h1>Event Title: What
  We're Looking For</h1><div>https://www.nyemmys.org/events/53/</div><br />
 <div>When: Jan 24, 2007 13:15 PM US/Eastern</div><div>Speaker: Keith Cox</
 div><br /><div><p><b><font face="Verdana" size="2">Coffee at 6:15 PM\; Pro
 gram at 6:30 PM </font></b></p> <p><b><font face="Verdana" size="2">Locati
 on: NY NATAS office ~ 1375 Broadway (37th &amp\; 38th St.), 21st Fl. Suite
  2103</font></b></p> <p><b><font face="Verdana" size="2">For reservations&
 nbsp\;Call 212 459.3630 ext. 204</font></b></p> <p><b><font face="Verdana"
  size="2">Event Produced by Ellen Muir&nbsp\; </font></b></p> <p><b><font 
 face="Verdana" size="2">Free to Members\; $15 for those without current me
 mbership</font></b></p> <p><b><font face="Verdana" size="2">RESERVATIONS R
 EQUIRED DUE TO BUILDING SECURITY. ALL NAMES MUST BE ON GUEST LIST. RSVP vi
 a email </font></b><a href="mailto:kjensen@nyemmys.org"><font face="Verdan
 a" size="2"><b>kjensen@nyemmys.org</b></font></a><b><font face="Verdana" s
 ize="2"> or CALL 212-459-3630 ext. 204</font></b></p>  <div></div></div><d
 iv>--- This iCal file does *NOT* confirm registration.Event details subjec
 t to change. ---</div><div>--- Tendenci&reg\; Software by <a href="https:/
 /www.tendenci.com">tendenci.com</a> - The Open Source AMS for Associations
  ---</div>
BEGIN:VALARM
TRIGGER:-PT30M
ACTION:DISPLAY
DESCRIPTION:Reminder
END:VALARM
END:VEVENT
END:VCALENDAR
