BEGIN:VCALENDAR
VERSION:2.0
METHOD:PUBLISH
PRODID:-//Tendenci - The Open Source AMS for Associations//Tendenci Codeba
 se MIMEDIR//EN
BEGIN:VEVENT
DESCRIPTION:--- This iCal file does *NOT* confirm registration.\nEvent det
 ails subject to change. ---\nhttps://www.nyemmys.org/events/515/\n\nEvent 
 Title: Midmorning Exchange\nStart Date / Time: Feb 06, 2013 04:30 AM US/Ea
 stern\nLocation: NY NATAS\nSpeaker: \nGoogle\nhttp://maps.google.com/maps?
 q=1375+Broadway,+Suite+2103,New York,NY,10018\n\nForecast\nhttp://www.weat
 her.com/weather/monthly/10018\n\n\n	\n		Midmorning Exchange\n	\n		Wednesda
 y, February 6, 2013 ~ 9:30 &ndash\; 11:00 AM\n		NY NATAS Office &ndash\; 1
 375 Broadway (between 37th and 38th Streets), 21st floor, Suite 2103\n	\n	
 	\n		\n	\n		Bill Carroll &ndash\;Vice President/Director of Programming, K
 atz Television Group\n	\n		\n		\n	\n		Topic: &ldquo\;Update on NATPE 2013 
 &ndash\; What&rsquo\;s Happening And Why&rdquo\;\n	\n		\n		\n	\n		PLEASE R
 SVP VIA EMAIL info@nyemmys.org OR PHONE 212-459-3630, ext. 204.\n	\n		\n		
 \n	\n		Event produced by Ellen Muir.\n\n\n\n\n\n--- This iCal file does *N
 OT* confirm registration.Event details subject to change. ---\n\n--- By Te
 ndenci - The Open Source AMS for Associations ---\n
UID:uid515@nyemmys.org
SUMMARY:Midmorning Exchange
DTSTART:20130206T093000Z
DTEND:20130206T110000Z
CLASS:PUBLIC
PRIORITY:5
DTSTAMP:20260420T020107Z
TRANSP:OPAQUE
SEQUENCE:0
LOCATION:NY NATAS
X-ALT-DESC;FMTTYPE=text/html:<div>--- This iCal file does *NOT* confirm re
 gistration.Event details subject to change. ---</div><h1>Event Title: Midm
 orning Exchange</h1><div>https://www.nyemmys.org/events/515/</div><br /><d
 iv>When: Feb 06, 2013 04:30 AM US/Eastern</div><div>Speaker: </div><br />N
 Y NATAS<br />1375 Broadway, Suite 2103<br />New York, NY 10018<br /><div>h
 ttp://maps.google.com/maps?q=1375+Broadway,+Suite+2103,New York,NY,10018</
 div><br /><div>Forecast: http://www.weather.com/weather/monthly/10018</div
 ><br /><br /><div><div> 	<h2> 		<span style="font-size:14px\;"><span style
 ="color: rgb(128, 0, 128)\;"><strong>Midmorning Exchange</strong></span></
 span></h2> 	<div> 		<span style="color:#000\;"><span style="font-size: 12p
 x\;"><span style="font-family: arial, helvetica, sans-serif\;"><strong>Wed
 nesday, February 6, </strong><strong>2013 ~ 9:30 &ndash\; 11:00 AM<br> 		N
 Y NATAS Office &ndash\; 1375 Broadway (between 37<sup>th</sup> and 38<sup>
 th</sup> Streets), 21<sup>st</sup> floor, Suite 2103</strong></span></span
 ></span></div> 	<div> 		<span style="color:#000\;"><span style="font-size:
  12px\;"><span style="font-family: arial, helvetica, sans-serif\;"><br> 		
 </span></span></span></div> 	<div> 		<span style="color:#000\;"><span styl
 e="font-size: 12px\;"><span style="font-family: arial, helvetica, sans-ser
 if\;"><strong>Bill Carroll &ndash\;</strong>Vice President/Director of Pro
 gramming, Katz Television Group</span></span></span></div> 	<div> 		<span 
 style="color:#000\;"><span style="font-size: 12px\;"><span style="font-fam
 ily: arial, helvetica, sans-serif\;"><br> 		</span></span></span></div> 	<
 div> 		<span style="color:#000\;"><span style="font-size: 12px\;"><span st
 yle="font-family: arial, helvetica, sans-serif\;"><strong>Topic:&nbsp\;</s
 trong>&ldquo\;Update on NATPE 2013 &ndash\; What&rsquo\;s Happening And Wh
 y&rdquo\;</span></span></span></div> 	<div> 		<span style="color:#000\;"><
 span style="font-size: 12px\;"><span style="font-family: arial, helvetica,
  sans-serif\;"><br> 		</span></span></span></div> 	<div> 		<span style="co
 lor:#008000\;"><span style="font-size: 12px\;"><span style="font-family: a
 rial, helvetica, sans-serif\;"><strong>PLEASE RSVP VIA EMAIL&nbsp\;</stron
 g><strong><a href="">info@nyemmys.org</a>&nbsp\;</strong><strong>OR PHONE 
 </strong><strong>212-459-3630, ext. 204.</strong></span></span></span></di
 v> 	<div> 		<span style="color:#000\;"><span style="font-size: 12px\;"><sp
 an style="font-family: arial, helvetica, sans-serif\;"><br> 		</span></spa
 n></span></div> 	<div> 		<span style="color:#000\;"><span style="font-size
 : 12px\;"><span style="font-family: arial, helvetica, sans-serif\;">Event 
 produced by Ellen Muir.</span></span></span></div> </div>   <div></div></d
 iv><div>--- This iCal file does *NOT* confirm registration.Event details s
 ubject to change. ---</div><div>--- Tendenci&reg\; Software by <a href="ht
 tps://www.tendenci.com">tendenci.com</a> - The Open Source AMS for Associa
 tions ---</div>
BEGIN:VALARM
TRIGGER:-PT30M
ACTION:DISPLAY
DESCRIPTION:Reminder
END:VALARM
END:VEVENT
END:VCALENDAR
