BEGIN:VCALENDAR
VERSION:2.0
METHOD:PUBLISH
PRODID:-//Tendenci - The Open Source AMS for Associations//Tendenci Codeba
 se MIMEDIR//EN
BEGIN:VEVENT
DESCRIPTION:--- This iCal file does *NOT* confirm registration.\nEvent det
 ails subject to change. ---\nhttps://www.nyemmys.org/events/466/\n\nEvent 
 Title: FILM SCREENING: Charlie St. Cloud\nStart Date / Time: Jul 29, 2010 
 15:00 PM US/Eastern\nLocation: \nSpeaker: \n\n	\n		FILM SCREENING: Charlie
  St. Cloud\n	\n		 \n	\n		NY NATAS members plus one adult guest are invited
  to attend a LIMITEDSEATINGscreening from Universal Pictures of Charlie St
 . Cloud.\n	\n		 \n	\n		\n			This invitation is non-transferable and you mu
 st receive an email response to attend!\n			\n			RSVP by email only to Phy
 llis Bishop at pbscreenings@gmail.com. You must include your name, current
  NY NATAS member number andthe FILM title in your email. Please specify if
  you are bringing ONE guest.\n		\n			 \n		\n			You must receive a reply em
 ail to attend.\n		\n			 \n		\n			Screening Date: Thursday, 29th July, 2010
  \n		\n			Screening Arrival Time 6 PM\n		\n			Screening Start Time: 7 PM\n
 		\n			Cinema: AMC\n		\n			Address: W. 68th Street and Broadway\n		\n			Ch
 eck in: Please go to the cinema lobby and check in with Phyllis\n		\n			 \
 n		\n			Director: Burr Steers\n		\n			 \n		\n			Writers: Craig Pearce and 
 Lewis Colick from the Ben Sherwood novel &ldquo\;The Death and Life of Cha
 rlie St. Cloud&rdquo\;\n			\n			Cast:  Zac Efron (Charlie St. Cloud), Aman
 da Crew (Tess Carroll), Donal Logue (Tink Weatherbee), Kim Basinger (Clair
 e St. Cloud).  \n		\n			\n			Synopsis: Charlie St. Cloud is a young man ov
 ercome by grief at the death of his younger brother. So much so that he ta
 kes a job as caretaker of the cemetery in which his brother is buried. Cha
 rlie has a special lasting bond with his brother though, as he can see him
 . Charlie meets up with his brother (Sam) each night to play catch and tal
 k. Then, a girl comes into Charlie&#39\;s life and he must choose between 
 keeping a promise he made to Sam, or going after the girl he loves.\n		\n	
 		\n			MPAA RATING: PG-13.\n			RUN TIME: 109.\n			RELEASE DATE: July 30, 2
 010\n		\n			 \n	\n\n\n\n\n\n--- This iCal file does *NOT* confirm registra
 tion.Event details subject to change. ---\n\n--- By Tendenci - The Open So
 urce AMS for Associations ---\n
UID:uid466@nyemmys.org
SUMMARY:FILM SCREENING: Charlie St. Cloud
DTSTART:20100729T190000Z
DTEND:20100729T210000Z
CLASS:PUBLIC
PRIORITY:5
DTSTAMP:20260419T163113Z
TRANSP:OPAQUE
SEQUENCE:0
X-ALT-DESC;FMTTYPE=text/html:<div>--- This iCal file does *NOT* confirm re
 gistration.Event details subject to change. ---</div><h1>Event Title: FILM
  SCREENING: Charlie St. Cloud</h1><div>https://www.nyemmys.org/events/466/
 </div><br /><div>When: Jul 29, 2010 15:00 PM US/Eastern</div><div>Speaker:
  </div><br /><div><div> 	<div> 		<strong><strong>FILM SCREENING: <em>Charl
 ie St. Cloud</em></strong></strong></div> 	<div> 		&nbsp\;</div> 	<div> 		
 NY NATAS members plus one adult guest are invited to attend a LIMITEDSEATI
 NGscreening from&nbsp\;Universal Pictures of <em>Charlie St. Cloud</em><em
 ><em>.</em></em></div> 	<div> 		&nbsp\;</div> 	<div> 		<div> 			<strong><s
 trong>This invitation is non-transferable and you must receive an email re
 sponse to attend!</strong></strong><br> 			<br> 			RSVP by email only to P
 hyllis Bishop at <strong><a href="mailto:pbscreenings@gmail.com" title="ma
 ilto:pbscreenings@gmail.com">pbscreenings@gmail.com</a></strong>. You must
  include your name, current NY NATAS member number andthe FILM title in yo
 ur email. Please specify if you are bringing ONE guest.</div> 		<div> 			&
 nbsp\;</div> 		<div> 			You must receive a reply email to attend.</div> 		
 <div> 			&nbsp\;</div> 		<div> 			<strong>Screening Date: Thursday, 29th J
 uly, 2010 </strong></div> 		<div> 			Screening Arrival Time 6 PM</div> 		<
 div> 			Screening Start Time: 7 PM</div> 		<div> 			Cinema: AMC</div> 		<d
 iv> 			Address: W. 68th Street and Broadway</div> 		<div> 			Check in: Ple
 ase go to the cinema lobby and check in with Phyllis</div> 		<div> 			&nbs
 p\;</div> 		<div> 			Director: Burr Steers</div> 		<div> 			&nbsp\;</div> 
 		<div> 			Writers: Craig Pearce and Lewis Colick from the Ben Sherwood no
 vel &ldquo\;The Death and Life of Charlie St. Cloud&rdquo\;<br> 			<br> 		
 	Cast: &nbsp\;Zac Efron (Charlie St. Cloud), Amanda Crew (Tess Carroll), D
 onal Logue (Tink Weatherbee), Kim Basinger (Claire St. Cloud). &nbsp\;</di
 v> 		<div> 			<br> 			Synopsis: Charlie St. Cloud is a young man overcome 
 by grief at the death of his younger brother. So much so that he takes a j
 ob as caretaker of the cemetery in which his brother is buried. Charlie ha
 s a special lasting bond with his brother though, as he can see him. Charl
 ie meets up with his brother (Sam) each night to play catch and talk. Then
 , a girl comes into Charlie&#39\;s life and he must choose between keeping
  a promise he made to Sam, or going after the girl he loves.</div> 		<div>
  			<br> 			MPAA RATING: PG-13.<br> 			RUN TIME: 109.<br> 			RELEASE DATE:
  July 30, 2010</div> 		<div> 			&nbsp\;</div> 	</div> </div>   <div></div>
 </div><div>--- This iCal file does *NOT* confirm registration.Event detail
 s subject to change. ---</div><div>--- Tendenci&reg\; Software by <a href=
 "https://www.tendenci.com">tendenci.com</a> - The Open Source AMS for Asso
 ciations ---</div>
BEGIN:VALARM
TRIGGER:-PT30M
ACTION:DISPLAY
DESCRIPTION:Reminder
END:VALARM
END:VEVENT
END:VCALENDAR
