BEGIN:VCALENDAR
VERSION:2.0
METHOD:PUBLISH
PRODID:-//Tendenci - The Open Source AMS for Associations//Tendenci Codeba
 se MIMEDIR//EN
BEGIN:VEVENT
DESCRIPTION:--- This iCal file does *NOT* confirm registration.\nEvent det
 ails subject to change. ---\nhttps://www.nyemmys.org/events/45/\n\nEvent T
 itle: Symposium: The Tiger Woods Effect\nStart Date / Time: Mar 04, 2010 1
 4:00 PM US/Eastern\nLocation: \nSpeaker: \nCardozo Arts &amp\; Entertainme
 nt Law JournalPRESENTS\n \nThe Tiger Woods Effect: The Uncertain and Turbu
 lent Future of Endorsement Deals, Morals Clauses, and Reverse-Morals Claus
 es?\n \n \nTiger Woods' abrupt and unexpected freefall from golf heaven an
 d his subsequent precipitous fall down the endorsement deal mountain both 
 force the media and law spotlight on to the uncertain and turbulent future
  of endorsement deals, morals clauses, and reverse-morals clauses.\n \nJoi
 n our Symposium speakers and guests who will critically evaluate this "Tig
 er Woods Effect" on the billion-dollar endorsement deal industry.\n \nThur
 sday, March 4, 20107:00 PM &#8211\; 8:30 PMReception following program\n \
 nFeatured Panelists:Fernando Pinguelo (moderator): Partner, Norris McLaugh
 lin &amp\; Marcus and Co-Chair of its Entertainment Law GroupMichael McCan
 n (keynote speaker): Legal Analyst, Sports Illustrated\; Associate Profess
 or of Law, Vermont Law SchoolDorothy Crenshaw PR/Brand Strategist\; CEO, C
 reative Director, Crenshaw CommunicationsEvelyn M. Tollinche Senior Counse
 l, Business &amp\; Legal Affairs Group, MTV NetworksRoman Matatov Forensic
  Accounting Manager, Marcum, LLP\n \nBenjamin N. Cardozo School of Law, Ye
 shiva University55 Fifth Ave. @ 12th St.Moot Court Room\n \nRSVP by March 
 1, 2010 to execaelj@gmail.com.Admission is free, but seating is limited to
  those who register. Please indicate whether you seek CLE credit.\n\n\n\n-
 -- This iCal file does *NOT* confirm registration.Event details subject to
  change. ---\n\n--- By Tendenci - The Open Source AMS for Associations ---
 \n
UID:uid45@nyemmys.org
SUMMARY:Symposium: The Tiger Woods Effect
DTSTART:20100304T190000Z
DTEND:20100304T203000Z
CLASS:PUBLIC
PRIORITY:5
DTSTAMP:20260419T145430Z
TRANSP:OPAQUE
SEQUENCE:0
X-ALT-DESC;FMTTYPE=text/html:<div>--- This iCal file does *NOT* confirm re
 gistration.Event details subject to change. ---</div><h1>Event Title: Symp
 osium: The Tiger Woods Effect</h1><div>https://www.nyemmys.org/events/45/<
 /div><br /><div>When: Mar 04, 2010 14:00 PM US/Eastern</div><div>Speaker: 
 </div><br /><div><div align="center"><strong><em><span style="font-family:
  Georgia\; color: #000000\; font-size: 12pt">Cardozo Arts &amp\; Entertain
 ment Law Journal</span><br></em></strong><span style="font-family: Georgia
 \; color: #000000\; font-size: 12pt">PRESENTS</span></div> <div align="cen
 ter">&nbsp\;</div> <div align="center"><em><strong><span style="font-famil
 y: Georgia\; color: #ff0000\; font-size: 12pt">The Tiger Woods Effect: The
  Uncertain and Turbulent Future of </span><span style="font-family: Georgi
 a\; color: #ff0000\; font-size: 12pt">Endorsement Deals, Morals Clauses, a
 nd Reverse-Morals Clauses?</span></strong></em></div> <div>&nbsp\;</div> <
 div>&nbsp\;</div> <div><span style="font-family: Georgia\; color: #000000\
 ; font-size: 12pt">Tiger Woods' abrupt and unexpected freefall from golf h
 eaven and his subsequent precipitous fall down the endorsement deal mounta
 in both force the media and law spotlight on to the uncertain and turbulen
 t future of endorsement deals, morals clauses, and reverse-morals clauses.
 </span></div> <div>&nbsp\;</div> <div><span style="font-family: Georgia\; 
 color: #000000\; font-size: 12pt">Join our Symposium speakers and guests w
 ho will critically evaluate this "Tiger Woods Effect" on the billion-dolla
 r endorsement deal industry.</span></div> <div>&nbsp\;</div> <div><span st
 yle="font-family: Georgia\; color: #000000\; font-size: 12pt">Thursday, Ma
 rch 4, 2010</span><br><span style="font-family: Georgia\; color: #000000\;
  font-size: 12pt">7:00&nbsp\;PM &#8211\; 8:30 PM</span><br><span style="fo
 nt-family: Georgia\; color: #000000\; font-size: 12pt">Reception following
  program</span></div> <div>&nbsp\;</div> <div><em><span style="font-family
 : Georgia\; color: #0000ff\; font-size: 12pt"><strong>Featured Panelists:<
 /strong></span><br></em><span style="font-family: Georgia\; color: #0000ff
 \; font-size: 12pt"><strong><u>Fernando Pinguelo</u></strong> (moderator):
  Partner, Norris McLaughlin &amp\; Marcus and Co-Chair of its Entertainmen
 t Law Group</span><br><span style="font-family: Georgia\; color: #0000ff\;
  font-size: 12pt"><strong><u>Michael McCann</u></strong> (keynote speaker)
 : Legal Analyst, Sports Illustrated\; Associate Professor of Law, Vermont 
 Law School</span><br><span style="font-family: Georgia\; color: #0000ff\; 
 font-size: 12pt"><strong><u>Dorothy Crenshaw</u></strong> PR/Brand Strateg
 ist\; CEO, Creative Director, Crenshaw Communications</span><br><span styl
 e="font-family: Georgia\; color: #0000ff\; font-size: 12pt"><strong><u>Eve
 lyn M. Tollinche</u></strong> Senior Counsel, Business &amp\; Legal Affair
 s Group, MTV Networks</span><br><span style="font-family: Georgia\; color:
  #0000ff\; font-size: 12pt"><strong><u>Roman Matatov</u></strong> Forensic
  Accounting Manager, Marcum, LLP</span></div> <div>&nbsp\;</div> <div><spa
 n style="font-family: Georgia\; color: #000000\; font-size: 12pt"><strong>
 <br>Benjamin N. Cardozo School of Law, Yeshiva University</strong></span><
 br><span style="font-family: Georgia\; color: #000000\; font-size: 12pt">5
 5 Fifth Ave. @ 12th St.</span><br><span style="font-family: Georgia\; colo
 r: #000000\; font-size: 12pt">Moot Court Room</span></div> <div>&nbsp\;</d
 iv> <div><span style="font-family: Georgia\; color: #000000\; font-size: 1
 2pt">RSVP by March 1, 2010 to </span><a href="&#109\;&#97\;&#105\;&#108\;&
 #116\;&#111\;&#58\;&#101\;&#120\;&#101\;&#99\;&#97\;&#101\;&#108\;&#106\;&
 #64\;&#103\;&#109\;&#97\;&#105\;&#108\;&#46\;&#99\;&#111\;&#109\;"><span s
 tyle="font-family: Georgia\; color: #0000ff\; font-size: 12pt"><strong>exe
 caelj@gmail.com</strong></span></a><span style="font-family: Georgia\; fon
 t-size: 12pt">.</span><br><span style="font-family: Georgia\; color: #0000
 00\; font-size: 12pt">Admission is free, but seating is limited to those w
 ho register. </span><span style="font-family: Georgia\; color: #000000\; f
 ont-size: 12pt">Please indicate whether you seek CLE credit.</span><br></d
 iv>  <div></div></div><div>--- This iCal file does *NOT* confirm registrat
 ion.Event details subject to change. ---</div><div>--- Tendenci&reg\; Soft
 ware by <a href="https://www.tendenci.com">tendenci.com</a> - The Open Sou
 rce AMS for Associations ---</div>
BEGIN:VALARM
TRIGGER:-PT30M
ACTION:DISPLAY
DESCRIPTION:Reminder
END:VALARM
END:VEVENT
END:VCALENDAR
