BEGIN:VCALENDAR
VERSION:2.0
METHOD:PUBLISH
PRODID:-//Tendenci - The Open Source AMS for Associations//Tendenci Codeba
 se MIMEDIR//EN
BEGIN:VEVENT
DESCRIPTION:--- This iCal file does *NOT* confirm registration.\nEvent det
 ails subject to change. ---\nhttps://www.nyemmys.org/events/411/\n\nEvent 
 Title: NO EVENT\nStart Date / Time: May 14, 2008 14:00 PM US/Eastern\nLoca
 tion: NY NATAS\nSpeaker: \nGoogle\nhttp://maps.google.com/maps?q=1375+Broa
 dway,+Suite+2103+(between+37th+and+38th+Streets),New York,NY,10018\n\nFore
 cast\nhttp://www.weather.com/weather/monthly/10018\n\nThis Early Evening S
 eminar produced by Ellen Muir has been rescheduled:\n\nKeith Cox (Executiv
 e Vice President, Programming &amp\; Development, TV Land) will be speakin
 g on Wednesday, June 11th at 6:00 PM. Please see the calendar listing on J
 une 11th for more details!\n\n\n\n\n--- This iCal file does *NOT* confirm 
 registration.Event details subject to change. ---\n\n--- By Tendenci - The
  Open Source AMS for Associations ---\n
UID:uid411@nyemmys.org
SUMMARY:NO EVENT
DTSTART:20080514T180000Z
DTEND:20080514T200000Z
CLASS:PUBLIC
PRIORITY:5
DTSTAMP:20260419T195250Z
TRANSP:OPAQUE
SEQUENCE:0
LOCATION:NY NATAS
X-ALT-DESC;FMTTYPE=text/html:<div>--- This iCal file does *NOT* confirm re
 gistration.Event details subject to change. ---</div><h1>Event Title: NO E
 VENT</h1><div>https://www.nyemmys.org/events/411/</div><br /><div>When: Ma
 y 14, 2008 14:00 PM US/Eastern</div><div>Speaker: </div><br />NY NATAS<br 
 />1375 Broadway, Suite 2103 (between 37th and 38th Streets)<br />New York,
  NY 10018<br /><div>http://maps.google.com/maps?q=1375+Broadway,+Suite+210
 3+(between+37th+and+38th+Streets),New York,NY,10018</div><br /><div>Foreca
 st: http://www.weather.com/weather/monthly/10018</div><br /><br /><div><di
 v><span style="font-size: 12pt\; color: red"><strong style="color: #ff0000
 ">This Early Evening Seminar produced by Ellen Muir has been rescheduled:<
 br> <br> <span style="color: #0000ff"><span style="color: #000000">Keith C
 ox (Executive Vice President, Programming &amp\; Development, TV Land) wil
 l be speaking on Wednesday, June 11th at 6:00 PM. Please see the calendar 
 listing on June 11th for more details!</span></span></strong></span></div>
    <div></div></div><div>--- This iCal file does *NOT* confirm registratio
 n.Event details subject to change. ---</div><div>--- Tendenci&reg\; Softwa
 re by <a href="https://www.tendenci.com">tendenci.com</a> - The Open Sourc
 e AMS for Associations ---</div>
BEGIN:VALARM
TRIGGER:-PT30M
ACTION:DISPLAY
DESCRIPTION:Reminder
END:VALARM
END:VEVENT
END:VCALENDAR
