BEGIN:VCALENDAR
VERSION:2.0
METHOD:PUBLISH
PRODID:-//Tendenci - The Open Source AMS for Associations//Tendenci Codeba
 se MIMEDIR//EN
BEGIN:VEVENT
DESCRIPTION:--- This iCal file does *NOT* confirm registration.\nEvent det
 ails subject to change. ---\nhttps://www.nyemmys.org/events/336/\n\nEvent 
 Title: Meet the Filmmaker\nStart Date / Time: Jan 14, 2015 13:00 PM US/Eas
 tern\nLocation: NY NATAS\nSpeaker: \nMeet the Filmmaker: Paula Caplan\n\n&
 ldquo\;Is Anybody Listening?&rdquo\;\n\nDate: Wednesday, January 14, 2015\
 n\nLocation: NY NATAS, 1375 Broadway (between 37th and 38th Streets), Suit
 e 2103\n\nReception: 6:00-6:30 PM ~ Program: 6:30-8:00 PM\n\n \n\n*Free to
  NY NATAS Members!\n\n$15 for those without current NY NATAS membership.\n
 \n \n\nProduced &amp\; Moderated by Sumner Jules Glimcher.\n\n&ldquo\;Is A
 nybody Listening?&rdquo\;\n\nPaula J. Caplan grew up listening to &ndash\;
  but not remembering &ndash\; the stories her beloved father, Jerome A. Ca
 plan, told every December about the time he spent as Captain of an all-Bla
 ck artillery battery in The Battle of the Bulge. Her bewilderment about wh
 y she did not remember those stories led her to try to understand the expe
 riences of both military veterans and the nonveterans (like her) with whom
  they share their communities or even their homes. Through decades of work
  in the mental health system as a psychologist, she had learned to her sur
 prise that psychiatric diagnosis is not scientific and often harmful. When
  the wars in Afghanistan and Iraq began, she foresaw that their veterans w
 ould speedily be diagnosed as mentally ill rather than as experiencing the
  deeply human consequences of war, sexual assault in the military, and the
  culture shocks of going from civilian to military life and back again. Sh
 e has acted to try to stop this harmful pathologizing and advocate for hum
 ane, often community-based ways of offering help. What Col. (Ret.) David S
 utherland calls &ldquo\;the epidemic of disconnection&rdquo\; between vete
 rans and nonveterans leads to each group&rsquo\;s stereotypic views of the
  other that keep them apart and feed the isolation that leads to veterans&
 rsquo\; alarming rates of suicide, homelessness, substance abuse, and fami
 ly breakdown. Recognizing that the divide both arose from and helped maint
 ain the nation&rsquo\;s war illiteracy and even military illiteracy among 
 people of all political stripes, Caplan a dozen years ago began listening 
 to whatever any veterans wanted to tell her. That gave rise to The Welcome
  Johnny and Jane Home Project, which simply consists of pairing a (combat 
 or noncombat) veteran from any era and having the nonveteran only listen t
 o whatever the veteran wants to say. Both veterans and nonveterans describ
 e the sessions as community-based connections that are meaningful, helpful
 , even transformative for both. Using her interviews with veterans includi
 ng a 96-year-old, Black man who served with Captain Caplan\; Col. Sutherla
 nd\; and more recent veterans from Veterans in Film and Television\; as we
 ll as archival footage and photos and artist Amy Smith&rsquo\;s illustrati
 ons, Paula&rsquo\;s film takes us with her on her journey to understand ve
 terans and bridge the divides between them and others in the communities w
 here they live.  \n\nPaula J. Caplan, a clinical and research psychologist
 , is author of eleven nonfiction books and numerous awardwinning plays, an
  actor, director, and producer. Her book When Johnny and Jane Come Marchin
 g Home: How All of Us Can Help Veterans, won three national awards for non
 fiction, and her plays about veterans have won awards and been produced ac
 ross the United States and in Canada. She was a psychology professor at th
 e University of Toronto and has taught at Harvard University, where she is
  Associate at the DuBois Research Institute and did a two-year fellowship 
 in the Women and Public Policy Program of Harvard Kennedy School. She is h
 onored to be invited to do this event with the deservedly esteemed and gra
 cious Sumner Jules Glimcher.\n\nSpace is  limited.  You  must  RSVP  to  i
 nfo@nyemmys.org to reserve a seat\n\nPlease write &ldquo\;Is Anybody Liste
 ning?&rdquo\; in the Subject Box\n\n\n\n\n--- This iCal file does *NOT* co
 nfirm registration.Event details subject to change. ---\n\n--- By Tendenci
  - The Open Source AMS for Associations ---\n
UID:uid336@nyemmys.org
SUMMARY:Meet the Filmmaker
DTSTART:20150114T180000Z
DTEND:20150114T200000Z
CLASS:PUBLIC
PRIORITY:5
DTSTAMP:20260420T070100Z
TRANSP:OPAQUE
SEQUENCE:0
LOCATION:NY NATAS
X-ALT-DESC;FMTTYPE=text/html:<div>--- This iCal file does *NOT* confirm re
 gistration.Event details subject to change. ---</div><h1>Event Title: Meet
  the Filmmaker</h1><div>https://www.nyemmys.org/events/336/</div><br /><di
 v>When: Jan 14, 2015 13:00 PM US/Eastern</div><div>Speaker: </div><br /><d
 iv><h2><span style="color:#800080"><strong>Meet the Filmmaker: Paula Capla
 n</strong></span></h2>  <h2><span style="color:#800080"><strong>&ldquo\;Is
  Anybody Listening?&rdquo\;</strong></span></h2>  <p><span style="color:#0
 00000"><strong>Date: Wednesday, January 14, 2015</strong></span></p>  <p><
 span style="color:#000000"><strong>Location: NY NATAS, 1375 Broadway (betw
 een 37th and 38th Streets), Suite 2103</strong></span></p>  <p><span style
 ="color:#000000"><strong>Reception: 6:00-6:30 PM ~ Program: 6:30-8:00 PM</
 strong></span></p>  <p>&nbsp\;</p>  <p><span style="color:#000000">*Free t
 o NY NATAS Members!</span></p>  <p><span style="color:#000000">$15 for tho
 se without current NY NATAS membership.</span></p>  <p>&nbsp\;</p>  <p><sp
 an style="color:#000000">Produced &amp\; Moderated by Sumner Jules Glimche
 r.</span></p>  <p><span style="color:#000000"><strong><em>&ldquo\;Is Anybo
 dy Listening?&rdquo\;</em></strong></span></p>  <p><span style="color:#000
 000">Paula J. Caplan grew up listening to &ndash\; but not remembering &nd
 ash\; the stories her beloved father, Jerome A. Caplan, told every Decembe
 r about the time he spent as Captain of an all-Black artillery battery in 
 The Battle of the Bulge. Her bewilderment about why she did not remember t
 hose stories led her to try to understand the experiences of both military
  veterans and the nonveterans (like her) with whom they share their commun
 ities or even their homes. Through decades of work in the mental health sy
 stem as a psychologist, she had learned to her surprise that psychiatric d
 iagnosis is not scientific and often harmful. When the wars in Afghanistan
  and Iraq began, she foresaw that their veterans would speedily be diagnos
 ed as mentally ill rather than as experiencing the deeply human consequenc
 es of war, sexual assault in the military, and the culture shocks of going
  from civilian to military life and back again. She has acted to try to st
 op this harmful pathologizing and advocate for humane, often community-bas
 ed ways of offering help. What Col. (Ret.) David Sutherland calls &ldquo\;
 the epidemic of disconnection&rdquo\; between veterans and nonveterans lea
 ds to each group&rsquo\;s stereotypic views of the other that keep them ap
 art and feed the isolation that leads to veterans&rsquo\; alarming rates o
 f suicide, homelessness, substance abuse, and family breakdown. Recognizin
 g that the divide both arose from and helped maintain the nation&rsquo\;s 
 war illiteracy and even military illiteracy among people of all political 
 stripes, Caplan a dozen years ago began listening to whatever any veterans
  wanted to tell her. That gave rise to The Welcome Johnny and Jane Home Pr
 oject, which simply consists of pairing a (combat or noncombat) veteran fr
 om any era and having the nonveteran only listen to whatever the veteran w
 ants to say. Both veterans and nonveterans describe the sessions as commun
 ity-based connections that are meaningful, helpful, even transformative fo
 r both. Using her interviews with veterans including a 96-year-old, Black 
 man who served with Captain Caplan\; Col. Sutherland\; and more recent vet
 erans from Veterans in Film and Television\; as well as archival footage a
 nd photos and artist Amy Smith&rsquo\;s illustrations, Paula&rsquo\;s film
  takes us with her on her journey to understand veterans and bridge the di
 vides between them and others in the communities where they live. &nbsp\;<
 /span></p>  <p><span style="color:rgb(0, 0, 0)"><strong>Paula J. Caplan</s
 trong>, a clinical and research psychologist, is author of eleven nonficti
 on books and numerous awardwinning plays, an actor, director, and producer
 . Her book </span><em style="color:rgb(0, 0, 0)">When Johnny and Jane Come
  Marching Home: How All of Us Can Help Veterans</em><span style="color:rgb
 (0, 0, 0)">, won three national awards for nonfiction, and her plays about
  veterans have won awards and been produced across the United States and i
 n Canada. She was a psychology professor at the University of Toronto and 
 has taught at Harvard University, where she is Associate at the DuBois Res
 earch Institute and did a two-year fellowship in the Women and Public Poli
 cy Program of Harvard Kennedy School. She is honored to be invited to do t
 his event with the deservedly esteemed and gracious Sumner Jules Glimcher.
 </span></p>  <p><span style="color:#008000"><strong>Space is&nbsp\; limite
 d.&nbsp\; You&nbsp\; must&nbsp\; RSVP&nbsp\; to&nbsp\; </strong></span><a 
 href="mailto:info@nyemmys.org"><span style="color:#008000"><strong>info@ny
 emmys.org</strong></span></a><span style="color:#008000"><strong> to reser
 ve a seat</strong></span></p>  <p><span style="color:#008000"><strong>Plea
 se write &ldquo\;<u>Is Anybody Listening</u>?&rdquo\; in the Subject Box</
 strong></span></p>   <div></div></div><div>--- This iCal file does *NOT* c
 onfirm registration.Event details subject to change. ---</div><div>--- Ten
 denci&reg\; Software by <a href="https://www.tendenci.com">tendenci.com</a
 > - The Open Source AMS for Associations ---</div>
BEGIN:VALARM
TRIGGER:-PT30M
ACTION:DISPLAY
DESCRIPTION:Reminder
END:VALARM
END:VEVENT
END:VCALENDAR
