BEGIN:VCALENDAR
VERSION:2.0
METHOD:PUBLISH
PRODID:-//Tendenci - The Open Source AMS for Associations//Tendenci Codeba
 se MIMEDIR//EN
BEGIN:VEVENT
DESCRIPTION:--- This iCal file does *NOT* confirm registration.\nEvent det
 ails subject to change. ---\nhttps://www.nyemmys.org/events/309/\n\nEvent 
 Title: Jiangang Wang, Xinhua News Agency\nStart Date / Time: Dec 09, 2009 
 02:45 AM US/Eastern\nLocation: NY NATAS\nSpeaker: \nGoogle\nhttp://maps.go
 ogle.com/maps?q=1375+Broadway,+Suite+2103,New York,NY,10018\n\nForecast\nh
 ttp://www.weather.com/weather/monthly/10018\n\nEarly Morning Seminar\n \nA
 n hour with...Jiangang Wang - Journalist currently based in New York from 
 Xinhua News Agency headquartered in Beijing, China\n \n\nWednesday, Decemb
 er 9, 20097:45 AM to 9:30 AMSeminar produced by Ellen Muir.\n \nRESERVATIO
 NS REQUIRED DUE TO BUILDING SECURITY. ALL NAMES MUST BE ON GUEST LIST. PLE
 ASE RSVP VIA EMAIL info@nyemmys.org or call 212-459-3630, ext. 204.\n\n\n\
 n--- This iCal file does *NOT* confirm registration.Event details subject 
 to change. ---\n\n--- By Tendenci - The Open Source AMS for Associations -
 --\n
UID:uid309@nyemmys.org
SUMMARY:Jiangang Wang, Xinhua News Agency
DTSTART:20091209T074500Z
DTEND:20091209T093000Z
CLASS:PUBLIC
PRIORITY:5
DTSTAMP:20260419T144406Z
TRANSP:OPAQUE
SEQUENCE:0
LOCATION:NY NATAS
X-ALT-DESC;FMTTYPE=text/html:<div>--- This iCal file does *NOT* confirm re
 gistration.Event details subject to change. ---</div><h1>Event Title: Jian
 gang Wang, Xinhua News Agency</h1><div>https://www.nyemmys.org/events/309/
 </div><br /><div>When: Dec 09, 2009 02:45 AM US/Eastern</div><div>Speaker:
  </div><br />NY NATAS<br />1375 Broadway, Suite 2103<br />New York, NY 100
 18<br /><div>http://maps.google.com/maps?q=1375+Broadway,+Suite+2103,New Y
 ork,NY,10018</div><br /><div>Forecast: http://www.weather.com/weather/mont
 hly/10018</div><br /><br /><div><div style="margin-bottom: 10px" align="ce
 nter"><span style="font-family: Georgia"><span style="font-size: 12pt"><em
  style="font-size: 14pt"><strong style="color: #000080">Early Morning Semi
 nar</strong></em></span></span></div> <div style="margin-bottom: 10px" ali
 gn="center">&nbsp\;</div> <div style="margin-bottom: 10px" align="left"><s
 pan style="font-family: Georgia"><span style="font-size: 12pt"><span style
 ="color: #000000"><span style="color: #000000"><em>An hour with...<br></em
 ></span></span></span></span><span style="font-family: Georgia"><span styl
 e="font-size: 14pt"><span style="color: #000080"><span style="color: #0000
 80"><strong>Jiangang Wang&nbsp\;</strong>- Journalist currently based in N
 ew York from Xinhua News Agency headquartered in Beijing, China</span></sp
 an></span></span></div> <div style="margin-bottom: 10px">&nbsp\;</div><spa
 n style="font-family: Georgia"><span style="font-size: 14pt"><span style="
 color: #000000"> <div style="margin-bottom: 10px"></span></span></span><sp
 an style="font-size: 12pt"><span style="font-family: Georgia"><span style=
 "font-size: 14pt"><span style="color: #000000"></span></span></span></span
 ></div> <div style="margin-bottom: 10px"><span style="font-family: Georgia
 "><span style="font-size: 12pt"><span style="color: #000000"><span style="
 color: #000000"><span style="color: #000000"><span style="color: #000000">
 Wednesday, December 9, 2009<br>7:45 AM to 9:30 AM<br><br>Seminar produced 
 by Ellen Muir.</span></span></span></div> <div style="margin-bottom: 10px"
 >&nbsp\;</div> <div style="margin-bottom: 10px"></span></span></span><span
  style="font-family: Georgia"><span style="font-size: 12pt"><strong><span 
 style="color: #008000"><span style="font-family: Georgia"><span style="fon
 t-size: 12pt"><strong style="color: #008000">RESERVATIONS REQUIRED DUE TO 
 BUILDING SECURITY. ALL NAMES MUST BE ON GUEST LIST. PLEASE RSVP VIA EMAIL<
 /strong></span></span></span><font color="#000000"> </font></strong></span
 ></span><a style="color: #0000ff" href="&#109\;&#97\;&#105\;&#108\;&#116\;
 &#111\;&#58\;&#105\;&#110\;&#102\;&#111\;&#64\;&#110\;&#121\;&#101\;&#109\
 ;&#109\;&#121\;&#115\;&#46\;&#111\;&#114\;&#103\;"><span style="font-famil
 y: Georgia"><span style="font-size: 12pt"><strong>info@nyemmys.org</strong
 ></span></span></a><span style="font-family: Georgia"><span style="font-si
 ze: 12pt"><strong><font color="#000000"> </font><span style="color: #00800
 0">or call </span><span style="color: #0000ff">212-459-3630, ext. 204</spa
 n><font color="#000000">.</font></strong></span></span></div>  <div></div>
 </div><div>--- This iCal file does *NOT* confirm registration.Event detail
 s subject to change. ---</div><div>--- Tendenci&reg\; Software by <a href=
 "https://www.tendenci.com">tendenci.com</a> - The Open Source AMS for Asso
 ciations ---</div>
BEGIN:VALARM
TRIGGER:-PT30M
ACTION:DISPLAY
DESCRIPTION:Reminder
END:VALARM
END:VEVENT
END:VCALENDAR
