BEGIN:VCALENDAR
VERSION:2.0
METHOD:PUBLISH
PRODID:-//Tendenci - The Open Source AMS for Associations//Tendenci Codeba
 se MIMEDIR//EN
BEGIN:VEVENT
DESCRIPTION:--- This iCal file does *NOT* confirm registration.\nEvent det
 ails subject to change. ---\nhttps://www.nyemmys.org/events/26/\n\nEvent T
 itle: The Creation, Development & Business of Casual Games\nStart Date / T
 ime: Oct 25, 2006 14:15 PM US/Eastern\nLocation: NY NATAS\nSpeaker: Kenny 
 Rosenblatt\nGoogle\nhttp://maps.google.com/maps?q=1375+Broadway,+Suite+210
 3,New York,NY,10018\n\nForecast\nhttp://www.weather.com/weather/monthly/10
 018\n\nEvent                                 Produced by Ellen Muir \nCoff
 ee                                 at 6:15 PM\; Program at 6:30 PM        
                           \n\nRESERVATIONS                                
  REQUIRED DUE TO BUILDING SECURITY. ALL NAMES                             
     MUST BE ON GUEST LIST.                                                
                    RSVP via email kjensen@nyemmys.org                     
             or CALL 212-459-3630 ext. 204\n\n\n\n\n--- This iCal file does
  *NOT* confirm registration.Event details subject to change. ---\n\n--- By
  Tendenci - The Open Source AMS for Associations ---\n
UID:uid26@nyemmys.org
SUMMARY:The Creation, Development & Business of Casual Games
DTSTART:20061025T181500Z
DTEND:20061025T193000Z
CLASS:PUBLIC
PRIORITY:5
DTSTAMP:20260419T144414Z
TRANSP:OPAQUE
SEQUENCE:0
LOCATION:NY NATAS
X-ALT-DESC;FMTTYPE=text/html:<div>--- This iCal file does *NOT* confirm re
 gistration.Event details subject to change. ---</div><h1>Event Title: The 
 Creation, Development & Business of Casual Games</h1><div>https://www.nyem
 mys.org/events/26/</div><br /><div>When: Oct 25, 2006 14:15 PM US/Eastern<
 /div><div>Speaker: Kenny Rosenblatt</div><br />NY NATAS<br />1375 Broadway
 , Suite 2103<br />New York, NY 10018<br /><div>http://maps.google.com/maps
 ?q=1375+Broadway,+Suite+2103,New York,NY,10018</div><br /><div>Forecast: h
 ttp://www.weather.com/weather/monthly/10018</div><br /><br /><div><p><stro
 ng><span style="font-family: &quot\;Trebuchet MS&quot\;\; color: black\;">
 Event                                 Produced by Ellen Muir</span></stron
 g><span style="font-family: &quot\;Trebuchet MS&quot\;\; color: black\;">&
 nbsp\;<br></span></p> <p><span style="font-family: &quot\;Trebuchet MS&quo
 t\;\; color: black\;"></span><span style="font-family: &quot\;Trebuchet MS
 &quot\;\; color: black\;">Coffee                                 at 6:15 P
 M\; Program at 6:30 PM</span><span style="font-family: Verdana\; color: bl
 ack\;">&nbsp\;                                 </span></p> <span style="fo
 nt-size: 12pt\; font-family: &quot\;Trebuchet MS&quot\;\; color: black\;">
  <p><span style="font-size: 10pt\; font-family: Verdana\;">RESERVATIONS   
                               REQUIRED DUE TO BUILDING SECURITY. ALL NAMES
                                  MUST BE ON GUEST LIST. <o:p>             
                     </o:p>                                 RSVP via email 
 <a href="mailto:kjensen@nyemmys.org">kjensen@nyemmys.org</a>              
                    or CALL 212-459-3630 ext. 204</span></p> </span>  <div>
 </div></div><div>--- This iCal file does *NOT* confirm registration.Event 
 details subject to change. ---</div><div>--- Tendenci&reg\; Software by <a
  href="https://www.tendenci.com">tendenci.com</a> - The Open Source AMS fo
 r Associations ---</div>
BEGIN:VALARM
TRIGGER:-PT30M
ACTION:DISPLAY
DESCRIPTION:Reminder
END:VALARM
END:VEVENT
END:VCALENDAR
