BEGIN:VCALENDAR
VERSION:2.0
METHOD:PUBLISH
PRODID:-//Tendenci - The Open Source AMS for Associations//Tendenci Codeba
 se MIMEDIR//EN
BEGIN:VEVENT
DESCRIPTION:--- This iCal file does *NOT* confirm registration.\nEvent det
 ails subject to change. ---\nhttps://www.nyemmys.org/events/254/\n\nEvent 
 Title: Playreading Hosted by Arlene Dahl\nStart Date / Time: May 18, 2009 
 13:30 PM US/Eastern\nLocation: \nSpeaker: \nPLAY READING\nHosted By Arlene
  Dahl\n“The Not-So-Secret Service Agent”\nAn Original Screenplay\nWrit
 ten by Fiddle Viracola\n\nEvent coordinated by Ellen Muir\nDate: Monday, M
 ay 18, 2009\nTime: 5:30 p.m. Reception, 6:00 p.m. program\nLocation: Midto
 wn\nFor location information and reservations (required), please call 212-
 459-3630, ext. 204 before Friday May 15!\n\nNO EMAIL RESERVATIONS WILL BE 
 ACCEPTED!\n\n\n\n\n--- This iCal file does *NOT* confirm registration.Even
 t details subject to change. ---\n\n--- By Tendenci - The Open Source AMS 
 for Associations ---\n
UID:uid254@nyemmys.org
SUMMARY:Playreading Hosted by Arlene Dahl
DTSTART:20090518T173000Z
DTEND:20090518T193000Z
CLASS:PUBLIC
PRIORITY:5
DTSTAMP:20260419T144505Z
TRANSP:OPAQUE
SEQUENCE:0
X-ALT-DESC;FMTTYPE=text/html:<div>--- This iCal file does *NOT* confirm re
 gistration.Event details subject to change. ---</div><h1>Event Title: Play
 reading Hosted by Arlene Dahl</h1><div>https://www.nyemmys.org/events/254/
 </div><br /><div>When: May 18, 2009 13:30 PM US/Eastern</div><div>Speaker:
  </div><br /><div><p style="margin-bottom: 12pt"><strong><span style="font
 -weight: bold\; font-size: 18pt\; color: purple\; font-family: 'Book Antiq
 ua'"><span style="font-family: Georgia"><em><span style="color: #000080"><
 span style="color: #000080"><strong style="font-family: "><span style="fon
 t-weight: bold\; font-size: 18pt\; color: purple\; font-family: "><span st
 yle="color: #000080"><strong><span style="font-weight: bold\; font-size: 1
 8pt\; font-family: 'Book Antiqua'"><span style="color: #000080\; font-fami
 ly: Georgia"><em><strong style="font-family: "><span style="font-weight: b
 old\; font-size: 18pt\; font-family: ">PLAY </strong><strong style="font-f
 amily: "><span style="font-weight: bold\; font-size: 18pt\; font-family: "
 >READING</strong></span></span></em><strong style="font-family: "><span st
 yle="font-weight: bold\; font-size: 18pt\; font-family: "><br style="font-
 family: " /> </span></strong></span></span></strong></span></span></strong
 ></span></span></em><strong style="font-family: "><span style="font-weight
 : bold\; font-size: 16pt\; color: purple\; font-family: "><em><span style=
 "color: #000080"><span style="color: #000080">Hosted By Arlene Dahl</span>
 </span></em></span></strong></span></span></strong></p> <div style="margin
 -bottom: 12pt"><strong><span style="font-weight: bold\; font-size: 14pt\; 
 color: navy\; font-family: 'Book Antiqua'"><span style="font-size: 10pt\; 
 font-family: Georgia"><strong style="font-family: "><span style="font-weig
 ht: bold\; font-size: 14pt\; color: navy\; font-family: "><span style="fon
 t-family: Georgia"><strong><span style="font-weight: bold\; font-size: 14p
 t\; color: navy\; font-family: 'Book Antiqua'"><span style="font-family: G
 eorgia"><span style="color: #000080"><strong><span style="font-weight: bol
 d\; font-size: 14pt\; font-family: 'Book Antiqua'"><span style="font-size:
  10pt\; font-family: Georgia"><strong style="font-family: "><span style="f
 ont-weight: bold\; font-size: 14pt\; font-family: "><span style="font-fami
 ly: Georgia"><strong><span style="font-weight: bold\; font-size: 14pt\; fo
 nt-family: 'Book Antiqua'"><span style="font-family: Georgia">“</span></
 span></strong>The Not-So-Secret Service Agent”<span style="font-size: 16
 pt\; font-family: 'Book Antiqua'"><br> </span></span></span></strong></spa
 n></span></strong><strong><span style="font-weight: bold\; font-family: 'B
 ook Antiqua'"><span style="font-size: 10pt\; font-family: Georgia">An Orig
 inal Screenplay<br> Written by Fiddle Viracola<br> </span></span></strong>
 </span></span></span></strong></span></span></strong></span></span></stron
 g><strong><span style="font-weight: bold\; font-size: 11pt\; color: black\
 ; font-family: 'Book Antiqua'"><br> Event coordinated by&nbsp\;Ellen Muir<
 /span></strong></div> <p style="margin-bottom: 12pt"><strong><span style="
 font-weight: bold\; font-size: 11pt\; color: black\; font-family: 'Book An
 tiqua'">Date: </span></strong><strong><span style="font-weight: bold\; fon
 t-size: 11pt\; color: black\; font-family: 'Book Antiqua'">Monday, May 18,
  2009</span></strong><strong><span style="font-weight: bold\; font-size: 1
 1pt\; color: black\; font-family: 'Book Antiqua'"><br> Time: 5:30 p.m. Rec
 eption, </span></strong><strong><span style="font-weight: bold\; font-size
 : 11pt\; color: black\; font-family: 'Book Antiqua'">6:00 p.m.</span></str
 ong><strong><span style="font-weight: bold\; font-size: 11pt\; color: blac
 k\; font-family: 'Book Antiqua'"> program<br> Location: Midtown</span></st
 rong></p> <div style="font-size: 10pt\; margin-bottom: 12pt"><strong style
 ="color: #008000\; font-family: Georgia">For location information and rese
 rvations (required), please call <span style="color: #000080">212-459-3630
 , ext. 204</span> before Friday May 15!<br> <br> NO EMAIL RESERVATIONS WIL
 L BE ACCEPTED!</strong></div>   <div></div></div><div>--- This iCal file d
 oes *NOT* confirm registration.Event details subject to change. ---</div><
 div>--- Tendenci&reg\; Software by <a href="https://www.tendenci.com">tend
 enci.com</a> - The Open Source AMS for Associations ---</div>
BEGIN:VALARM
TRIGGER:-PT30M
ACTION:DISPLAY
DESCRIPTION:Reminder
END:VALARM
END:VEVENT
END:VCALENDAR
