BEGIN:VCALENDAR
VERSION:2.0
METHOD:PUBLISH
PRODID:-//Tendenci - The Open Source AMS for Associations//Tendenci Codeba
 se MIMEDIR//EN
BEGIN:VEVENT
DESCRIPTION:--- This iCal file does *NOT* confirm registration.\nEvent det
 ails subject to change. ---\nhttps://www.nyemmys.org/events/231/\n\nEvent 
 Title: The Night They Raided Minsky's\nStart Date / Time: Dec 11, 2008 13:
 00 PM US/Eastern\nLocation: NY NATAS\nSpeaker: \nGoogle\nhttp://maps.googl
 e.com/maps?q=1375+Broadway,+between+37th+and+38th+Streets,+21st+floor,+Sui
 te+2103,New York,NY,10018\n\nForecast\nhttp://www.weather.com/weather/mont
 hly/10018\n\nYou are Cordially Invited to\nMEET THE CINEMATOGRAPHER: Andre
 w Laszlo\n\n"The Night They Raided Minsky's"\nOn Thursday, December 11, 20
 08, 6:00-8:30 PM\nAt the National Academy of Television Arts and Sciences,
  New York\n1375 Broadway (between 37th and 38th Streets), 21st floor, Suit
 e 2103\nReception 6:00-6:30 ~ Program 6:30-8:00 \n \n\nProduced &amp\; Mod
 erated by Sumner Jules Glimcher\n \n*Free to Members!\n$15 for those witho
 ut current membership\n \nRESERVATIONS REQUIRED DUE TO BUILDING SECURITY. 
 ALL NAMES MUST BE ON GUEST LIST.\nPLEASE RSVP VIA EMAIL info@nyemmys.org o
 r CALL 212-459-3630, ext. 200.\n \nThe Night They Raided Minsky's is set i
 n the rarefied world of burlesque in the 1920s. Quaker girl Rachel Schpite
 ndavel (Britt Ekland) comes to New York in hopes of securing work as a dan
 cing interpreter of religious stories. She gets a job at Minsky's burlesqu
 e house, where the dance numbers are "Biblical" only when some gum-chewing
  stripper performs Salome's Dance of the Seven Veils. The many subplots le
 ading up to Rachel's accidental invention of the striptease during a midni
 ght Minsky's show involve many: top banana Chick Williams (Norman Wisdom) 
 and womanizing straight-man Raymond Paine (Jason Robards Jr.)\; Billy Mins
 ky (Elliot Gould), whose efforts to stage girlie shows at the National Win
 ter Garden are looked down upon by Minsky Sr. (Joseph Wiseman), who holds 
 the lease on the theater\; gangster Trim Houlihan (Forrest Tucker), who in
 tends to shut down Minsky's if he can't get a piece of the action\; Ekland
 's preacher father Harry Andrews, who shows up in New York just in time to
  see his daughter bare all in front of a cheering audience\; and Vance Fow
 ler (Denhom Elliot), self-appointed protector of public morals, whom Paine
  hopes to embarrass by having Rachel perform her religious dance. A straig
 htforward adaptation of Rowland Barber's novel The Night They Raided Minsk
 y's would seem to be called for here, but novice director William Friedkin
  and film editor Ralph Rosenblum seem determined to turn the film into a k
 aleidoscope Hard Day's Night clone. Happily, producer Norman Lear is able 
 to accommodate several nostalgic re-creations of such burlesque chestnuts 
 as "Crazy House" and "Meet Me Round the Corner," as well as six delightful
  in-period songs penned by Bye Bye Birdie's Charles Strouse and Lee Adams,
  the best of which is the ribald "Perfect Gentleman." Bert Lahr makes his 
 last appearance on screen in the role of washed-up funnyman Professor Spat
 s\; he died during production, and had to be extensively doubled throughou
 t.\n\nAndrew Laszlo’s career in film and television spans nearly fifty y
 ears from the original PhilSilvers Show (Sgt Bilko) to Walt Disney Picture
 s' Newsies. Starting his film career as an apprentice at the Motion Pictur
 e Studios of Budapest, Hungary, he came to the United States as an emigran
 t in 1947. He served in the U. S. Army Signal Corps as a cameraman from 19
 50 until 1952. He has traveled extensively throughout the world making clo
 se to fifty major feature films and an equal number of television credits.
  Among his credits, in addition to The Night They Raided Minskys, are: Sta
 r Trek: The Final Frontier\; Rambo: First Blood\; Shogun (TV Miniseries)\;
  The Warriors\; Lovers and Other Strangers\; The Beatles at Shea Stadium\;
  and One Potato, Two Potato. Since his retirement as a Hollywood cinema ph
 otographer, he has written eight books, including “Every Frame A Rembran
 dt,” “Footnote to History,” and most recently “Banjin,” based up
 on the true story of the first Japanese who ever came to America.\n\n\n\n\
 n\n--- This iCal file does *NOT* confirm registration.Event details subjec
 t to change. ---\n\n--- By Tendenci - The Open Source AMS for Associations
  ---\n
UID:uid231@nyemmys.org
SUMMARY:The Night They Raided Minsky's
DTSTART:20081211T180000Z
DTEND:20081211T203000Z
CLASS:PUBLIC
PRIORITY:5
DTSTAMP:20260419T161849Z
TRANSP:OPAQUE
SEQUENCE:0
LOCATION:NY NATAS
X-ALT-DESC;FMTTYPE=text/html:<div>--- This iCal file does *NOT* confirm re
 gistration.Event details subject to change. ---</div><h1>Event Title: The 
 Night They Raided Minsky's</h1><div>https://www.nyemmys.org/events/231/</d
 iv><br /><div>When: Dec 11, 2008 13:00 PM US/Eastern</div><div>Speaker: </
 div><br />NY NATAS<br />1375 Broadway, between 37th and 38th Streets, 21st
  floor, Suite 2103<br />New York, NY 10018<br /><div>http://maps.google.co
 m/maps?q=1375+Broadway,+between+37th+and+38th+Streets,+21st+floor,+Suite+2
 103,New York,NY,10018</div><br /><div>Forecast: http://www.weather.com/wea
 ther/monthly/10018</div><br /><br /><div><div align="center"><em><span sty
 le="font-size: 14pt"><span style="color: #800080"><span style="color: #800
 080"><span style="font-family: Georgia"><strong>You are Cordially Invited 
 to</strong></span></span></span></span></em></div> <div align="center"><sp
 an style="font-family: Georgia"><span style="color: #800080"><strong><span
  style="font-size: 14pt">MEET THE CINEMATOGRAPHER: Andrew Laszlo</span></d
 iv> <div align="center"> <div style="font-size: 14pt">"The Night They Raid
 ed Minsky's"</div> </strong></span><span style="font-size: 12pt"><span sty
 le="color: #000000"><span style="color: #000000">On Thursday, December 11,
  2008, 6:00-8:30 PM</span></span></span></span></div> <div align="center">
 <span style="font-family: Georgia"><span style="font-size: 12pt"><span sty
 le="color: #000000"><span style="color: #000000">At the National Academy o
 f Television Arts and Sciences, New York</span></span></span></span></div>
  <div align="center"><span style="font-family: Georgia"><span style="font-
 size: 12pt"><span style="color: #000000"><span style="color: #000000">1375
  Broadway (between 37th and 38th Streets), 21st floor, Suite 2103</span></
 span></span></span></div> <div align="center"><span style="font-family: Ge
 orgia"><span style="color: #000000"><span style="color: #000000"><span sty
 le="font-size: 12pt">Reception 6:00-6:30 ~&nbsp\;Program 6:30-8:00</span> 
 </span></span> <div><span style="color: #000000"><span style="color: #0000
 00">&nbsp\;</span></span></div> </span></div> <div align="center"><span st
 yle="font-family: Georgia"><span style="font-size: 12pt"><span style="colo
 r: #000000"><span style="color: #000000">Produced &amp\; Moderated by Sumn
 er Jules Glimcher</span></span></span></span></div> <div><span style="font
 -family: Georgia"><span style="color: #000000">&nbsp\;</span></span></div>
  <div><span style="font-size: 10pt"><span style="color: #000000"><strong><
 span style="font-family: Georgia">*Free to Members!</span></strong></span>
 </span></div> <div><span style="font-size: 10pt"><span style="color: #0000
 00"><span style="color: #000000"><span style="color: #000000"><strong><spa
 n style="font-family: Georgia">$15 for those without current membership</s
 pan></strong></span></span></span></span></div> <div>&nbsp\;</div> <div><s
 pan style="font-size: 10pt"><span style="color: #000000"><span style="colo
 r: #000000"><span style="color: #000000"><strong><span style="color: #0080
 00"><span style="color: #008000"><span style="font-family: Georgia">RESERV
 ATIONS REQUIRED DUE TO BUILDING SECURITY. ALL NAMES MUST BE ON GUEST LIST.
 </span></span></span></strong></span></span></span></span></div> <div><spa
 n style="font-size: 10pt"><span style="color: #000000"><span style="color:
  #000000"><span style="color: #000000"><span style="color: #008000"><span 
 style="color: #008000"><span style="font-family: Georgia"><strong>PLEASE R
 SVP VIA EMAIL </strong></span></span></span></span></span></span></span><a
  href="&#109\;&#97\;&#105\;&#108\;&#116\;&#111\;&#58\;&#105\;&#110\;&#102\
 ;&#111\;&#64\;&#110\;&#121\;&#101\;&#109\;&#109\;&#121\;&#115\;&#46\;&#111
 \;&#114\;&#103\;"><span style="font-size: 10pt"><span style="color: #00000
 0"><span style="color: #000000"><span style="color: #000000"><span style="
 color: #008000"><span style="color: #0000ff"><span style="font-family: Geo
 rgia"><strong>info@nyemmys.org</strong></span></span></span></span></span>
 </span></span></a><span style="font-size: 10pt"><span style="color: #00000
 0"><span style="color: #008000"><span style="color: #008000"><span style="
 font-family: Georgia"><strong> or&nbsp\;CALL <span style="color: #0000ff">
 212-459-3630, ext. 200</span>.</strong></span></div> <div>&nbsp\;</div> <d
 iv><span style="font-size: 10pt\; color: #000000\; font-family: Georgia"><
 em><strong>The Night They Raided Minsky's</strong></em> is set in the rare
 fied world of burlesque in the 1920s. Quaker girl Rachel Schpitendavel (Br
 itt Ekland) comes to New York in hopes of securing work as a dancing inter
 preter of religious stories. She gets a job at Minsky's burlesque house, w
 here the dance numbers are "Biblical" only when some gum-chewing stripper 
 performs Salome's Dance of the Seven Veils. The many subplots leading up t
 o Rachel's accidental invention of the striptease during a midnight Minsky
 's show involve many: top banana Chick Williams (Norman Wisdom) and womani
 zing straight-man Raymond Paine (Jason Robards Jr.)\; Billy Minsky (Elliot
  Gould), whose efforts to stage girlie shows at the National Winter Garden
  are looked down upon by Minsky Sr. (Joseph Wiseman), who holds the lease 
 on the theater\; gangster Trim Houlihan (Forrest Tucker), who intends to s
 hut down Minsky's if he can't get a piece of the action\; Ekland's preache
 r father Harry Andrews, who shows up in New York just in time to see his d
 aughter bare all in front of a cheering audience\; and Vance Fowler (Denho
 m Elliot), self-appointed protector of public morals, whom Paine hopes to 
 embarrass by having Rachel perform her religious dance. A straightforward 
 adaptation of Rowland Barber's novel <em>The Night They Raided Minsky's</e
 m> would seem to be called for here, but novice director William Friedkin 
 and film editor Ralph Rosenblum seem determined to turn the film into a ka
 leidoscope <em>Hard Day's Night</em> clone. Happily, producer Norman Lear 
 is able to accommodate several nostalgic re-creations of such burlesque ch
 estnuts as "Crazy House" and "Meet Me Round the Corner," as well as six de
 lightful in-period songs penned by Bye Bye Birdie's Charles Strouse and Le
 e Adams, the best of which is the ribald "Perfect Gentleman." Bert Lahr ma
 kes his last appearance on screen in the role of washed-up funnyman Profes
 sor Spats\; he died during production, and had to be extensively doubled t
 hroughout.<br> <br> Andrew Laszlo’s career in film and television spans 
 nearly fifty years from the original <em>PhilSilvers Show</em> (Sgt Bilko)
  to Walt Disney Pictures' <em>Newsies</em>. Starting his film career as an
  apprentice at the Motion Picture Studios of Budapest, Hungary, he came to
  the United States as an emigrant in 1947. He served in the U. S. Army Sig
 nal Corps as a cameraman from 1950 until 1952. He has traveled extensively
  throughout the world making close to fifty major feature films and an equ
 al number of television credits. Among his credits, in addition to <em>The
  Night They Raided Minskys</em>, are: <em>Star Trek: The Final Frontier</e
 m>\; <em>Rambo: First Blood</em>\; <em>Shogun</em> (TV Miniseries)\; <em>T
 he Warriors</em>\; <em>Lovers and Other Strangers</em>\; <em>The Beatles a
 t Shea Stadium</em>\; and <em>One Potato, Two Potato</em>. Since his retir
 ement as a Hollywood cinema photographer, he has written eight books, incl
 uding “Every Frame A Rembrandt,” “Footnote to History,” and most r
 ecently “Banjin,” based upon the true story of the first Japanese who 
 ever came to America.</span></div> </span></span></span></span>   <div></d
 iv></div><div>--- This iCal file does *NOT* confirm registration.Event det
 ails subject to change. ---</div><div>--- Tendenci&reg\; Software by <a hr
 ef="https://www.tendenci.com">tendenci.com</a> - The Open Source AMS for A
 ssociations ---</div>
BEGIN:VALARM
TRIGGER:-PT30M
ACTION:DISPLAY
DESCRIPTION:Reminder
END:VALARM
END:VEVENT
END:VCALENDAR
