BEGIN:VCALENDAR
VERSION:2.0
METHOD:PUBLISH
PRODID:-//Tendenci - The Open Source AMS for Associations//Tendenci Codeba
 se MIMEDIR//EN
BEGIN:VEVENT
DESCRIPTION:--- This iCal file does *NOT* confirm registration.\nEvent det
 ails subject to change. ---\nhttps://www.nyemmys.org/events/229/\n\nEvent 
 Title: Launching CNN's First Comedy Show\nStart Date / Time: Nov 19, 2008 
 13:00 PM US/Eastern\nLocation: NY NATAS\nSpeaker: Mitch Semel\nGoogle\nhtt
 p://maps.google.com/maps?q=1375+Broadway+between+37th+and+38th+Streets,+21
 st+floor,+Suite+2103,New York,NY,10018\n\nForecast\nhttp://www.weather.com
 /weather/monthly/10018\n\nEarly Evening Seminar\nWednesday, November 19, 2
 008\n\n \nMitch Semel - Executive Producer of "D.L. Hughley Breaks the New
 s" on CNN at 10:00 PM on Saturdays and Sundays\n \nMr. Semel has worked fo
 r thirty years as a senior network executive, producer, and strategist in 
 television (broadcast, cable, and public), radio, broadband and mobile tec
 hnologies. His experience ranges from corporate boardrooms to television s
 tudios across the country. He has overseen network programming and produce
 d prime-time and late-night shows for CBS, NBC, CNN, Nick@Nite, TV Land, P
 BS, and Comedy Central, and has hosted and produced syndicated radio progr
 ams featuring in-depth interviews with prominent politicians, entertainers
  and international newsmakers.\n \nTopic: "Launching CNN's First Comedy Sh
 ow."\n \nSeminar produced by Ellen Muir.\n\n\n\n\n--- This iCal file does 
 *NOT* confirm registration.Event details subject to change. ---\n\n--- By 
 Tendenci - The Open Source AMS for Associations ---\n
UID:uid229@nyemmys.org
SUMMARY:Launching CNN's First Comedy Show
DTSTART:20081119T180000Z
DTEND:20081119T193000Z
CLASS:PUBLIC
PRIORITY:5
DTSTAMP:20260419T161847Z
TRANSP:OPAQUE
SEQUENCE:0
LOCATION:NY NATAS
X-ALT-DESC;FMTTYPE=text/html:<div>--- This iCal file does *NOT* confirm re
 gistration.Event details subject to change. ---</div><h1>Event Title: Laun
 ching CNN's First Comedy Show</h1><div>https://www.nyemmys.org/events/229/
 </div><br /><div>When: Nov 19, 2008 13:00 PM US/Eastern</div><div>Speaker:
  Mitch Semel</div><br />NY NATAS<br />1375 Broadway between 37th and 38th 
 Streets, 21st floor, Suite 2103<br />New York, NY 10018<br /><div>http://m
 aps.google.com/maps?q=1375+Broadway+between+37th+and+38th+Streets,+21st+fl
 oor,+Suite+2103,New York,NY,10018</div><br /><div>Forecast: http://www.wea
 ther.com/weather/monthly/10018</div><br /><br /><div><div align="center"><
 span style="font-family: Georgia"><span style="color: #000000"><span style
 ="color: #000000"><span style="color: #000000"><span style="color: #000000
 "><em><strong style="font-size: 14pt"><span style="color: #000080"><span s
 tyle="color: #000080">Early Evening Seminar</span></span></strong></em></s
 pan></div> <div style="font-size: 10pt" align="center"><span style="color:
  #000080">Wednesday, November 19, 2008</span></div> </span></span></span><
 /span> <div align="center"><span style="font-family: Georgia"><span style=
 "color: #000000"><span style="color: #000000"><span style="color: #000000"
 ></span></span></span></span>&nbsp\;</div> <div align="left"><span style="
 font-family: Georgia"><span style="color: #000000"><span style="color: #00
 0000"><span style="color: #000000"><span style="font-size: 12pt\; color: #
 000000"><em><strong>Mitch Semel</strong></em> - Executive Producer of "D.L
 . Hughley Breaks the News" on CNN at 10:00 PM on Saturdays and Sundays</sp
 an></div> <div></span></span></span></span><span style="font-family: Georg
 ia"><span style="color: #000000"><span style="color: #000000"><span style=
 "color: #000000"></span></span></span></span>&nbsp\;</div> <div><span styl
 e="font-family: Georgia"><span style="color: #000000"><span style="color: 
 #000000"><span style="color: #000000"><span style="font-size: 10pt\; color
 : #000000">Mr. Semel has worked for thirty years as a senior network execu
 tive, producer, and strategist in television (broadcast, cable, and public
 ), radio, broadband and mobile technologies. His experience ranges from co
 rporate boardrooms to television studios across the country. He has overse
 en network programming and produced prime-time and late-night shows for CB
 S, NBC, CNN, Nick@Nite, TV Land, PBS, and Comedy Central, and has hosted a
 nd produced syndicated radio programs featuring in-depth interviews with p
 rominent politicians, entertainers and international newsmakers.</span></s
 pan></span></span></span></div> <div><span style="font-family: Georgia"><s
 pan style="color: #000000"><span style="color: #000000"><span style="color
 : #000000"></span></span></span></span>&nbsp\;</div> <div><span style="fon
 t-family: Georgia"><span style="color: #000000"><span style="color: #00000
 0"><span style="color: #000000"><span style="font-size: 12pt\; color: #000
 000"><strong><em>Topic</em></strong>: "Launching CNN's First Comedy Show."
 </span></span></span></span></span></div> <div><span style="font-family: G
 eorgia"><span style="color: #000000"><span style="color: #000000"><span st
 yle="color: #000000"></span></span></span></span>&nbsp\;</div> <div><span 
 style="font-family: Georgia"><span style="color: #000000"><span style="fon
 t-size: 10pt\; color: #000000">Seminar produced by Ellen Muir.</span></spa
 n></span></div>   <div></div></div><div>--- This iCal file does *NOT* conf
 irm registration.Event details subject to change. ---</div><div>--- Tenden
 ci&reg\; Software by <a href="https://www.tendenci.com">tendenci.com</a> -
  The Open Source AMS for Associations ---</div>
BEGIN:VALARM
TRIGGER:-PT30M
ACTION:DISPLAY
DESCRIPTION:Reminder
END:VALARM
END:VEVENT
END:VCALENDAR
