BEGIN:VCALENDAR
VERSION:2.0
METHOD:PUBLISH
PRODID:-//Tendenci - The Open Source AMS for Associations//Tendenci Codeba
 se MIMEDIR//EN
BEGIN:VEVENT
DESCRIPTION:--- This iCal file does *NOT* confirm registration.\nEvent det
 ails subject to change. ---\nhttps://www.nyemmys.org/events/221/\n\nEvent 
 Title: The American Ruling Class\nStart Date / Time: Nov 06, 2008 13:00 PM
  US/Eastern\nLocation: NY NATAS\nSpeaker: \nGoogle\nhttp://maps.google.com
 /maps?q=1375+Broadway,+between+37th+and+38th+Streets,+21st+floor,+Suite+21
 03,New York,NY,10018\n\nForecast\nhttp://www.weather.com/weather/monthly/1
 0018\n\nMeet the Filmmakers: John Kirby and Libby Handros\n“The American
  Ruling Class”\n\nDate: Thursday, November 6, 2008\nLocation: NY NATAS: 
 1375 Broadway (between 37th &amp\; 38th) Suite 2103\nReception: 6:00 – 6
 :30 PM ~ Program: 6:30 - 8:00 PM\n\n*Free to Members!\n$15 for those witho
 ut current membership\n\nRESERVATIONS REQUIRED DUE TO BUILDING SECURITY. A
 LL NAMES MUST BE ON GUEST LIST.PLEASE RSVP VIA EMAIL info@nyemmys.org or c
 all 212-459-3630 ext. 200\n\nProduced &amp\; Moderated by Sumner Jules Gli
 mcher\n\nThe American Ruling Class is a morality tale set to music about t
 wo Yale students who seek their opportunities after graduation. Lewis Laph
 am, the renowned essayist, author and longtime Harper’s Magazine editor,
  conducts them through the corridors of power – Pentagon press briefings
 , the World Economic Forum, philanthropic foundations, Washington law firm
 s, banks, the Council on Foreign Relations and New York society dinners. A
 s they make their way, the real-life luminaries they meet become character
 s in a dramatic story about power, its responsibilities and abuses. The su
 bjects are our country’s most taboo topics: class, power and privilege i
 n our nominally democratic republic. Part Monty Python and part Michael Mo
 ore, The American Ruling Class is an entertaining clarion call for all cit
 izens to consider who has power, how they acquired it, and most importantl
 y, how they keep it. Running Time: 89 minutes.\n\n“A guided safari throu
 gh the tribal haunts of the power elite.”\n-Vanity Fair\n\n“The Americ
 an Ruling Class is a crowning achievement of cinematic sociology... A must
 -see for those concerned about the future of our economy and social order.
 ”\n-Kevin T. Leicht, Professor and Director of the Institute for Inequal
 ity Studies, The University of Iowa\; Author, Post-Industrial Peasants: Th
 e Illusion of Middle Class Prosperity\n\nJOHN KIRBY, Director\nJohn Kirby 
 makes his feature directorial debut with The American Ruling Class. He has
  produced and edited for major broadcasters, including many projects for t
 he award-winning Blowback Productions. His editing credits include the HBO
  America Undercover documentaries Gladiator Days: Anatomy of a Prison Murd
 er and the Emmy&#174\; Award-winning Thug Life in D.C. With his production
  partner Libby Handros, he recently completed The Good Fat Diet, a ground-
 breaking study of the role of Omega-three fatty acids in human nutrition, 
 to be released this year on public television.\n\nLIBBY HANDROS, Producer\
 nLibby Handros joined The Press &amp\; the Public Project twenty years ago
 . She began her career working on the critically acclaimed series Inside S
 tory. Since then, as the company's lead producer, she has been responsible
  for documentaries on a wide range of subjects for PBS, ESPN, Showtime and
  Fox. Recent credits include, Legacy of a Kidnapping: Lindbergh and the Tr
 iumph of the Tabloids, The Good Fat Diet, The Future Belongs to the Educat
 ed, Trump: What’s the Deal? and Baseball From the Inside Out.\n \n DVDs 
 will be available for purchase online beginning November or at the screeni
 ng with a 10% discount, and $3 will be donated to NYEmmys.org to support t
 he Meet the Filmmaker series.\n \nThe American Ruling Class is available o
 n DVD exclusively from Alive Mind, a new DVD label founded by media pionee
 r Richard Lorber, specializing in high quality documentary programming in 
 the areas of enlightened consciousness, secular spirituality, and cultural
  change. To advance discussion of issues related to their films, Alive Min
 d hosts blogs of some of today’s most stimulating thinkers. To learn mor
 e please visit http://www.alivemind.net and sign-up for the Alive Mind new
 sletter to receive 15% off your first purchase of any film.\n\n\n\n\n\n---
  This iCal file does *NOT* confirm registration.Event details subject to c
 hange. ---\n\n--- By Tendenci - The Open Source AMS for Associations ---\n
UID:uid221@nyemmys.org
SUMMARY:The American Ruling Class
DTSTART:20081106T180000Z
DTEND:20081106T200000Z
CLASS:PUBLIC
PRIORITY:5
DTSTAMP:20260419T180800Z
TRANSP:OPAQUE
SEQUENCE:0
LOCATION:NY NATAS
X-ALT-DESC;FMTTYPE=text/html:<div>--- This iCal file does *NOT* confirm re
 gistration.Event details subject to change. ---</div><h1>Event Title: The 
 American Ruling Class</h1><div>https://www.nyemmys.org/events/221/</div><b
 r /><div>When: Nov 06, 2008 13:00 PM US/Eastern</div><div>Speaker: </div><
 br />NY NATAS<br />1375 Broadway, between 37th and 38th Streets, 21st floo
 r, Suite 2103<br />New York, NY 10018<br /><div>http://maps.google.com/map
 s?q=1375+Broadway,+between+37th+and+38th+Streets,+21st+floor,+Suite+2103,N
 ew York,NY,10018</div><br /><div>Forecast: http://www.weather.com/weather/
 monthly/10018</div><br /><br /><div><div><span style="color: #000000\; fon
 t-family: Georgia"><span style="font-size: 14pt"><span style="color: #0000
 00\; font-family: Georgia"><span style="color: #000080"><span style="color
 : #000080\; font-family: Georgia"><strong><span style="font-size: 14pt"><s
 pan style="font-family: Georgia">Meet the Filmmakers: John Kirby and Libby
  Handros<br> “The American Ruling Class”</span></span><br> <br> </stro
 ng></span></span></span></span><span style="font-size: 10pt"><strong>Date:
  Thursday, November 6, 2008<br> Location: NY NATAS: 1375 Broadway (between
  37th &amp\; 38th) Suite 2103<br> Reception: 6:00 – 6:30 PM ~ Program: 6
 :30 - 8:00 PM<br> <br> *Free to Members!<br> $15 for those without current
  membership<br> </strong></span><br> <span style="color: #008000"><strong>
 RESERVATIONS REQUIRED DUE TO BUILDING SECURITY. ALL NAMES MUST BE ON GUEST
  LIST.PLEASE RSVP VIA EMAIL</strong></span> <a style="font-weight: bold\; 
 color: #0000ff\; font-family: Georgia" href="&#109\;&#97\;&#105\;&#108\;&#
 116\;&#111\;&#58\;&#105\;&#110\;&#102\;&#111\;&#64\;&#110\;&#121\;&#101\;&
 #109\;&#109\;&#121\;&#115\;&#46\;&#111\;&#114\;&#103\;">info@nyemmys.org</
 a> <span style="color: #008000"><strong>or</strong></span> <strong><span s
 tyle="color: #0000ff">call 212-459-3630 ext. 200<br> <br> </span><span sty
 le="font-size: 10pt">Produced &amp\; Moderated by Sumner Jules Glimcher</s
 pan></strong><br> <br> <span style="font-size: 10pt"><em><strong>The Ameri
 can Ruling Class</strong></em> is a morality tale set to music about two Y
 ale students who seek their opportunities after graduation. Lewis Lapham, 
 the renowned essayist, author and longtime <em>Harper’s Magazine</em> ed
 itor, conducts them through the corridors of power – Pentagon press brie
 fings, the World Economic Forum, philanthropic foundations, Washington law
  firms, banks, the Council on Foreign Relations and New York society dinne
 rs. As they make their way, the real-life luminaries they meet become char
 acters in a dramatic story about power, its responsibilities and abuses. T
 he subjects are our country’s most taboo topics: class, power and privil
 ege in our nominally democratic republic. Part Monty Python and part Micha
 el Moore, <em><strong>The American Ruling Class</strong></em> is an entert
 aining clarion call for all citizens to consider who has power, how they a
 cquired it, and most importantly, how they keep it. Running Time: 89 minut
 es.<br> <br> “A guided safari through the tribal haunts of the power eli
 te.”<br style="font-family: " /> -<em>Vanity Fair</em><br> <br> “The A
 merican Ruling Class is a crowning achievement of cinematic sociology... A
  must-see for those concerned about the future of our economy and social o
 rder.”<br> -Kevin T. Leicht, Professor and Director of the Institute for
  Inequality Studies, The University of Iowa\; Author, <em>Post-Industrial 
 Peasants: The Illusion of Middle Class Prosperity<br> </em><br> <strong>JO
 HN KIRBY, Director<br> </strong>John Kirby makes his feature directorial d
 ebut with <em>The American Ruling Class</em>. He has produced and edited f
 or major broadcasters, including many projects for the award-winning Blowb
 ack Productions. His editing credits include the HBO <em>America Undercove
 r</em> documentaries <em>Gladiator Days: Anatomy of a Prison Murder</em> a
 nd the Emmy&#174\; Award-winning <em>Thug Life in D.C.</em> With his produ
 ction partner Libby Handros, he recently completed <em>The Good Fat Diet</
 em>, a ground-breaking study of the role of Omega-three fatty acids in hum
 an nutrition, to be released this year on public television.<br> <br> <str
 ong>LIBBY HANDROS, Producer<br> </strong>Libby Handros joined The Press &a
 mp\; the Public Project twenty years ago. She began her career working on 
 the critically acclaimed series <em>Inside Story</em>. Since then, as the 
 company's lead producer, she has been responsible for documentaries on a w
 ide range of subjects for PBS, ESPN, Showtime and Fox. Recent credits incl
 ude, <em>Legacy of a Kidnapping: Lindbergh and the Triumph of the Tabloids
 </em>, <em>The Good Fat Diet</em>, <em>The Future Belongs to the Educated<
 /em>, <em>Trump: What’s the Deal?</em> and <em>Baseball From the Inside 
 Out</em>.</span></span> <div>&nbsp\;</div> <div style="color: #000000\; fo
 nt-family: Georgia"><span style="font-size: 10pt"> DVDs will be available 
 for purchase online beginning November or at the screening with a 10% disc
 ount, and $3 will be donated to NYEmmys.org to support the Meet the Filmma
 ker series.</span></div> <div style="color: #000000\; font-family: Georgia
 ">&nbsp\;</div> <div style="color: #000000\; font-family: Georgia"><span s
 tyle="font-size: 10pt"><em>The American Ruling Class </em>is available on 
 DVD exclusively from Alive Mind, a new DVD label founded by media pioneer 
 Richard Lorber, specializing in high quality documentary programming in th
 e areas of enlightened consciousness, secular spirituality, and cultural c
 hange. To advance discussion of issues related to their films, Alive Mind 
 hosts blogs of some of today’s most stimulating thinkers. To learn more 
 please visit </span><a style="color: #0000ff\; font-family: Georgia" href=
 "http://www.alivemind.net"><span style="font-size: 10pt">http://www.alivem
 ind.net</span></a><span style="font-size: 10pt"> and sign-up for the Alive
  Mind newsletter to receive 15% off your first purchase of any film.</span
 ></div> </div>   <div></div></div><div>--- This iCal file does *NOT* confi
 rm registration.Event details subject to change. ---</div><div>--- Tendenc
 i&reg\; Software by <a href="https://www.tendenci.com">tendenci.com</a> - 
 The Open Source AMS for Associations ---</div>
BEGIN:VALARM
TRIGGER:-PT30M
ACTION:DISPLAY
DESCRIPTION:Reminder
END:VALARM
END:VEVENT
END:VCALENDAR
