BEGIN:VCALENDAR
VERSION:2.0
METHOD:PUBLISH
PRODID:-//Tendenci - The Open Source AMS for Associations//Tendenci Codeba
 se MIMEDIR//EN
BEGIN:VEVENT
DESCRIPTION:--- This iCal file does *NOT* confirm registration.\nEvent det
 ails subject to change. ---\nhttps://www.nyemmys.org/events/219/\n\nEvent 
 Title: Play Reading Hosted by Arlene Dahl\nStart Date / Time: Oct 27, 2008
  13:30 PM US/Eastern\nLocation: \nSpeaker: \nPLAY READING\nHosted By Arlen
 e Dahl\nAnimal Krackers x 3\nThree short plays to make you laugh…or not.
 \n“The Golden Retriever”\nWritten by Louisa Burns Bisogno\nDirected by
  Alan Demovsky\n“Bird Brains”\nWritten by Richard and Jeffrey Levine\n
 Directed by Alan Demovsky\n“Friends Till The End”\nWritten and Directe
 d by John Wooten\nEvent produced by Ellen Muir\nDate: Monday, October 27, 
 2008\nTime: 5:30 p.m. Reception, 6:00 p.m. program\nLocation: Midtown\nFor
  reservations (required) and location information, please call 212-459-363
 0, ext. 204 before Friday October 24th!\nNO EMAIL RESERVATIONS WILL BE ACC
 EPTED.\n\n\n\n\n--- This iCal file does *NOT* confirm registration.Event d
 etails subject to change. ---\n\n--- By Tendenci - The Open Source AMS for
  Associations ---\n
UID:uid219@nyemmys.org
SUMMARY:Play Reading Hosted by Arlene Dahl
DTSTART:20081027T173000Z
DTEND:20081027T193000Z
CLASS:PUBLIC
PRIORITY:5
DTSTAMP:20260419T180543Z
TRANSP:OPAQUE
SEQUENCE:0
X-ALT-DESC;FMTTYPE=text/html:<div>--- This iCal file does *NOT* confirm re
 gistration.Event details subject to change. ---</div><h1>Event Title: Play
  Reading Hosted by Arlene Dahl</h1><div>https://www.nyemmys.org/events/219
 /</div><br /><div>When: Oct 27, 2008 13:30 PM US/Eastern</div><div>Speaker
 : </div><br /><div><p style="margin-bottom: 12pt"><strong><span style="fon
 t-weight: bold\; font-size: 18pt\; color: purple\; font-family: 'Book Anti
 qua'"><span style="font-family: Georgia"><em><strong style="font-family: "
 ><span style="font-weight: bold\; font-size: 18pt\; color: purple\; font-f
 amily: ">PLAY </span></strong><strong style="font-family: "><span style="f
 ont-weight: bold\; font-size: 18pt\; color: purple\; font-family: ">READIN
 G</span></strong></em><strong style="font-family: "><span style="font-weig
 ht: bold\; font-size: 18pt\; color: purple\; font-family: "><br style="fon
 t-family: " /> </span></strong><strong style="font-family: "><span style="
 font-weight: bold\; font-size: 16pt\; color: purple\; font-family: "><em>H
 osted By Arlene Dahl</em></span></strong></span></span></strong></p> <p st
 yle="margin-bottom: 12pt"><span style="font-size: 26pt\; font-family: 'Cur
 lz MT'"><span style="color: #000000"><span style="font-size: 26pt\; font-f
 amily: 'Curlz MT'">Animal Krackers</span><span style="font-size: 16pt\; fo
 nt-family: 'Book Antiqua'"> x </span><span style="font-size: 22pt\; font-f
 amily: 'Book Antiqua'">3<br> </span></span></span><strong><span style="fon
 t-weight: bold\; color: navy\; font-family: Georgia">Three short plays to 
 make you laugh…or not.</span></strong></p> <p style="margin-bottom: 12pt
 "><strong><span style="font-weight: bold\; font-size: 14pt\; color: navy\;
  font-family: 'Book Antiqua'"><span style="font-family: Georgia"><strong s
 tyle="font-family: "></strong></span><span style="font-size: 10pt\; font-f
 amily: Georgia"><strong style="font-family: "><span style="font-weight: bo
 ld\; font-size: 14pt\; color: navy\; font-family: "><span style="font-fami
 ly: Georgia"><strong><span style="font-weight: bold\; font-size: 14pt\; co
 lor: navy\; font-family: 'Book Antiqua'"><span style="font-family: Georgia
 ">“</span></span></strong>The Golden Retriever”<span style="font-size:
  16pt\; color: navy\; font-family: 'Book Antiqua'"><br> </span></span></sp
 an></strong></span></span></strong><strong><span style="font-weight: bold\
 ; color: navy\; font-family: 'Book Antiqua'"><span style="font-family: Geo
 rgia">Written by Louisa Burns Bisogno<br> Directed by Alan Demovsky</span>
 </span></strong></p> <p style="margin-bottom: 12pt"><strong><span style="f
 ont-weight: bold\; font-size: 14pt\; color: navy\; font-family: 'Book Anti
 qua'"><span style="font-family: Georgia">“Bird Brains”</span></span></
 strong><span style="font-size: 16pt\; color: navy\; font-family: 'Book Ant
 iqua'"><br> </span><strong><span style="font-weight: bold\; color: navy\; 
 font-family: 'Book Antiqua'"><span style="font-family: Georgia">Written by
  Richard and Jeffrey Levine<br> Directed by Alan Demovsky</span></span></s
 trong></p> <p style="margin-bottom: 12pt"><strong><span style="font-weight
 : bold\; font-size: 14pt\; color: navy\; font-family: 'Book Antiqua'"><spa
 n style="font-family: Georgia">“Friends Till The End”</span></span></s
 trong><span style="font-size: 16pt\; color: navy\; font-family: 'Book Anti
 qua'"><br> </span><strong><span style="font-weight: bold\; color: navy\; f
 ont-family: 'Book Antiqua'"><span style="font-family: Georgia">Written and
  Directed by John Wooten</span></span></strong></p> <p style="margin-botto
 m: 12pt"><strong><span style="font-weight: bold\; font-size: 11pt\; color:
  black\; font-family: 'Book Antiqua'">Event produced by Ellen Muir</span><
 /strong></p> <p style="margin-bottom: 12pt"><strong><span style="font-weig
 ht: bold\; font-size: 11pt\; color: black\; font-family: 'Book Antiqua'">D
 ate: </span></strong><strong><span style="font-weight: bold\; font-size: 1
 1pt\; color: black\; font-family: 'Book Antiqua'">Monday, October 27, 2008
 </span></strong><strong><span style="font-weight: bold\; font-size: 11pt\;
  color: black\; font-family: 'Book Antiqua'"><br> Time: 5:30 p.m. Receptio
 n, </span></strong><strong><span style="font-weight: bold\; font-size: 11p
 t\; color: black\; font-family: 'Book Antiqua'">6:00 p.m.</span></strong><
 strong><span style="font-weight: bold\; font-size: 11pt\; color: black\; f
 ont-family: 'Book Antiqua'"> program<br> Location: Midtown</span></strong>
 </p> <p style="font-size: 10pt\; margin-bottom: 12pt"><strong style="color
 : #008000\; font-family: Georgia">For reservations (required) and location
  information, please call <span style="color: #000080">212-459-3630, ext. 
 204</span> before Friday October 24<sup>th</sup>!<br> NO EMAIL RESERVATION
 S WILL BE ACCEPTED.</strong></p>   <div></div></div><div>--- This iCal fil
 e does *NOT* confirm registration.Event details subject to change. ---</di
 v><div>--- Tendenci&reg\; Software by <a href="https://www.tendenci.com">t
 endenci.com</a> - The Open Source AMS for Associations ---</div>
BEGIN:VALARM
TRIGGER:-PT30M
ACTION:DISPLAY
DESCRIPTION:Reminder
END:VALARM
END:VEVENT
END:VCALENDAR
