BEGIN:VCALENDAR
VERSION:2.0
METHOD:PUBLISH
PRODID:-//Tendenci - The Open Source AMS for Associations//Tendenci Codeba
 se MIMEDIR//EN
BEGIN:VEVENT
DESCRIPTION:--- This iCal file does *NOT* confirm registration.\nEvent det
 ails subject to change. ---\nhttps://www.nyemmys.org/events/135/\n\nEvent 
 Title: “New Media for New Media Dummies Part One: Legal Challenges and P
 itfalls - What rights you need and how to exploit them.”\nStart Date / T
 ime: Jul 11, 2007 14:00 PM US/Eastern\nLocation: NY NATAS\nSpeaker: Matt L
 efferts\nEvent Produced by Ellen Muir\n\n\n\n\n--- This iCal file does *NO
 T* confirm registration.Event details subject to change. ---\n\n--- By Ten
 denci - The Open Source AMS for Associations ---\n
UID:uid135@nyemmys.org
SUMMARY:“New Media for New Media Dummies Part One: Legal Challenges and Pitfalls - What rights you need and how to exploit them.”
DTSTART:20070711T180000Z
DTEND:20070711T190000Z
CLASS:PUBLIC
PRIORITY:5
DTSTAMP:20260419T180619Z
TRANSP:OPAQUE
SEQUENCE:0
LOCATION:NY NATAS
X-ALT-DESC;FMTTYPE=text/html:<div>--- This iCal file does *NOT* confirm re
 gistration.Event details subject to change. ---</div><h1>Event Title: “N
 ew Media for New Media Dummies Part One: Legal Challenges and Pitfalls - W
 hat rights you need and how to exploit them.”</h1><div>https://www.nyemm
 ys.org/events/135/</div><br /><div>When: Jul 11, 2007 14:00 PM US/Eastern<
 /div><div>Speaker: Matt Lefferts</div><br /><div>Event Produced by Ellen M
 uir   <div></div></div><div>--- This iCal file does *NOT* confirm registra
 tion.Event details subject to change. ---</div><div>--- Tendenci&reg\; Sof
 tware by <a href="https://www.tendenci.com">tendenci.com</a> - The Open So
 urce AMS for Associations ---</div>
BEGIN:VALARM
TRIGGER:-PT30M
ACTION:DISPLAY
DESCRIPTION:Reminder
END:VALARM
END:VEVENT
END:VCALENDAR
