BEGIN:VCALENDAR
VERSION:2.0
METHOD:PUBLISH
PRODID:-//Tendenci - The Open Source AMS for Associations//Tendenci Codeba
 se MIMEDIR//EN
BEGIN:VEVENT
DESCRIPTION:--- This iCal file does *NOT* confirm registration.\nEvent det
 ails subject to change. ---\nhttps://www.nyemmys.org/events/1201/\n\nEvent
  Title: NEW YORK EMMY AWARDS HOLIDAY PARTY DECEMBER 8, 2025 6 - 10 PM\nSta
 rt Date / Time: Dec 08, 2025 18:00 PM America/New_York\nLocation: THE HARD
  ROCK CAFE\nGoogle\nhttp://maps.google.com/maps?q=1501+Broadway,New York,N
 Y,100136\n\nForecast\nhttp://www.weather.com/weather/monthly/100136\n\nTHI
 S HOLIDAY PARTY IS FREE TO ALL NY Chapter MEMBERS  WHOSE MEMBERSHIP IS PAI
 D IN FULL UNTIL AT LEAST 12 8 2025. YOU CAN EASILY RENEW YOUR MEMBERSHIP O
 N YOUR EMMY EXPRESS DASHBOARD OR BY USING THIS LINK. https://emmyexpress.c
 om/membership_login/#/13\nEach paid member may bring one guest. Both the m
 ember and the guest's name must be registered. There is a limit of 200 att
 endees, so please RSVP as soon as possible to reserve your spot.\nYOU ARE 
 REQUIRED TO INCLUDE YOUR PAID NY CHAPTER MEMBER NUMBER IN THE REGISTRATION
  MEMBER ID SECTION IN ORDER TO BE ACCEPTED! YOUR ORDER WILL NOT BE ACCEPTE
 D WITHOUT IT!!!\n**For guest's ID#, please write "GUEST"\nThank you all fo
 r your support throughout the year. Please feel to email me with any quest
 ions. mikekostel@nyemmys.org\n \nMichael Kostel\nExecutive Director\nmikek
 ostel@nyemmys.org\n\n--- This iCal file does *NOT* confirm registration.Ev
 ent details subject to change. ---\n\n--- By Tendenci - The Open Source AM
 S for Associations ---\n
UID:uid1201@nyemmys.org
SUMMARY:NEW YORK EMMY AWARDS HOLIDAY PARTY DECEMBER 8, 2025 6 - 10 PM
DTSTART:20251208T230000Z
DTEND:20251209T030000Z
CLASS:PUBLIC
PRIORITY:5
DTSTAMP:20260419T144520Z
TRANSP:OPAQUE
SEQUENCE:0
LOCATION:THE HARD ROCK CAFE
X-ALT-DESC;FMTTYPE=text/html:<div>--- This iCal file does *NOT* confirm re
 gistration.Event details subject to change. ---</div><h1>Event Title: NEW 
 YORK EMMY AWARDS HOLIDAY PARTY DECEMBER 8, 2025 6 - 10 PM</h1><div>https:/
 /www.nyemmys.org/events/1201/</div><br /><div>When: Dec 08, 2025 18:00 PM 
 America/New_York</div><br />THE HARD ROCK CAFE<br />1501 Broadway<br />New
  York, NY 100136<br /><div>http://maps.google.com/maps?q=1501+Broadway,New
  York,NY,100136</div><br /><div>Forecast: http://www.weather.com/weather/m
 onthly/100136</div><br /><br /><div><p><strong>THIS HOLIDAY PARTY IS FREE 
 TO ALL NY Chapter MEMBERS&nbsp\; WHOSE MEMBERSHIP IS PAID IN FULL UNTIL AT
  LEAST 12 8 2025. YOU CAN EASILY RENEW YOUR MEMBERSHIP ON YOUR EMMY EXPRES
 S DASHBOARD OR BY USING THIS LINK. <a href="https://emmyexpress.com/member
 ship_login/#/13">https://emmyexpress.com/membership_login/#/13</a></strong
 ></p> <p><strong>Each paid member may bring one guest.</strong>&nbsp\;<str
 ong>Both the member and the guest's name must be registered. There is a li
 mit of 200 attendees, so please RSVP as soon as possible to reserve your s
 pot.</strong></p> <p><strong>YOU ARE REQUIRED TO INCLUDE YOUR PAID NY CHAP
 TER MEMBER NUMBER IN THE REGISTRATION MEMBER ID SECTION IN ORDER TO BE ACC
 EPTED! YOUR ORDER WILL NOT BE ACCEPTED WITHOUT IT!!!</strong></p> <p><stro
 ng><em>**For guest's ID#, please write "GUEST"</em></strong></p> <p>Thank 
 you all for your support throughout the year. Please feel to email me with
  any questions. mikekostel@nyemmys.org</p> <p>&nbsp\;</p> <p>Michael Koste
 l</p> <p>Executive Director</p> <p>mikekostel@nyemmys.org</p></div><div>--
 - This iCal file does *NOT* confirm registration.Event details subject to 
 change. ---</div><div>--- Tendenci&reg\; Software by <a href="https://www.
 tendenci.com">tendenci.com</a> - The Open Source AMS for Associations ---<
 /div>
BEGIN:VALARM
TRIGGER:-PT30M
ACTION:DISPLAY
DESCRIPTION:Reminder
END:VALARM
END:VEVENT
END:VCALENDAR
