BEGIN:VCALENDAR
VERSION:2.0
METHOD:PUBLISH
PRODID:-//Tendenci - The Open Source AMS for Associations//Tendenci Codeba
 se MIMEDIR//EN
BEGIN:VEVENT
DESCRIPTION:--- This iCal file does *NOT* confirm registration.\nEvent det
 ails subject to change. ---\nhttps://www.nyemmys.org/events/1198/\n\nEvent
  Title: NY EMMY AWARDS NOMINATION PARTY\nStart Date / Time: Sep 20, 2024 1
 8:00 PM America/New_York\nLocation: Hard Rock Cafe - 1501 Broadway NY NY 1
 0036\nThis free party is for nominees in the 67th Annual NY Emmy Awards co
 mpetition. Each nominee may bring one guest who is not a nominee to the pa
 rty. There is a limit of 200 attendees so please RSVP ASAP. YOU MUST RSVP 
 AND REGISTER YOUR GUEST AS WELL. \nThank you all for your support thoughou
 t the year.\n \n \n \n\n--- This iCal file does *NOT* confirm registration
 .Event details subject to change. ---\n\n--- By Tendenci - The Open Source
  AMS for Associations ---\n
UID:uid1198@nyemmys.org
SUMMARY:NY EMMY AWARDS NOMINATION PARTY
DTSTART:20240920T220000Z
DTEND:20240921T010000Z
CLASS:PUBLIC
PRIORITY:5
DTSTAMP:20260419T144536Z
TRANSP:OPAQUE
SEQUENCE:0
LOCATION:Hard Rock Cafe - 1501 Broadway NY NY 10036
X-ALT-DESC;FMTTYPE=text/html:<div>--- This iCal file does *NOT* confirm re
 gistration.Event details subject to change. ---</div><h1>Event Title: NY E
 MMY AWARDS NOMINATION PARTY</h1><div>https://www.nyemmys.org/events/1198/<
 /div><br /><div>When: Sep 20, 2024 18:00 PM America/New_York</div><br /><d
 iv><p>This free party is for nominees in the 67th Annual NY Emmy Awards co
 mpetition. Each nominee may bring one guest who is not a nominee to the pa
 rty. There is a limit of 200 attendees so please RSVP ASAP. Y<strong>OU MU
 ST RSVP AND REGISTER YOUR GUEST AS WELL.&nbsp\;</strong></p> <p>Thank you 
 all for your support thoughout the year.</p> <p>&nbsp\;</p> <p>&nbsp\;</p>
  <p>&nbsp\;</p></div><div>--- This iCal file does *NOT* confirm registrati
 on.Event details subject to change. ---</div><div>--- Tendenci&reg\; Softw
 are by <a href="https://www.tendenci.com">tendenci.com</a> - The Open Sour
 ce AMS for Associations ---</div>
BEGIN:VALARM
TRIGGER:-PT30M
ACTION:DISPLAY
DESCRIPTION:Reminder
END:VALARM
END:VEVENT
END:VCALENDAR
