BEGIN:VCALENDAR
VERSION:2.0
METHOD:PUBLISH
PRODID:-//Tendenci - The Open Source AMS for Associations//Tendenci Codeba
 se MIMEDIR//EN
BEGIN:VEVENT
DESCRIPTION:--- This iCal file does *NOT* confirm registration.\nEvent det
 ails subject to change. ---\nhttps://www.nyemmys.org/events/1197/\n\nEvent
  Title: 67th Annual NY Emmy Awards\nStart Date / Time: Oct 26, 2024 14:28 
 PM America/New_York\nLocation: \nThis will include the Creative arts Award
 s at 3pm and the 67th Gala beginning at 7pm\n\n--- This iCal file does *NO
 T* confirm registration.Event details subject to change. ---\n\n--- By Ten
 denci - The Open Source AMS for Associations ---\n
UID:uid1197@nyemmys.org
SUMMARY:67th Annual NY Emmy Awards
DTSTART:20241026T182800Z
DTEND:20241026T202800Z
CLASS:PUBLIC
PRIORITY:5
DTSTAMP:20260421T074117Z
TRANSP:OPAQUE
SEQUENCE:0
X-ALT-DESC;FMTTYPE=text/html:<div>--- This iCal file does *NOT* confirm re
 gistration.Event details subject to change. ---</div><h1>Event Title: 67th
  Annual NY Emmy Awards</h1><div>https://www.nyemmys.org/events/1197/</div>
 <br /><div>When: Oct 26, 2024 14:28 PM America/New_York</div><br /><div><p
 >This will include the Creative arts Awards at 3pm and the 67th Gala begin
 ning at 7pm</p></div><div>--- This iCal file does *NOT* confirm registrati
 on.Event details subject to change. ---</div><div>--- Tendenci&reg\; Softw
 are by <a href="https://www.tendenci.com">tendenci.com</a> - The Open Sour
 ce AMS for Associations ---</div>
BEGIN:VALARM
TRIGGER:-PT30M
ACTION:DISPLAY
DESCRIPTION:Reminder
END:VALARM
END:VEVENT
END:VCALENDAR
