BEGIN:VCALENDAR
VERSION:2.0
METHOD:PUBLISH
PRODID:-//Tendenci - The Open Source AMS for Associations//Tendenci Codeba
 se MIMEDIR//EN
BEGIN:VEVENT
DESCRIPTION:--- This iCal file does *NOT* confirm registration.\nEvent det
 ails subject to change. ---\nhttps://www.nyemmys.org/events/1027/\n\nEvent
  Title: Special Event: Women in Technology\nStart Date / Time: Mar 22, 201
 8 19:00 PM US/Central\nLocation: Richard Hofstetter\nGoogle\nhttp://maps.g
 oogle.com/maps?q=488+Madison+Avenue,+10th+Floor,New York,NY,10022\n\nForec
 ast\nhttp://www.weather.com/weather/monthly/10022\n\nDate: Thursday March,
  22nd, 2018.\nLocation: Frankfurt Kurnit Klein &amp\; Selz\nPhysical Addre
 ss:  488 Madison Avenue, 10th Floor\nEvent Sponsored by: Frankfurt Kurnit 
 Klein &amp\;Selz,\n6:00PM -  6:30PM EST Cocktails and Hors D'oeuvres 6:30P
 M - 7:30PM  EST Program 7:30PM - 8:00PM  EST Reception and Networking.\nYo
 u are cordially invited to Join the Frankfurt Kurnit Diversity Committee f
 or an evening of cocktails and conversation, as they take a candid look at
  this issue from the perspective of Women Leaders in the Technology Indust
 ry.\nRSVP TO PHYLLIS BISHOP at PBSCREENINGS@GMAIL.COM. Limited spots are b
 eing made available, to women membership with an interest in Technology.\n
 Email your request for CONFIRMED SEATING. Members MUST RESPOND TO ALL EMAI
 LS received from Phyllis Bishop.\nPlease include the event title and date,
  your full name and your current NYNATAS membership card number, for curre
 nt membership verification purposes and event entrance.\nEvent Description
 : The technology world is often seen &ldquo\;innovative&rdquo\;&amp\; &ldq
 uo\;dynamic&rdquo\; and &ldquo\;disruptive&rdquo\;.  But even in an indust
 ry that prides itself on innovation, women still struggle to break in and 
 advance -- and companies struggle with mentorship, sponsorship and inclusi
 on. What are the challenges to promoting female diversity and inclusion in
  the technology industry? How can companies improve mentorship and sponsor
 ship of talented women executives? How do we move past discussion and towa
 rd solutions?\nPanelists: Laura Rosenblum (moderator). Associate - Corpora
 te and Finance Group, Frankfurt Kurnit Klein &amp\; Selz, Suemyra Shah, Ge
 neral Counsel, Whistle Sports, Susan McPherson, Founder &amp\;amp\; CEO, M
 cPherson Strategies Jess Gartner, CEO &amp\;amp\; Founder, Allovue\nPanel 
 Topics Include:\n How technology companies identify talent\n Hiring 
 initiatives that have succeeded\n Creating a work environment where wom
 en can thrive\n Overcoming unconscious bias in the workplace\n Break
 ing into pre-established social networks\n Discrimination in hiring and
  other legal risks\n And much more\nEvent Produced By: Phyllis M.G. Bis
 hop\nMapquest:https://www.mapquest.com/us/ny/new.../488-madison- ave-40.75
 8885,- 73.974798\n\n--- This iCal file does *NOT* confirm registration.Eve
 nt details subject to change. ---\n\n--- By Tendenci - The Open Source AMS
  for Associations ---\n
UID:uid1027@nyemmys.org
SUMMARY:Special Event: Women in Technology
DTSTART:20180323T000000Z
DTEND:20180323T020000Z
CLASS:PUBLIC
PRIORITY:5
DTSTAMP:20260419T205229Z
TRANSP:OPAQUE
SEQUENCE:0
LOCATION:Richard Hofstetter
X-ALT-DESC;FMTTYPE=text/html:<div>--- This iCal file does *NOT* confirm re
 gistration.Event details subject to change. ---</div><h1>Event Title: Spec
 ial Event: Women in Technology</h1><div>https://www.nyemmys.org/events/102
 7/</div><br /><div>When: Mar 22, 2018 19:00 PM US/Central</div><br />Richa
 rd Hofstetter<br />488 Madison Avenue, 10th Floor<br />New York, NY 10022<
 br /><div>http://maps.google.com/maps?q=488+Madison+Avenue,+10th+Floor,New
  York,NY,10022</div><br /><div>Forecast: http://www.weather.com/weather/mo
 nthly/10022</div><br /><br /><div><p style="text-align: center\;"><strong>
 Date:</strong> Thursday March, 22nd, 2018.</p> <p style="text-align: cente
 r\;"><strong>Location:</strong> Frankfurt Kurnit Klein &amp\; Selz</p> <p 
 style="text-align: center\;"><strong>Physical Address:</strong>&nbsp\; 488
  Madison Avenue, 10th Floor</p> <p style="text-align: center\;"><strong>Ev
 ent Sponsored by:</strong> Frankfurt Kurnit Klein &amp\;Selz,</p> <p style
 ="text-align: center\;">6:00PM -&nbsp\; 6:30PM EST Cocktails and Hors D'oe
 uvres<br /> 6:30PM - 7:30PM&nbsp\; EST Program<br /> 7:30PM - 8:00PM&nbsp\
 ; EST Reception and Networking.</p> <p style="text-align: center\;">You ar
 e cordially invited to Join the Frankfurt Kurnit Diversity Committee for a
 n evening of cocktails and conversation, as they take a candid look at thi
 s issue from the perspective of Women Leaders in the Technology Industry.<
 /p> <p style="text-align: center\;"><strong>RSVP TO PHYLLIS BISHOP at <a h
 ref="mailto:PBSCREENINGS@GMAIL.COM">PBSCREENINGS@GMAIL.COM</a>. Limited sp
 ots are being made available, to women membership with an interest in Tech
 nology.</strong></p> <p style="text-align: center\;"><strong>Email your re
 quest for CONFIRMED SEATING. Members MUST RESPOND TO ALL EMAILS received f
 rom Phyllis Bishop.</strong></p> <p style="text-align: center\;"><strong>P
 lease include the event title and date, your full name and your current NY
 NATAS membership card number, for current membership verification purposes
  and event entrance.</strong></p> <p><strong>Event Description:</strong> T
 he technology world is often seen &ldquo\;innovative&rdquo\;&amp\; &ldquo\
 ;dynamic&rdquo\; and &ldquo\;disruptive&rdquo\;. &nbsp\;But even in an ind
 ustry that prides itself on innovation, women still struggle to break in a
 nd advance -- and companies struggle with mentorship, sponsorship and incl
 usion. What are the challenges to promoting female diversity and inclusion
  in the technology industry? How can companies improve mentorship and spon
 sorship of talented women executives? How do we move past discussion and t
 oward solutions?</p> <p><strong>Panelists:</strong> Laura Rosenblum (moder
 ator). Associate - Corporate and Finance Group, Frankfurt Kurnit Klein &am
 p\; Selz, Suemyra Shah, General Counsel, Whistle Sports, Susan McPherson, 
 Founder &amp\;amp\; CEO, McPherson Strategies Jess Gartner, CEO &amp\;amp\
 ; Founder, Allovue</p> <p><strong>Panel Topics Include:</strong></p> <p>
  How technology companies identify talent</p> <p> Hiring initiatives
  that have succeeded</p> <p> Creating a work environment where women ca
 n thrive</p> <p> Overcoming unconscious bias in the workplace</p> <p>
  Breaking into pre-established social networks</p> <p> Discriminatio
 n in hiring and other legal risks</p> <p> And much more</p> <p><strong>
 Event Produced By:</strong> Phyllis M.G. Bishop</p> <p>Mapquest:https://ww
 w.mapquest.com/us/ny/new.../488-madison- ave-40.758885,- 73.974798</p></di
 v><div>--- This iCal file does *NOT* confirm registration.Event details su
 bject to change. ---</div><div>--- Tendenci&reg\; Software by <a href="htt
 ps://www.tendenci.com">tendenci.com</a> - The Open Source AMS for Associat
 ions ---</div>
BEGIN:VALARM
TRIGGER:-PT30M
ACTION:DISPLAY
DESCRIPTION:Reminder
END:VALARM
END:VEVENT
END:VCALENDAR
