BEGIN:VCALENDAR
VERSION:2.0
METHOD:PUBLISH
PRODID:-//Tendenci - The Open Source AMS for Associations//Tendenci Codeba
 se MIMEDIR//EN
BEGIN:VEVENT
DESCRIPTION:--- This iCal file does *NOT* confirm registration.\nEvent det
 ails subject to change. ---\nhttps://www.nyemmys.org/events/1005/\n\nEvent
  Title: MidDay Exchange: Play Reading- Fading Grace by John Wooten\nStart 
 Date / Time: Dec 13, 2017 13:30 PM US/Central\nLocation: \nDate: Wednesday
 , December 13th, 2017\nTime: 12:30-2:00\nRSVP to: Membership@nyemmys.org\n
 Special Play Reading.\nThe first reading ever of a new play "Fading Grace"
  by John Wooten.... read by professional actors.\nMr. Wooten has written p
 lays on subjects including on what would have happened in the river George
  Washington was trying to cross had frozen over to ice.\n"Fading Grace" ha
 s three characters.\nAn impending storm threatens to keep Grace's son from
  visiting on a night when she desperately needs him.\nProduced by: Ellen M
 uir\n\n--- This iCal file does *NOT* confirm registration.Event details su
 bject to change. ---\n\n--- By Tendenci - The Open Source AMS for Associat
 ions ---\n
UID:uid1005@nyemmys.org
SUMMARY:MidDay Exchange: Play Reading- Fading Grace by John Wooten
DTSTART:20171213T193000Z
DTEND:20171213T210000Z
CLASS:PUBLIC
PRIORITY:5
DTSTAMP:20260419T224236Z
TRANSP:OPAQUE
SEQUENCE:0
X-ALT-DESC;FMTTYPE=text/html:<div>--- This iCal file does *NOT* confirm re
 gistration.Event details subject to change. ---</div><h1>Event Title: MidD
 ay Exchange: Play Reading- Fading Grace by John Wooten</h1><div>https://ww
 w.nyemmys.org/events/1005/</div><br /><div>When: Dec 13, 2017 13:30 PM US/
 Central</div><br /><div><p style="text-align: center\;"><strong>Date:</str
 ong> Wednesday, December 13th, 2017</p> <p style="text-align: center\;"><s
 trong>Time:</strong> 12:30-2:00</p> <p style="text-align: center\;"><stron
 g>RSVP to:</strong> <a href="mailto:Membership@nyemmys.org">Membership@nye
 mmys.org</a></p> <p style="text-align: center\;">Special Play Reading.</p>
  <p style="text-align: center\;">The first reading ever of a new play "Fad
 ing Grace" by John Wooten.... read by professional actors.</p> <p style="t
 ext-align: center\;">Mr. Wooten has written plays on subjects including on
  what would have happened in the river George Washington was trying to cro
 ss had frozen over to ice.</p> <p style="text-align: center\;">"Fading Gra
 ce" has three characters.</p> <p style="text-align: center\;">An impending
  storm threatens to keep Grace's son from visiting on a night when she des
 perately needs him.</p> <p style="text-align: center\;">Produced by: Ellen
  Muir</p></div><div>--- This iCal file does *NOT* confirm registration.Eve
 nt details subject to change. ---</div><div>--- Tendenci&reg\; Software by
  <a href="https://www.tendenci.com">tendenci.com</a> - The Open Source AMS
  for Associations ---</div>
BEGIN:VALARM
TRIGGER:-PT30M
ACTION:DISPLAY
DESCRIPTION:Reminder
END:VALARM
END:VEVENT
END:VCALENDAR
